BEGIN:VCALENDAR
VERSION:2.0
PRODID:-//Friesenkapelle.de - ECPv6.15.20//NONSGML v1.0//EN
CALSCALE:GREGORIAN
METHOD:PUBLISH
X-ORIGINAL-URL:https://friesenkapelle.de
X-WR-CALDESC:Veranstaltungen für Friesenkapelle.de
REFRESH-INTERVAL;VALUE=DURATION:PT1H
X-Robots-Tag:noindex
X-PUBLISHED-TTL:PT1H
BEGIN:VTIMEZONE
TZID:Europe/Berlin
BEGIN:DAYLIGHT
TZOFFSETFROM:+0100
TZOFFSETTO:+0200
TZNAME:CEST
DTSTART:20220327T010000
END:DAYLIGHT
BEGIN:STANDARD
TZOFFSETFROM:+0200
TZOFFSETTO:+0100
TZNAME:CET
DTSTART:20221030T010000
END:STANDARD
BEGIN:DAYLIGHT
TZOFFSETFROM:+0100
TZOFFSETTO:+0200
TZNAME:CEST
DTSTART:20230326T010000
END:DAYLIGHT
BEGIN:STANDARD
TZOFFSETFROM:+0200
TZOFFSETTO:+0100
TZNAME:CET
DTSTART:20231029T010000
END:STANDARD
BEGIN:DAYLIGHT
TZOFFSETFROM:+0100
TZOFFSETTO:+0200
TZNAME:CEST
DTSTART:20240331T010000
END:DAYLIGHT
BEGIN:STANDARD
TZOFFSETFROM:+0200
TZOFFSETTO:+0100
TZNAME:CET
DTSTART:20241027T010000
END:STANDARD
END:VTIMEZONE
BEGIN:VEVENT
DTSTART;TZID=Europe/Berlin:20230604T100000
DTEND;TZID=Europe/Berlin:20230604T111500
DTSTAMP:20260419T210744
CREATED:20230531T072136Z
LAST-MODIFIED:20230531T101119Z
UID:8388-1685872800-1685877300@friesenkapelle.de
SUMMARY:Gospelgottesdienst am Sonntag Trinitatis mit Pastor Rainer Chinnow
DESCRIPTION:Gospelgottesdienst\nSonntag Trinitatis\nWir freuen uns\, Sie zum Gottesdienst in der Friesenkapelle zu begrüßen. \nLeitung: Pastor Rainer Chinnow\nMusik: Island Voices unter der Leitung von Renate Henke \nUnsere Online-Gottesdienste finden Sie weiterhin auf unser homepage oder auf YouTube/Friesenkapelle.
URL:https://friesenkapelle.de/event/gospelgottesdienst-mit-abendmahl-am-palmsonntag-mit-pastor-rainer-chinnow-23-04-02-copy/
LOCATION:Friesenkapelle am Dorfteich\, Bi Kiar 9\, Wenningstedt-Braderup\, 25996\, Deutschland
CATEGORIES:Gottesdienst
ATTACH;FMTTYPE=image/jpeg:https://friesenkapelle.de/wp-content/uploads/2019/11/WEB-AV-3891.jpeg
ORGANIZER;CN="Kirchengemeinde Nordd%C3%B6rfer":MAILTO:norddoerfer-kirchenbuero@t-online.de
END:VEVENT
BEGIN:VEVENT
DTSTART;TZID=Europe/Berlin:20230604T113000
DTEND;TZID=Europe/Berlin:20230604T120000
DTSTAMP:20260419T210744
CREATED:20230426T053519Z
LAST-MODIFIED:20230426T053616Z
UID:8311-1685878200-1685880000@friesenkapelle.de
SUMMARY:Kinderkirche am Sonntag Trinitatis mit Pastor Rainer\, Tini\, Tiffany und Oliver
DESCRIPTION:Kinderkirche in der Friesenkapelle\nSonntag Trinitatis \nWir freuen uns\, Euch zum Kindergottesdienst in der Friesenkapelle begrüßen zu dürfen.\nGemeinsam singen\, gemeinsam tanzen\, gemeinsam beten und dazu eine spannende Geschichte – das ist die Kinderkirche der Kirchengemeinde Norddörfer.\nMit Pastor Rainer\, Tini\, Tiffany und Oliver. \nUnsere Online-Kinderkirchen findet Ihr weiterhin auf unser homepage oder auf YouTube/Friesenkapelle.
URL:https://friesenkapelle.de/event/kinderkirche-am-sonntag-jubilate-mit-pastor-rainer-tini-tiffany-und-oliver-23-06-04/
LOCATION:Friesenkapelle am Dorfteich\, Bi Kiar 9\, Wenningstedt-Braderup\, 25996\, Deutschland
CATEGORIES:Gottesdienst
ATTACH;FMTTYPE=image/jpeg:https://friesenkapelle.de/wp-content/uploads/2021/04/tiffany_image00039-scaled.jpg
ORGANIZER;CN="Kirchengemeinde Nordd%C3%B6rfer":MAILTO:norddoerfer-kirchenbuero@t-online.de
END:VEVENT
END:VCALENDAR