BEGIN:VCALENDAR
VERSION:2.0
PRODID:-//Friesenkapelle.de - ECPv6.15.20//NONSGML v1.0//EN
CALSCALE:GREGORIAN
METHOD:PUBLISH
X-ORIGINAL-URL:https://friesenkapelle.de
X-WR-CALDESC:Veranstaltungen für Friesenkapelle.de
REFRESH-INTERVAL;VALUE=DURATION:PT1H
X-Robots-Tag:noindex
X-PUBLISHED-TTL:PT1H
BEGIN:VTIMEZONE
TZID:Europe/Berlin
BEGIN:DAYLIGHT
TZOFFSETFROM:+0100
TZOFFSETTO:+0200
TZNAME:CEST
DTSTART:20220327T010000
END:DAYLIGHT
BEGIN:STANDARD
TZOFFSETFROM:+0200
TZOFFSETTO:+0100
TZNAME:CET
DTSTART:20221030T010000
END:STANDARD
BEGIN:DAYLIGHT
TZOFFSETFROM:+0100
TZOFFSETTO:+0200
TZNAME:CEST
DTSTART:20230326T010000
END:DAYLIGHT
BEGIN:STANDARD
TZOFFSETFROM:+0200
TZOFFSETTO:+0100
TZNAME:CET
DTSTART:20231029T010000
END:STANDARD
BEGIN:DAYLIGHT
TZOFFSETFROM:+0100
TZOFFSETTO:+0200
TZNAME:CEST
DTSTART:20240331T010000
END:DAYLIGHT
BEGIN:STANDARD
TZOFFSETFROM:+0200
TZOFFSETTO:+0100
TZNAME:CET
DTSTART:20241027T010000
END:STANDARD
END:VTIMEZONE
BEGIN:VEVENT
DTSTART;TZID=Europe/Berlin:20230831T200000
DTEND;TZID=Europe/Berlin:20230831T210000
DTSTAMP:20260422T181735
CREATED:20230630T145837Z
LAST-MODIFIED:20230825T094707Z
UID:8592-1693512000-1693515600@friesenkapelle.de
SUMMARY:Konzert des Norddörfer Musikvereins
DESCRIPTION:Besinnlich\, Fröhlich\, traditionell\nFreuen Sie sich auf wunderbare Unterhaltung mit dem Norddörfer Musikverein.\nDieses Blasorchester blickt auf eine lange Tradition in den Norddörfern zurück – 1896 entstand es aus dem erstmals gegründeten Feuerwehrmusikzug. Das Repertoire umfasst neben traditionellen Märschen und Seemannsliedern auch moderne Medley’s von Udo Jürgens\, ABBA und anderen bekannten Interpreten und wird garantiert den ein oder anderen zum Mitpfeifen\, Schunkeln oder Singen animieren.  \nOrt: Friesenkapelle am Dorfteich\, Wenningstedt\nBeginn 20.00 Uhr\nEinlass ab 19.40 Uhr\nfreie Platzwahl\nEintritt frei – Spenden zur Unterstützung des Vereins sind herzlich willkommen
URL:https://friesenkapelle.de/event/konzert-des-norddoerfer-musikvereins-31-08-2023/
LOCATION:Friesenkapelle am Dorfteich\, Bi Kiar 9\, Wenningstedt-Braderup\, 25996\, Deutschland
CATEGORIES:Veranstaltungen
ATTACH;FMTTYPE=image/jpeg:https://friesenkapelle.de/wp-content/uploads/2023/06/Norddoerfer-Musikverein.jpg
ORGANIZER;CN="Kirchengemeinde Nordd%C3%B6rfer":MAILTO:norddoerfer-kirchenbuero@t-online.de
END:VEVENT
END:VCALENDAR