BEGIN:VCALENDAR
VERSION:2.0
PRODID:-//Friesenkapelle.de - ECPv6.15.20//NONSGML v1.0//EN
CALSCALE:GREGORIAN
METHOD:PUBLISH
X-ORIGINAL-URL:https://friesenkapelle.de
X-WR-CALDESC:Veranstaltungen für Friesenkapelle.de
REFRESH-INTERVAL;VALUE=DURATION:PT1H
X-Robots-Tag:noindex
X-PUBLISHED-TTL:PT1H
BEGIN:VTIMEZONE
TZID:Europe/Berlin
BEGIN:DAYLIGHT
TZOFFSETFROM:+0100
TZOFFSETTO:+0200
TZNAME:CEST
DTSTART:20220327T010000
END:DAYLIGHT
BEGIN:STANDARD
TZOFFSETFROM:+0200
TZOFFSETTO:+0100
TZNAME:CET
DTSTART:20221030T010000
END:STANDARD
BEGIN:DAYLIGHT
TZOFFSETFROM:+0100
TZOFFSETTO:+0200
TZNAME:CEST
DTSTART:20230326T010000
END:DAYLIGHT
BEGIN:STANDARD
TZOFFSETFROM:+0200
TZOFFSETTO:+0100
TZNAME:CET
DTSTART:20231029T010000
END:STANDARD
BEGIN:DAYLIGHT
TZOFFSETFROM:+0100
TZOFFSETTO:+0200
TZNAME:CEST
DTSTART:20240331T010000
END:DAYLIGHT
BEGIN:STANDARD
TZOFFSETFROM:+0200
TZOFFSETTO:+0100
TZNAME:CET
DTSTART:20241027T010000
END:STANDARD
END:VTIMEZONE
BEGIN:VEVENT
DTSTART;TZID=Europe/Berlin:20230910T100000
DTEND;TZID=Europe/Berlin:20230910T110000
DTSTAMP:20260424T114200
CREATED:20230720T103543Z
LAST-MODIFIED:20230720T104208Z
UID:8728-1694340000-1694343600@friesenkapelle.de
SUMMARY:Gottesdienst am 14. Sonntag nach Trinitatis mit Pastorin Anja Lochner
DESCRIPTION:Gottesdienst mit Abendmahl\n14. Sonntag nach Tinitatis\nWir freuen uns\, Sie zum Gottesdienst in der Friesenkapelle zu begrüßen. \nLeitung: Pastorin Anja Lochner\nMusik: Oliver Strempler \nUnsere Online-Gottesdienste finden Sie weiterhin auf unser homepage oder auf YouTube/Friesenkapelle.
URL:https://friesenkapelle.de/event/gottesdienst-am-14-sonntag-nach-trinitatis-mit-pastorin-anja-lochner-10-09-2023/
LOCATION:Friesenkapelle am Dorfteich\, Bi Kiar 9\, Wenningstedt-Braderup\, 25996\, Deutschland
CATEGORIES:Gottesdienst
ATTACH;FMTTYPE=image/jpeg:https://friesenkapelle.de/wp-content/uploads/2022/01/IMG_9793-.jpg
ORGANIZER;CN="Kirchengemeinde Nordd%C3%B6rfer":MAILTO:norddoerfer-kirchenbuero@t-online.de
END:VEVENT
BEGIN:VEVENT
DTSTART;TZID=Europe/Berlin:20230910T113000
DTEND;TZID=Europe/Berlin:20230910T120000
DTSTAMP:20260424T114200
CREATED:20230720T104823Z
LAST-MODIFIED:20230720T105128Z
UID:8737-1694345400-1694347200@friesenkapelle.de
SUMMARY:Kinderkirche am 14. Sonntag nach Trinitatis mit Tini\, Tiffany und Oliver
DESCRIPTION:Kinderkirche in der Friesenkapelle\n14. Sonntag nach Trinitatis\nWir freuen uns\, Euch zum Kindergottesdienst in der Friesenkapelle begrüßen zu dürfen.\nGemeinsam singen\, gemeinsam tanzen\, gemeinsam beten und dazu eine spannende Geschichte – das ist die Kinderkirche der Kirchengemeinde Norddörfer. \nMit Tini\, Tiffany und Oliver. \nUnsere Online-Kinderkirchen findet Ihr weiterhin auf unser homepage oder auf YouTube/Friesenkapelle.
URL:https://friesenkapelle.de/event/kinderkirche-am-14-sonntag-nach-trinitatis-mit-tini-tiffany-und-oliver-10-09-23/
LOCATION:Friesenkapelle am Dorfteich\, Bi Kiar 9\, Wenningstedt-Braderup\, 25996\, Deutschland
CATEGORIES:Gottesdienst
ATTACH;FMTTYPE=image/jpeg:https://friesenkapelle.de/wp-content/uploads/2021/04/tiffany_image00039-scaled.jpg
ORGANIZER;CN="Kirchengemeinde Nordd%C3%B6rfer":MAILTO:norddoerfer-kirchenbuero@t-online.de
END:VEVENT
BEGIN:VEVENT
DTSTART;TZID=Europe/Berlin:20230910T180000
DTEND;TZID=Europe/Berlin:20230910T190000
DTSTAMP:20260424T114200
CREATED:20230701T070934Z
LAST-MODIFIED:20230701T071608Z
UID:8647-1694368800-1694372400@friesenkapelle.de
SUMMARY:Late Summer Gospelkonzert mit den „Island Voices“
DESCRIPTION:„Late Summer Gospelkonzert“\ndie Fülle der Gospelkraft erleben\nEin Highlight im September ist der Auftritt der Island Voices. Wir freuen uns schon sehr auf das Gospelkonzert in der Friesenkapelle am Dorfteich. Unter der Leitung von Renate Henke singt unser Gospelchor ein tolles Programm\, dass viel gemeinsames Singen und gemeinsamen Spaß verspricht. \nUnsere Kirche ist zu Gospelveranstaltungen immer sehr gut besucht. Es ist deshalb ratsam\, rechtzeitig in der Friesenkapelle zu erscheinen\, damit man noch einen Platz ergattert. \nEintritt frei\nSpenden sind zu Gunsten des Fördervereins des Chores herzlich willkommen! \nLeitung: Renate Henke.\nMusik: Island Voices\nOrt: Friesenkapelle am Dorfteich\, Wenningstedt\nBeginn 18.00 Uhr\nfreie Platzwahl
URL:https://friesenkapelle.de/event/gospelkonzert-10-09-2023/
LOCATION:Friesenkapelle am Dorfteich\, Bi Kiar 9\, Wenningstedt-Braderup\, 25996\, Deutschland
CATEGORIES:Veranstaltungen
ATTACH;FMTTYPE=image/jpeg:https://friesenkapelle.de/wp-content/uploads/2023/02/ADFC9BA1E32949358E18EF6827B38BE4.jpg
ORGANIZER;CN="Kirchengemeinde Nordd%C3%B6rfer":MAILTO:norddoerfer-kirchenbuero@t-online.de
END:VEVENT
END:VCALENDAR