BEGIN:VCALENDAR
VERSION:2.0
PRODID:-//Friesenkapelle.de - ECPv6.15.20//NONSGML v1.0//EN
CALSCALE:GREGORIAN
METHOD:PUBLISH
X-WR-CALNAME:Friesenkapelle.de
X-ORIGINAL-URL:https://friesenkapelle.de
X-WR-CALDESC:Veranstaltungen für Friesenkapelle.de
REFRESH-INTERVAL;VALUE=DURATION:PT1H
X-Robots-Tag:noindex
X-PUBLISHED-TTL:PT1H
BEGIN:VTIMEZONE
TZID:Europe/Berlin
BEGIN:DAYLIGHT
TZOFFSETFROM:+0100
TZOFFSETTO:+0200
TZNAME:CEST
DTSTART:20240331T010000
END:DAYLIGHT
BEGIN:STANDARD
TZOFFSETFROM:+0200
TZOFFSETTO:+0100
TZNAME:CET
DTSTART:20241027T010000
END:STANDARD
BEGIN:DAYLIGHT
TZOFFSETFROM:+0100
TZOFFSETTO:+0200
TZNAME:CEST
DTSTART:20250330T010000
END:DAYLIGHT
BEGIN:STANDARD
TZOFFSETFROM:+0200
TZOFFSETTO:+0100
TZNAME:CET
DTSTART:20251026T010000
END:STANDARD
BEGIN:DAYLIGHT
TZOFFSETFROM:+0100
TZOFFSETTO:+0200
TZNAME:CEST
DTSTART:20260329T010000
END:DAYLIGHT
BEGIN:STANDARD
TZOFFSETFROM:+0200
TZOFFSETTO:+0100
TZNAME:CET
DTSTART:20261025T010000
END:STANDARD
END:VTIMEZONE
BEGIN:VEVENT
DTSTART;TZID=Europe/Berlin:20250817T100000
DTEND;TZID=Europe/Berlin:20250817T112000
DTSTAMP:20260421T030739
CREATED:20250714T070948Z
LAST-MODIFIED:20250714T070948Z
UID:11341-1755424800-1755429600@friesenkapelle.de
SUMMARY:Gospel-Gottesdienst mit Abendmahl am 9. Sonntag nach Trinitatis mit Pastor Rainer Chinnow und den Island Voices
DESCRIPTION:Gottesdienst\n9. Sonntag nach Trinitatis \nWir freuen uns\, Sie zum Gottesdienst in der Friesenkapelle zu begrüßen. \nLeitung: Pastor Rainer Chinnow\nMusik: Island Voices unter der Leitung von Renate Henke \nUnsere Online-Gottesdienste finden Sie weiterhin auf unser homepage oder auf YouTube/Friesenkapelle.
URL:https://friesenkapelle.de/event/gospel-gottesdienst-mit-abendmahl-am-9-sonntag-nach-trinitatis-mit-pastor-rainer-chinnow-und-den-island-voices-17-08-2025/
CATEGORIES:Gottesdienst
ATTACH;FMTTYPE=image/jpeg:https://friesenkapelle.de/wp-content/uploads/2024/02/DSC00003-Island-Voices-vor-Fischer-1280x960-1.jpg
END:VEVENT
BEGIN:VEVENT
DTSTART;TZID=Europe/Berlin:20250817T120000
DTEND;TZID=Europe/Berlin:20250817T130000
DTSTAMP:20260421T030739
CREATED:20250716T074807Z
LAST-MODIFIED:20250716T074807Z
UID:11388-1755432000-1755435600@friesenkapelle.de
SUMMARY:Gemeindeversammlung im Pastorat
DESCRIPTION:Alle können kommen!\nGemeindeversammlung im Pastorat\nEine essentielle Angelegenheit: Für die Sylter Kirchengengemeinden sind in naher Zukunft Veränderungen\, Fusionen und Einsparungen geplant. Wie steht der Kirchengemeinderat der Norddörfer zu diesem Thema? Was ist für uns als Kirche im Dorf wichtig? Und was brauchen wir an Unterstützung?\nZur Gemeindeversammlung am Sonntag 17. August unmittelbar nach dem Gospel-Gottesdienst sind alle Gemeindemitglieder herzlich gebeten\, sich über dieses wichtige Thema live und in Farbe zu informieren\, mit zu denken und zu diskutieren. \nLeitung: Pastor Rainer Chinnow
URL:https://friesenkapelle.de/event/gemeindeversammlung-im-pastorat-17-8-2025/
CATEGORIES:Veranstaltungen
ATTACH;FMTTYPE=image/jpeg:https://friesenkapelle.de/wp-content/uploads/2020/04/Pastorat-am-Dorfteich-in-Wenningstedt.jpg
END:VEVENT
END:VCALENDAR