BEGIN:VCALENDAR
VERSION:2.0
PRODID:-//Friesenkapelle.de - ECPv6.15.20//NONSGML v1.0//EN
CALSCALE:GREGORIAN
METHOD:PUBLISH
X-ORIGINAL-URL:https://friesenkapelle.de
X-WR-CALDESC:Veranstaltungen für Friesenkapelle.de
REFRESH-INTERVAL;VALUE=DURATION:PT1H
X-Robots-Tag:noindex
X-PUBLISHED-TTL:PT1H
BEGIN:VTIMEZONE
TZID:Europe/Berlin
BEGIN:DAYLIGHT
TZOFFSETFROM:+0100
TZOFFSETTO:+0200
TZNAME:CEST
DTSTART:20240331T010000
END:DAYLIGHT
BEGIN:STANDARD
TZOFFSETFROM:+0200
TZOFFSETTO:+0100
TZNAME:CET
DTSTART:20241027T010000
END:STANDARD
BEGIN:DAYLIGHT
TZOFFSETFROM:+0100
TZOFFSETTO:+0200
TZNAME:CEST
DTSTART:20250330T010000
END:DAYLIGHT
BEGIN:STANDARD
TZOFFSETFROM:+0200
TZOFFSETTO:+0100
TZNAME:CET
DTSTART:20251026T010000
END:STANDARD
BEGIN:DAYLIGHT
TZOFFSETFROM:+0100
TZOFFSETTO:+0200
TZNAME:CEST
DTSTART:20260329T010000
END:DAYLIGHT
BEGIN:STANDARD
TZOFFSETFROM:+0200
TZOFFSETTO:+0100
TZNAME:CET
DTSTART:20261025T010000
END:STANDARD
END:VTIMEZONE
BEGIN:VEVENT
DTSTART;TZID=Europe/Berlin:20250914T100000
DTEND;TZID=Europe/Berlin:20250914T111500
DTSTAMP:20260421T221438
CREATED:20250819T102235Z
LAST-MODIFIED:20250819T102236Z
UID:11681-1757844000-1757848500@friesenkapelle.de
SUMMARY:Gottesdienst mit Abendmahl am 13. Sonntag nach Trinitatis mit Pastor Rainer Chinnow
DESCRIPTION:Gottesdienst mit Abendmahl\n13. Sonntag nach Trinitatis\nDie Friesenkapelle ist ein ganz besonderer Ort\, um Gott und das Leben zu feiern. Seien Sie nicht nur Gast\, seien sie willkommen als unser Gemeindeglied.\nWir freuen uns\, Sie zum Gottesdienst in der Friesenkapelle zu begrüßen. \nLeitung: Pastor Rainer Chinnow\nMusik: Oliver Strempler \nUnsere Online-Gottesdienste finden Sie weiterhin auf unser homepage oder auf YouTube/Friesenkapelle.
URL:https://friesenkapelle.de/event/gottesdienst-mit-abendmahl-am-13-sonntag-nach-trinitatis-mit-pastor-rainer-chinnow-14-09-2025/
CATEGORIES:Gottesdienst
ATTACH;FMTTYPE=image/jpeg:https://friesenkapelle.de/wp-content/uploads/2022/01/IMG_9793-.jpg
END:VEVENT
BEGIN:VEVENT
DTSTART;TZID=Europe/Berlin:20250914T113000
DTEND;TZID=Europe/Berlin:20250914T120000
DTSTAMP:20260421T221438
CREATED:20250716T080548Z
LAST-MODIFIED:20250716T080548Z
UID:11394-1757849400-1757851200@friesenkapelle.de
SUMMARY:Segnungs-Gottesdienst in der Kinderkirche am 13. Sonntag nach Trinitatis mit Pastor Rainer & Oliver
DESCRIPTION:Segnungsgottesdienst in der Kinderkirche\n13. Sonntag nach Trinitatis \nWir freuen uns\, Euch zum Kindergottesdienst in der Friesenkapelle begrüßen zu dürfen.\nSeit Jahren können sich nicht nur Erwachsenen\, sondern auch Kinder in der Friesenkapelle segnen lassen – auf Sylt gibt es das sonst nirgendwo. Entstanden ist die Zeremonie auf Anfrage der benachbarten Syltklinik. Dort erholen sich Familien mit einem krebskranken Kind.\n„Wir singen laut! Wir singen fröhlich! Wir singen schön!“\, ruft Pastor Rainer Chinnow den Kindern zu. Begleitet von Oliver Stremplers Gitarre singen die Kleinen lauthals und mit strahlenden Augen. Die Erwachsenen singen auch\, zurückhaltender\, fast ein bisschen schüchtern. Die fröhliche Leichtigkeit der Kinder berührt\, wenn man weiß: Einige der Kleinen sind Patienten der benachbarten Syltklinik. Dorthin kommen Familien mit einem krebskranken Kind\, um sich von der kräftezehrenden Therapie zu erholen. Neue Kraft sollen sie auch in der Kirche und durch Gottes Segen schöpfen.\n„Den Segnungsgottesdienst für Erwachsene machen wir schon immer. Vor einigen Jahren fragte uns eine Mitarbeiterin der Syltklinik\, ob wir das nicht auch für Kinder tun können“\, erzählt Pastor Rainer Chinnow. Er konnte. Ungefähr alle vier Wochen ist die erste Reihe der Friesenkapelle seitdem den Kleinen vorbehalten: Inselkinder und Urlaubskinder zelebrieren in fröhlicher Gemeinschaft mit den Kindern der Syltklinik den Kindersegnungs-Gottesdienst. Den gibt es auf Sylt nur in Wenningstedt. \nmit Pastor Rainer & Oliver. \nUnsere Online-Kinderkirchen findet Ihr weiterhin auf unser homepage oder auf YouTube/Friesenkapelle.
URL:https://friesenkapelle.de/event/segnungs-gottesdienst-in-der-kinderkirche-am-13-sonntag-nach-trinitatis-mit-pastor-rainer-oliver-14-9-2025/
CATEGORIES:Gottesdienst
ATTACH;FMTTYPE=image/jpeg:https://friesenkapelle.de/wp-content/uploads/2017/07/taufe_DSC05411-1-scaled.jpg
END:VEVENT
BEGIN:VEVENT
DTSTART;TZID=Europe/Berlin:20250914T180000
DTEND;TZID=Europe/Berlin:20250914T190000
DTSTAMP:20260421T221438
CREATED:20250718T095303Z
LAST-MODIFIED:20250819T103810Z
UID:11471-1757872800-1757876400@friesenkapelle.de
SUMMARY:Gospelkonzert „Late Summer Gospel“ mit den „Island Voices“
DESCRIPTION:Gospelkonzert „Late Summer Gospel“\n\nAm Sonntag\, den 14.September 2025 lädt der Sylter Gospelchor „Island Voices“ um 18 Uhr Insulaner und Gäste in die Friesenkapelle am Dorfteich ein\, um mit ihnen ein gemeinsames „spätsommerliches“ Konzert unter dem Motto „Let it overflow“ zu erleben.\nDie Sängerinnen und Sänger aller Inselorte unter der Leitung von Renate Henke versprechen ein breit gefächertes Repertoire an Gospels verschiedener Stilrichtungen und Interpretationen\, die mal einstimmig\, mal mehrstimmig in mitreißender Art vorgetragen werden und zum Mitsingen einladen.  \nUnsere Kirche ist zu Gospelveranstaltungen immer sehr gut besucht. Es ist deshalb ratsam\, rechtzeitig in der Friesenkapelle zu erscheinen\, damit man noch einen Platz ergattert. \nDer Eintritt ist frei – freiwillige Spenden werden zu Gunsten des Fördervereins wohlwollend gesammelt.  \nLeitung: Renate Henke.\nMusik: Island Voices\nOrt: Friesenkapelle am Dorfteich\, Wenningstedt\nBeginn 18.00 Uhr\nEinlass 17.30 Uhr\nfreie Platzwahl
URL:https://friesenkapelle.de/event/gospelkonzert-late-summer-gospel-mit-den-island-voices-14-9-2025/
CATEGORIES:Veranstaltungen
ATTACH;FMTTYPE=image/jpeg:https://friesenkapelle.de/wp-content/uploads/2023/10/Island-Voices-Herbst.jpg
END:VEVENT
END:VCALENDAR