BEGIN:VCALENDAR
VERSION:2.0
PRODID:-//Friesenkapelle.de - ECPv6.15.20//NONSGML v1.0//EN
CALSCALE:GREGORIAN
METHOD:PUBLISH
X-ORIGINAL-URL:https://friesenkapelle.de
X-WR-CALDESC:Veranstaltungen für Friesenkapelle.de
REFRESH-INTERVAL;VALUE=DURATION:PT1H
X-Robots-Tag:noindex
X-PUBLISHED-TTL:PT1H
BEGIN:VTIMEZONE
TZID:Europe/Berlin
BEGIN:DAYLIGHT
TZOFFSETFROM:+0100
TZOFFSETTO:+0200
TZNAME:CEST
DTSTART:20240331T010000
END:DAYLIGHT
BEGIN:STANDARD
TZOFFSETFROM:+0200
TZOFFSETTO:+0100
TZNAME:CET
DTSTART:20241027T010000
END:STANDARD
BEGIN:DAYLIGHT
TZOFFSETFROM:+0100
TZOFFSETTO:+0200
TZNAME:CEST
DTSTART:20250330T010000
END:DAYLIGHT
BEGIN:STANDARD
TZOFFSETFROM:+0200
TZOFFSETTO:+0100
TZNAME:CET
DTSTART:20251026T010000
END:STANDARD
BEGIN:DAYLIGHT
TZOFFSETFROM:+0100
TZOFFSETTO:+0200
TZNAME:CEST
DTSTART:20260329T010000
END:DAYLIGHT
BEGIN:STANDARD
TZOFFSETFROM:+0200
TZOFFSETTO:+0100
TZNAME:CET
DTSTART:20261025T010000
END:STANDARD
END:VTIMEZONE
BEGIN:VEVENT
DTSTART;TZID=Europe/Berlin:20250927T180000
DTEND;TZID=Europe/Berlin:20250927T193000
DTSTAMP:20260421T062619
CREATED:20250718T094318Z
LAST-MODIFIED:20250718T094640Z
UID:11467-1758996000-1759001400@friesenkapelle.de
SUMMARY:Chorifeen Altona „Viva la Vida!“  · Chormusik
DESCRIPTION:Viva la Vida!\nSpätsommer-Konzert des Hamburger Frauenchors „Chorifeen Altona“ \nEs ist wieder soweit! Wir kommen bereits zum fünften Mal in die Friesenkapelle Wenningstedt\, um Sie mit einem bunten Reigen aus Pop\, Jazz und Folk zu verzaubern.\nUnter der Leitung unseres charmanten Chorleiters Andreas Preuss erwartet Sie ein vielfältiges Programm voller Lebensfreude. Er ist selbst solistischer Tenor und führt den Chor bereits seit über 20 Jahren professionell und mit Leidenschaft.\nLassen Sie sich dieses musikalische Highlight nicht entgehen – wir versprechen\, es wird ein unterhaltsamer Abend\, vielleicht auch mit ein bisschen Gänsehaut. Viva la Vida!  \n\nLeitung: Andreas Preuß \nBeginn 18.00 Uhr\, Einlaß 17.30 Uhr\nDer Eintritt ist frei\, wir sammeln Spenden für einen guten Zweck.
URL:https://friesenkapelle.de/event/chorifeen-altona-viva-la-vida-%c2%b7-chormusik-27-9-2025/
CATEGORIES:Veranstaltungen
ATTACH;FMTTYPE=image/jpeg:https://friesenkapelle.de/wp-content/uploads/2025/07/Foto-1-fuer-Ankuendigung.jpg
END:VEVENT
END:VCALENDAR