BEGIN:VCALENDAR
VERSION:2.0
PRODID:-//Friesenkapelle.de - ECPv6.15.20//NONSGML v1.0//EN
CALSCALE:GREGORIAN
METHOD:PUBLISH
X-ORIGINAL-URL:https://friesenkapelle.de
X-WR-CALDESC:Veranstaltungen für Friesenkapelle.de
REFRESH-INTERVAL;VALUE=DURATION:PT1H
X-Robots-Tag:noindex
X-PUBLISHED-TTL:PT1H
BEGIN:VTIMEZONE
TZID:Europe/Berlin
BEGIN:DAYLIGHT
TZOFFSETFROM:+0100
TZOFFSETTO:+0200
TZNAME:CEST
DTSTART:20240331T010000
END:DAYLIGHT
BEGIN:STANDARD
TZOFFSETFROM:+0200
TZOFFSETTO:+0100
TZNAME:CET
DTSTART:20241027T010000
END:STANDARD
BEGIN:DAYLIGHT
TZOFFSETFROM:+0100
TZOFFSETTO:+0200
TZNAME:CEST
DTSTART:20250330T010000
END:DAYLIGHT
BEGIN:STANDARD
TZOFFSETFROM:+0200
TZOFFSETTO:+0100
TZNAME:CET
DTSTART:20251026T010000
END:STANDARD
BEGIN:DAYLIGHT
TZOFFSETFROM:+0100
TZOFFSETTO:+0200
TZNAME:CEST
DTSTART:20260329T010000
END:DAYLIGHT
BEGIN:STANDARD
TZOFFSETFROM:+0200
TZOFFSETTO:+0100
TZNAME:CET
DTSTART:20261025T010000
END:STANDARD
END:VTIMEZONE
BEGIN:VEVENT
DTSTART;TZID=Europe/Berlin:20251013T190000
DTEND;TZID=Europe/Berlin:20251013T203000
DTSTAMP:20260421T081110
CREATED:20250624T082629Z
LAST-MODIFIED:20250627T125253Z
UID:11258-1760382000-1760387400@friesenkapelle.de
SUMMARY:Oliver Strempler singt SILB3RDas Konzertprogramm zum ersten Album
DESCRIPTION:Foto: Roman Matejov \nStrempler singt „SILB3R“\nDas Konzertprogramm zum ersten Album\nmit Gianni Pace aus Hamburg am Kontrabass. \nSeit Jahrzehnten ist Oliver Strempler für seine Konzert-Formate zu Ehren legendärer Musiker wie Johnny Cash\, den Beatles\, den Udos oder Rio Reiser eine Instanz im Kulturprogramm der Insel. 2022 fasste der Entertainer und Musiker sich ein Herz und brachte seine eigenen Lieder zu Gehör. Denn die sind viel zu schade\, um auf Demo-Tapes zu verstauben. Die begeisterte Resonanz seines Publikums ermutigte unseren Kirchenmusiker\, eine Auswahl seiner Lieder aus vier Jahrzehnten neu zu arrangieren\, ein renommiertes Tonstudio zu buchen und sie zusammen mit befreundeten Musikern einzuspielen. Die Platte „SILB3R“ erscheint jetzt im Juni. Das Konzertprogramm zum Album ist ab sofort am Start.  \nEine musikalische Reise voller Authentizität und Vielfalt… \nFriesenkapelle am Dorfteich\nMontag\, 13. Oktober 2025\nBeginn 19.00 Uhr\nEinlaß 18.30 Uhr\nEintritt 22 €\nTicketverkauf in den Tourismus-Services der Insel\, an der Abendkasse \noder online. \n 
URL:https://friesenkapelle.de/event/oliver-strempler-singt-silb3rdas-konzertprogramm-zum-ersten-album-13-10-2025/
CATEGORIES:Veranstaltungen
ATTACH;FMTTYPE=image/jpeg:https://friesenkapelle.de/wp-content/uploads/2025/04/Oliver-Privat-2024-08-002-Internet.jpg
END:VEVENT
END:VCALENDAR