BEGIN:VCALENDAR
VERSION:2.0
PRODID:-//Friesenkapelle.de - ECPv6.15.20//NONSGML v1.0//EN
CALSCALE:GREGORIAN
METHOD:PUBLISH
X-ORIGINAL-URL:https://friesenkapelle.de
X-WR-CALDESC:Veranstaltungen für Friesenkapelle.de
REFRESH-INTERVAL;VALUE=DURATION:PT1H
X-Robots-Tag:noindex
X-PUBLISHED-TTL:PT1H
BEGIN:VTIMEZONE
TZID:Europe/Berlin
BEGIN:DAYLIGHT
TZOFFSETFROM:+0100
TZOFFSETTO:+0200
TZNAME:CEST
DTSTART:20240331T010000
END:DAYLIGHT
BEGIN:STANDARD
TZOFFSETFROM:+0200
TZOFFSETTO:+0100
TZNAME:CET
DTSTART:20241027T010000
END:STANDARD
BEGIN:DAYLIGHT
TZOFFSETFROM:+0100
TZOFFSETTO:+0200
TZNAME:CEST
DTSTART:20250330T010000
END:DAYLIGHT
BEGIN:STANDARD
TZOFFSETFROM:+0200
TZOFFSETTO:+0100
TZNAME:CET
DTSTART:20251026T010000
END:STANDARD
BEGIN:DAYLIGHT
TZOFFSETFROM:+0100
TZOFFSETTO:+0200
TZNAME:CEST
DTSTART:20260329T010000
END:DAYLIGHT
BEGIN:STANDARD
TZOFFSETFROM:+0200
TZOFFSETTO:+0100
TZNAME:CET
DTSTART:20261025T010000
END:STANDARD
END:VTIMEZONE
BEGIN:VEVENT
DTSTART;TZID=Europe/Berlin:20251031T110000
DTEND;TZID=Europe/Berlin:20251031T120000
DTSTAMP:20260421T081120
CREATED:20251023T065746Z
LAST-MODIFIED:20251023T080703Z
UID:12045-1761908400-1761912000@friesenkapelle.de
SUMMARY:Ökumenischer Reformationsgottesdienst in der Kirche St. Severin in Keitum
DESCRIPTION:Foto: Hajotthu (Wikipedia)  \nÖkumenischer Gottesdienst\nReformationstag\nAuch in diesem Jahr treffen sich die Sylter Pastoren und Pfarrer zu einem gemeinsamen Gottesdienst zur Feier des Reformationsfest.\nWir freuen uns\, Sie zum Gottesdienst in St. Severin zu begrüßen. \nLeitung: die Sylter Pastoren und Pfarrer\nMusik: Christian Bechmann \nUnsere Online-Gottesdienste finden Sie weiterhin auf unser homepage oder auf YouTube/Friesenkapelle.
URL:https://friesenkapelle.de/event/oekumenischer-reformationsgottesdienst-in-der-kirche-st-severin-in-keitum-31-10-2025/
LOCATION:St. Severin\, Munkmarscher Strasse\, Keitum\, 25890\, Germany
CATEGORIES:Gottesdienst
ATTACH;FMTTYPE=image/jpeg:https://friesenkapelle.de/wp-content/uploads/2025/10/1255px-St._Severin_Keitum_Turm_und_Langschiff@20171229.jpg
END:VEVENT
BEGIN:VEVENT
DTSTART;TZID=Europe/Berlin:20251031T180000
DTEND;TZID=Europe/Berlin:20251031T200000
DTSTAMP:20260421T081120
CREATED:20250925T072321Z
LAST-MODIFIED:20250925T091958Z
UID:11866-1761933600-1761940800@friesenkapelle.de
SUMMARY:Club der Christlichen Skatspieler im Pastorat
DESCRIPTION:Konzentrierte Spannung am Dorfteich\nEtwa alle 2 Wochen treffen sich die Christlichen Skatspieler und stechen in einem harten aber fairen Turnier den Abendsieger aus. Dabei gibt es weder Gewinner noch Verlierer. Allerdings darf der/die Erstplatzierte sich als erste(r) einen der Preise aussuchen\, der/die zweite als zweite(r) usw.\nÜbrigens: Spieler anderer Glaubensrichtungen und Atheisten sind herzlich eingeladen mitzuspielen. \nAnfragen oder Abmeldung bitte bei Waltraut Reder (01525) 142 01 88
URL:https://friesenkapelle.de/event/club-der-christlichen-skatspieler-im-pastorat-31-10-2025/
LOCATION:Pastorat am Dorfteich\, Bi Kiar 3\, Wenningstedt-Braderup\, 25996\, Deutschland
CATEGORIES:Veranstaltungen
ATTACH;FMTTYPE=image/jpeg:https://friesenkapelle.de/wp-content/uploads/2018/03/Skatblatt.jpg
END:VEVENT
END:VCALENDAR