BEGIN:VCALENDAR
VERSION:2.0
PRODID:-//Friesenkapelle.de - ECPv6.15.20//NONSGML v1.0//EN
CALSCALE:GREGORIAN
METHOD:PUBLISH
X-ORIGINAL-URL:https://friesenkapelle.de
X-WR-CALDESC:Veranstaltungen für Friesenkapelle.de
REFRESH-INTERVAL;VALUE=DURATION:PT1H
X-Robots-Tag:noindex
X-PUBLISHED-TTL:PT1H
BEGIN:VTIMEZONE
TZID:Europe/Berlin
BEGIN:DAYLIGHT
TZOFFSETFROM:+0100
TZOFFSETTO:+0200
TZNAME:CEST
DTSTART:20250330T010000
END:DAYLIGHT
BEGIN:STANDARD
TZOFFSETFROM:+0200
TZOFFSETTO:+0100
TZNAME:CET
DTSTART:20251026T010000
END:STANDARD
BEGIN:DAYLIGHT
TZOFFSETFROM:+0100
TZOFFSETTO:+0200
TZNAME:CEST
DTSTART:20260329T010000
END:DAYLIGHT
BEGIN:STANDARD
TZOFFSETFROM:+0200
TZOFFSETTO:+0100
TZNAME:CET
DTSTART:20261025T010000
END:STANDARD
BEGIN:DAYLIGHT
TZOFFSETFROM:+0100
TZOFFSETTO:+0200
TZNAME:CEST
DTSTART:20270328T010000
END:DAYLIGHT
BEGIN:STANDARD
TZOFFSETFROM:+0200
TZOFFSETTO:+0100
TZNAME:CET
DTSTART:20271031T010000
END:STANDARD
END:VTIMEZONE
BEGIN:VEVENT
DTSTART;TZID=Europe/Berlin:20260226T150000
DTEND;TZID=Europe/Berlin:20260226T170000
DTSTAMP:20260420T203306
CREATED:20250929T142213Z
LAST-MODIFIED:20250929T143459Z
UID:11937-1772118000-1772125200@friesenkapelle.de
SUMMARY:Winterspielraum mit Sarah Sachs
DESCRIPTION:Vom 06. November 2025 bis zum 26. März 2026\nDonnerstags\, 15.00 – 17.00 Uhr \nAuch im Winter wollen Kinder Spiel\, Spaß und Bewegung – kommt zum Winterspielraum im Pastorat der Kirchengemeinde Norddörfer! \nWir\, aus der Kirchengemeinde Norddörfer\, bieten dir und deinem Kind/deinen Kindern den Raum dafür. Unser Saal wird ungestaltet in ein Spieleparadies mit Hüpfburg\, Bällebad\, Riesenbausteinen und\, und\, und. In dem angrenzenden Sitzbereich kannst du es dir mit Kaffee und Waffeln gut gehen lassen\, während die Kleinsten Platz zum Krabbeln und Entdecken haben. \nUnser Angebot richtet sich an Kinder im Alter von 0-6 Jahren in Begleitung einer Aufsichtsperson. \nFragen? \nIhr seid herzlich eingeladen\, einfach vorbei zu kommen!  Wenn du Fragen hast\, dann melde dich gern bei:\nSarah Sachs (0151) 29 66 15 50 \nDu möchtest Teil vom Winterspielraum-Team werden?\nSei es der Auf- oder der Abbau\, die Aufsicht während der Spielzeit\, die herzliche Begrüßung am Eingang oder die Kaffee Zubereitung – all das ist ein wichtiger Teil vom Winterspielraum. Wenn du dir vorstellen kannst\, Teil von diesem Team zu werden\, melde dich ebenfalls gern bei:\nSarah Sachs (0151) 29 66 15 50
URL:https://friesenkapelle.de/event/winterspielraum-mit-sarah-sachs-26-2-2026/
LOCATION:Pastorat am Dorfteich\, Bi Kiar 3\, Wenningstedt-Braderup\, 25996\, Deutschland
CATEGORIES:Veranstaltungen
ATTACH;FMTTYPE=image/jpeg:https://friesenkapelle.de/wp-content/uploads/2025/09/Winterspielraum_mit_Bild.jpg
END:VEVENT
BEGIN:VEVENT
DTSTART;TZID=Europe/Berlin:20260226T190000
DTEND;TZID=Europe/Berlin:20260226T203000
DTSTAMP:20260420T203306
CREATED:20260202T105025Z
LAST-MODIFIED:20260203T065615Z
UID:12373-1772132400-1772137800@friesenkapelle.de
SUMMARY:Oliver Strempler singt JOHNNY CASH zur Biike„Tribute-Konzert am 94. Geburtstag“
DESCRIPTION:Foto: Roman Matejov \nOliver Strempler interpretiert die Lieder von Johnny Cash an dessen 94. Geburtstag\nAm 26. Februar wäre Johnny Cash 94 Jahre alt geworden. Ein guter Grund ihn einen Tag nach seinem Geburtstag mit einem Tribute-Konzert zu feiern. Er war einer der bedeutendsten Sänger Amerikas und seine markante Bassbariton-Stimme ist heute noch jedem im Ohr. Wer kennt nicht „Ring of Fire“\, „Walk the Line“\, „(Ghost) Riders in the Sky“\, „Boy Named Sue“ oder den legendären „Folsom Prisen Blues“.\nUnser Kirchenmusiker Oliver Strempler interpretiert in seinem Programm auch viele Songs der so genannten American Recordings\, die in ihrer Intensität und Authentizität zu den Höhepunkten in Cashs Lebenswerk gehören. Mit seinen größten Hits und unter dem Motto „Celebration of Life – Feier des Lebens“ sollen wir daran erinnert werden\, was für ein besonderer Musiker und Mensch Johnny Cash war.\nUnser Kirchenmusiker Oliver Strempler interpretiert die zeitlosen Lieder des „Man in Black“.\nDie Songs werden mit einleitenden deutschen Erläuterungen präsentiert. \nFriesenkapelle am Dorfteich\nDonnerstag\, 26. Februar 2026\nBeginn 19.00 Uhr\nEinlaß 18.30 Uhr\nEintritt 22 €\nTicketverkauf in den Tourismus-Services der Insel\, an der Abendkasse oder online. \nBesonderes Angebot:\nWenn Sie mehrere Biike-Konzerte von Oliver Strempler erleben wollen\, so könne Sie an der Abendkasse ermäßigte Tickets erwerben:\n3 Konzerte für 55 €\, 2 Konzerte für 40 €.\nDiese Angebote gelten NUR AN DER ABENDKASSE!
URL:https://friesenkapelle.de/event/strempler-singt-cash-zur-biiketribute-konzert-am-94-geburtstag/
LOCATION:Friesenkapelle am Dorfteich\, Bi Kiar 9\, Wenningstedt-Braderup\, 25996\, Deutschland
CATEGORIES:Konzert
ATTACH;FMTTYPE=image/jpeg:https://friesenkapelle.de/wp-content/uploads/2017/04/Oliver-Strempler.jpg
ORGANIZER;CN="Kirchengemeinde Nordd%C3%B6rfer":MAILTO:norddoerfer-kirchenbuero@t-online.de
END:VEVENT
END:VCALENDAR