BEGIN:VCALENDAR
VERSION:2.0
PRODID:-//Friesenkapelle.de - ECPv6.15.20//NONSGML v1.0//EN
CALSCALE:GREGORIAN
METHOD:PUBLISH
X-WR-CALNAME:Friesenkapelle.de
X-ORIGINAL-URL:https://friesenkapelle.de
X-WR-CALDESC:Veranstaltungen für Friesenkapelle.de
REFRESH-INTERVAL;VALUE=DURATION:PT1H
X-Robots-Tag:noindex
X-PUBLISHED-TTL:PT1H
BEGIN:VTIMEZONE
TZID:Europe/Berlin
BEGIN:DAYLIGHT
TZOFFSETFROM:+0100
TZOFFSETTO:+0200
TZNAME:CEST
DTSTART:20240331T010000
END:DAYLIGHT
BEGIN:STANDARD
TZOFFSETFROM:+0200
TZOFFSETTO:+0100
TZNAME:CET
DTSTART:20241027T010000
END:STANDARD
BEGIN:DAYLIGHT
TZOFFSETFROM:+0100
TZOFFSETTO:+0200
TZNAME:CEST
DTSTART:20250330T010000
END:DAYLIGHT
BEGIN:STANDARD
TZOFFSETFROM:+0200
TZOFFSETTO:+0100
TZNAME:CET
DTSTART:20251026T010000
END:STANDARD
BEGIN:DAYLIGHT
TZOFFSETFROM:+0100
TZOFFSETTO:+0200
TZNAME:CEST
DTSTART:20260329T010000
END:DAYLIGHT
BEGIN:STANDARD
TZOFFSETFROM:+0200
TZOFFSETTO:+0100
TZNAME:CET
DTSTART:20261025T010000
END:STANDARD
END:VTIMEZONE
BEGIN:VEVENT
DTSTART;TZID=Europe/Berlin:20250803T100000
DTEND;TZID=Europe/Berlin:20250803T111500
DTSTAMP:20260421T044213
CREATED:20250714T070101Z
LAST-MODIFIED:20250714T073058Z
UID:11337-1754215200-1754219700@friesenkapelle.de
SUMMARY:Gottesdienst mit Abendmahl am 7. Sonntag nach Trinitatis mit Pastor Rainer Chinnow
DESCRIPTION:Gottesdienst mit Abendmahl\n7. Sonntag nach Trinitatis\nDie Friesenkapelle ist ein ganz besonderer Ort\, um Gott und das Leben zu feiern. Seien Sie nicht nur Gast\, seien sie willkommen als unser Gemeindeglied.\nWir freuen uns\, Sie zum Gottesdienst in der Friesenkapelle zu begrüßen. \nLeitung: Pastor Rainer Chinnow\nMusik: Traugott Weber \nUnsere Online-Gottesdienste finden Sie weiterhin auf unser homepage oder auf YouTube/Friesenkapelle.
URL:https://friesenkapelle.de/event/gottesdienst-mit-abendmahl-am-7-sonntag-nach-trinitatis-mit-pastor-rainer-chinnow-03-08-2025/
CATEGORIES:Gottesdienst
ATTACH;FMTTYPE=image/jpeg:https://friesenkapelle.de/wp-content/uploads/2022/01/IMG_9793-.jpg
END:VEVENT
BEGIN:VEVENT
DTSTART;TZID=Europe/Berlin:20250824T100000
DTEND;TZID=Europe/Berlin:20250824T111500
DTSTAMP:20260421T044213
CREATED:20250714T072055Z
LAST-MODIFIED:20250821T072806Z
UID:11344-1756029600-1756034100@friesenkapelle.de
SUMMARY:Dialog-Gottesdienst mit Abendmahl am 10. Sonntag nach Trinitatis mit Pastores Jochim Hartung & Rainer Chinnow
DESCRIPTION:Dialog-Gottesdienst mit Abendmahl\n10. Sonntag nach Trinitatis\nDie Friesenkapelle ist ein ganz besonderer Ort\, um Gott und das Leben zu feiern. Seien Sie nicht nur Gast\, seien sie willkommen als unser Gemeindeglied.\nWir freuen uns\, Sie zum Gottesdienst in der Friesenkapelle zu begrüßen. \nLeitung: Pastores Jochim Hartung & Rainer Chinnow\nMusik: Oliver Strempler & Thomas Lambrich \nUnsere Online-Gottesdienste finden Sie weiterhin auf unser homepage oder auf YouTube/Friesenkapelle.
URL:https://friesenkapelle.de/event/dialog-gottesdienst-mit-abendmahl-am-10-sonntag-nach-trinitatis-mit-pastores-jochim-hartung-rainer-chinnow-24-08-2025/
CATEGORIES:Gottesdienst
ATTACH;FMTTYPE=image/jpeg:https://friesenkapelle.de/wp-content/uploads/2022/01/IMG_9793-.jpg
END:VEVENT
END:VCALENDAR