BEGIN:VCALENDAR
VERSION:2.0
PRODID:-//Friesenkapelle.de - ECPv6.15.20//NONSGML v1.0//EN
CALSCALE:GREGORIAN
METHOD:PUBLISH
X-WR-CALNAME:Friesenkapelle.de
X-ORIGINAL-URL:https://friesenkapelle.de
X-WR-CALDESC:Veranstaltungen für Friesenkapelle.de
REFRESH-INTERVAL;VALUE=DURATION:PT1H
X-Robots-Tag:noindex
X-PUBLISHED-TTL:PT1H
BEGIN:VTIMEZONE
TZID:Europe/Berlin
BEGIN:DAYLIGHT
TZOFFSETFROM:+0100
TZOFFSETTO:+0200
TZNAME:CEST
DTSTART:20240331T010000
END:DAYLIGHT
BEGIN:STANDARD
TZOFFSETFROM:+0200
TZOFFSETTO:+0100
TZNAME:CET
DTSTART:20241027T010000
END:STANDARD
BEGIN:DAYLIGHT
TZOFFSETFROM:+0100
TZOFFSETTO:+0200
TZNAME:CEST
DTSTART:20250330T010000
END:DAYLIGHT
BEGIN:STANDARD
TZOFFSETFROM:+0200
TZOFFSETTO:+0100
TZNAME:CET
DTSTART:20251026T010000
END:STANDARD
BEGIN:DAYLIGHT
TZOFFSETFROM:+0100
TZOFFSETTO:+0200
TZNAME:CEST
DTSTART:20260329T010000
END:DAYLIGHT
BEGIN:STANDARD
TZOFFSETFROM:+0200
TZOFFSETTO:+0100
TZNAME:CET
DTSTART:20261025T010000
END:STANDARD
END:VTIMEZONE
BEGIN:VEVENT
DTSTART;TZID=Europe/Berlin:20250413T113000
DTEND;TZID=Europe/Berlin:20250413T120000
DTSTAMP:20260425T204440
CREATED:20250330T162043Z
LAST-MODIFIED:20250330T162043Z
UID:10911-1744543800-1744545600@friesenkapelle.de
SUMMARY:Kinderkirche am Palmsonntag mit Emily & Oliver
DESCRIPTION:Kinderkirche in der Friesenkapelle\n Palmsonntag \nWir freuen uns\, Euch zum Kindergottesdienst in der Friesenkapelle begrüßen zu dürfen.\nGemeinsam singen\, gemeinsam tanzen\, gemeinsam beten und dazu eine spannende Geschichte – das ist die Kinderkirche der Kirchengemeinde Norddörfer. \nMit Emily & Oliver \nUnsere Online-Kinderkirchen findet Ihr weiterhin auf unser homepage oder auf YouTube/Friesenkapelle.
URL:https://friesenkapelle.de/event/kinderkirche-am-palmsonntag-mit-emily-oliver-13-04-2025/
CATEGORIES:Gottesdienst
ATTACH;FMTTYPE=image/jpeg:https://friesenkapelle.de/wp-content/uploads/2024/09/Emily.jpg
END:VEVENT
BEGIN:VEVENT
DTSTART;TZID=Europe/Berlin:20250420T113000
DTEND;TZID=Europe/Berlin:20250420T120000
DTSTAMP:20260425T204440
CREATED:20250330T162505Z
LAST-MODIFIED:20250330T162505Z
UID:10913-1745148600-1745150400@friesenkapelle.de
SUMMARY:Kinderkirche am Ostersonntag mit Emily & Oliver
DESCRIPTION:Kinderkirche in der Friesenkapelle\n Ostersonntag \nWir freuen uns\, Euch zum Kindergottesdienst in der Friesenkapelle begrüßen zu dürfen.\nGemeinsam singen\, gemeinsam tanzen\, gemeinsam beten und dazu eine spannende Geschichte – das ist die Kinderkirche der Kirchengemeinde Norddörfer. \nMit Emily & Oliver \nUnsere Online-Kinderkirchen findet Ihr weiterhin auf unser homepage oder auf YouTube/Friesenkapelle.
URL:https://friesenkapelle.de/event/kinderkirche-am-ostersonntag-mit-emily-oliver-20-04-2025/
CATEGORIES:Gottesdienst
ATTACH;FMTTYPE=image/jpeg:https://friesenkapelle.de/wp-content/uploads/2024/09/Emily.jpg
END:VEVENT
BEGIN:VEVENT
DTSTART;TZID=Europe/Berlin:20250427T113000
DTEND;TZID=Europe/Berlin:20250427T120000
DTSTAMP:20260425T204440
CREATED:20250330T162836Z
LAST-MODIFIED:20250330T162836Z
UID:10916-1745753400-1745755200@friesenkapelle.de
SUMMARY:Kinderkirche am Sonntag Quasimodogeniti mit Emily & Oliver
DESCRIPTION:Kinderkirche in der Friesenkapelle
URL:https://friesenkapelle.de/event/kinderkirche-am-sonntag-quasimodogeniti-mit-emily-oliver-20-04-2025/
CATEGORIES:Gottesdienst
ATTACH;FMTTYPE=image/jpeg:https://friesenkapelle.de/wp-content/uploads/2024/09/Emily.jpg
END:VEVENT
END:VCALENDAR