BEGIN:VCALENDAR
VERSION:2.0
PRODID:-//Friesenkapelle.de - ECPv6.15.20//NONSGML v1.0//EN
CALSCALE:GREGORIAN
METHOD:PUBLISH
X-WR-CALNAME:Friesenkapelle.de
X-ORIGINAL-URL:https://friesenkapelle.de
X-WR-CALDESC:Veranstaltungen für Friesenkapelle.de
REFRESH-INTERVAL;VALUE=DURATION:PT1H
X-Robots-Tag:noindex
X-PUBLISHED-TTL:PT1H
BEGIN:VTIMEZONE
TZID:Europe/Berlin
BEGIN:DAYLIGHT
TZOFFSETFROM:+0100
TZOFFSETTO:+0200
TZNAME:CEST
DTSTART:20240331T010000
END:DAYLIGHT
BEGIN:STANDARD
TZOFFSETFROM:+0200
TZOFFSETTO:+0100
TZNAME:CET
DTSTART:20241027T010000
END:STANDARD
BEGIN:DAYLIGHT
TZOFFSETFROM:+0100
TZOFFSETTO:+0200
TZNAME:CEST
DTSTART:20250330T010000
END:DAYLIGHT
BEGIN:STANDARD
TZOFFSETFROM:+0200
TZOFFSETTO:+0100
TZNAME:CET
DTSTART:20251026T010000
END:STANDARD
BEGIN:DAYLIGHT
TZOFFSETFROM:+0100
TZOFFSETTO:+0200
TZNAME:CEST
DTSTART:20260329T010000
END:DAYLIGHT
BEGIN:STANDARD
TZOFFSETFROM:+0200
TZOFFSETTO:+0100
TZNAME:CET
DTSTART:20261025T010000
END:STANDARD
END:VTIMEZONE
BEGIN:VEVENT
DTSTART;TZID=Europe/Berlin:20250511T113000
DTEND;TZID=Europe/Berlin:20250511T120000
DTSTAMP:20260425T205459
CREATED:20250415T082220Z
LAST-MODIFIED:20250415T082253Z
UID:11029-1746963000-1746964800@friesenkapelle.de
SUMMARY:Kinderkirche am Sonntag Jubilate mit Emily & Oliver
DESCRIPTION:Kinderkirche in der Friesenkapelle
URL:https://friesenkapelle.de/event/kinderkirche-am-sonntag-jubilate-mit-emily-oliver-11-05-2025/
CATEGORIES:Gottesdienst
ATTACH;FMTTYPE=image/jpeg:https://friesenkapelle.de/wp-content/uploads/2024/09/Emily.jpg
END:VEVENT
BEGIN:VEVENT
DTSTART;TZID=Europe/Berlin:20250518T113000
DTEND;TZID=Europe/Berlin:20250518T120000
DTSTAMP:20260425T205459
CREATED:20250415T082442Z
LAST-MODIFIED:20250415T082442Z
UID:11031-1747567800-1747569600@friesenkapelle.de
SUMMARY:Kinderkirche am Sonntag Cantate mit Emily & Oliver
DESCRIPTION:Kinderkirche in der Friesenkapelle
URL:https://friesenkapelle.de/event/kinderkirche-am-sonntag-cantate-mit-emily-oliver-18-05-2025/
CATEGORIES:Gottesdienst
ATTACH;FMTTYPE=image/jpeg:https://friesenkapelle.de/wp-content/uploads/2024/09/Emily.jpg
END:VEVENT
BEGIN:VEVENT
DTSTART;TZID=Europe/Berlin:20250525T113000
DTEND;TZID=Europe/Berlin:20250525T120000
DTSTAMP:20260425T205459
CREATED:20250415T082715Z
LAST-MODIFIED:20250415T082715Z
UID:11033-1748172600-1748174400@friesenkapelle.de
SUMMARY:Kinderkirche am Sonntag Rogate mit Emily & Dmitry
DESCRIPTION:Kinderkirche in der Friesenkapelle
URL:https://friesenkapelle.de/event/kinderkirche-am-sonntag-rogate-mit-emily-dmitry-25-05-2025/
CATEGORIES:Gottesdienst
ATTACH;FMTTYPE=image/jpeg:https://friesenkapelle.de/wp-content/uploads/2024/09/Emily.jpg
END:VEVENT
BEGIN:VEVENT
DTSTART;TZID=Europe/Berlin:20250529T100000
DTEND;TZID=Europe/Berlin:20250529T110000
DTSTAMP:20260425T205459
CREATED:20250415T081846Z
LAST-MODIFIED:20250415T081915Z
UID:11027-1748512800-1748516400@friesenkapelle.de
SUMMARY:Gottesdienst an Christi Himmelfahrt mit Diakonin Emily Walter
DESCRIPTION:Gottesdienst\nChristi Himmelfahrt\nAn Christi Himmelfahrt feiert die Kirche die Rückkehr des Gottessohnes zu seinem Vater im Himmel. Das Fest findet immer am 40. Tag nach Ostern statt.\nDie Friesenkapelle ist ein ganz besonderer Ort\, um Gott und das Leben zu feiern. Seien Sie nicht nur Gast\, seien sie willkommen als unser Gemeindeglied.\nWir freuen uns\, Sie zum Gottesdienst in der Friesenkapelle zu begrüßen. \nLeitung: Diakonin Emily Walter\nMusik: Oliver Strempler \nUnsere Online-Gottesdienste finden Sie weiterhin auf unser homepage oder auf YouTube/Friesenkapelle.
URL:https://friesenkapelle.de/event/gottesdienst-an-christi-himmelfahrt-mit-diakonin-emily-walter-29-05-2025/
CATEGORIES:Gottesdienst
ATTACH;FMTTYPE=image/jpeg:https://friesenkapelle.de/wp-content/uploads/2022/01/IMG_9793-.jpg
END:VEVENT
END:VCALENDAR