BEGIN:VCALENDAR
VERSION:2.0
PRODID:-//Friesenkapelle.de - ECPv6.15.20//NONSGML v1.0//EN
CALSCALE:GREGORIAN
METHOD:PUBLISH
X-WR-CALNAME:Friesenkapelle.de
X-ORIGINAL-URL:https://friesenkapelle.de
X-WR-CALDESC:Veranstaltungen für Friesenkapelle.de
REFRESH-INTERVAL;VALUE=DURATION:PT1H
X-Robots-Tag:noindex
X-PUBLISHED-TTL:PT1H
BEGIN:VTIMEZONE
TZID:Europe/Berlin
BEGIN:DAYLIGHT
TZOFFSETFROM:+0100
TZOFFSETTO:+0200
TZNAME:CEST
DTSTART:20240331T010000
END:DAYLIGHT
BEGIN:STANDARD
TZOFFSETFROM:+0200
TZOFFSETTO:+0100
TZNAME:CET
DTSTART:20241027T010000
END:STANDARD
BEGIN:DAYLIGHT
TZOFFSETFROM:+0100
TZOFFSETTO:+0200
TZNAME:CEST
DTSTART:20250330T010000
END:DAYLIGHT
BEGIN:STANDARD
TZOFFSETFROM:+0200
TZOFFSETTO:+0100
TZNAME:CET
DTSTART:20251026T010000
END:STANDARD
BEGIN:DAYLIGHT
TZOFFSETFROM:+0100
TZOFFSETTO:+0200
TZNAME:CEST
DTSTART:20260329T010000
END:DAYLIGHT
BEGIN:STANDARD
TZOFFSETFROM:+0200
TZOFFSETTO:+0100
TZNAME:CET
DTSTART:20261025T010000
END:STANDARD
END:VTIMEZONE
BEGIN:VEVENT
DTSTART;TZID=Europe/Berlin:20250601T113000
DTEND;TZID=Europe/Berlin:20250601T120000
DTSTAMP:20260425T205514
CREATED:20250522T105221Z
LAST-MODIFIED:20250522T105221Z
UID:11104-1748777400-1748779200@friesenkapelle.de
SUMMARY:Kinderkirche am Sonntag Exaudi mit Emily & Oliver
DESCRIPTION:Kinderkirche in der Friesenkapelle\nSonntag Exaudi \nWir freuen uns\, Euch zum Kindergottesdienst in der Friesenkapelle begrüßen zu dürfen.\nGemeinsam singen\, gemeinsam tanzen\, gemeinsam beten und dazu eine spannende Geschichte – das ist die Kinderkirche der Kirchengemeinde Norddörfer. \nMit Emily & Oliver \nUnsere Online-Kinderkirchen findet Ihr weiterhin auf unser homepage oder auf YouTube/Friesenkapelle.
URL:https://friesenkapelle.de/event/kinderkirche-am-sonntag-exaudi-mit-emily-oliver-01-06-2025/
CATEGORIES:Gottesdienst
ATTACH;FMTTYPE=image/jpeg:https://friesenkapelle.de/wp-content/uploads/2024/09/Emily.jpg
END:VEVENT
BEGIN:VEVENT
DTSTART;TZID=Europe/Berlin:20250615T113000
DTEND;TZID=Europe/Berlin:20250615T120000
DTSTAMP:20260425T205514
CREATED:20250522T105452Z
LAST-MODIFIED:20250522T105452Z
UID:11106-1749987000-1749988800@friesenkapelle.de
SUMMARY:Kinderkirche am Sonntag Trinitatis mit Emily & Oliver
DESCRIPTION:Kinderkirche in der Friesenkapelle\nSonntag Trinitatis \nWir freuen uns\, Euch zum Kindergottesdienst in der Friesenkapelle begrüßen zu dürfen.\nGemeinsam singen\, gemeinsam tanzen\, gemeinsam beten und dazu eine spannende Geschichte – das ist die Kinderkirche der Kirchengemeinde Norddörfer. \nMit Emily & Oliver \nUnsere Online-Kinderkirchen findet Ihr weiterhin auf unser homepage oder auf YouTube/Friesenkapelle.
URL:https://friesenkapelle.de/event/kinderkirche-am-sonntag-trinitatis-mit-emily-oliver-15-06-2025/
CATEGORIES:Gottesdienst
ATTACH;FMTTYPE=image/jpeg:https://friesenkapelle.de/wp-content/uploads/2024/09/Emily.jpg
END:VEVENT
BEGIN:VEVENT
DTSTART;TZID=Europe/Berlin:20250622T113000
DTEND;TZID=Europe/Berlin:20250622T120000
DTSTAMP:20260425T205514
CREATED:20250611T182312Z
LAST-MODIFIED:20250611T182600Z
UID:11174-1750591800-1750593600@friesenkapelle.de
SUMMARY:Kinderkirche am 1. Sonntag nach Trinitatis mit Emily & Beate
DESCRIPTION:Kinderkirche in der Friesenkapelle\n1. Sonntag nach Trinitatis \nWir freuen uns\, Euch zum Kindergottesdienst in der Friesenkapelle begrüßen zu dürfen.\nGemeinsam singen\, gemeinsam tanzen\, gemeinsam beten und dazu eine spannende Geschichte – das ist die Kinderkirche der Kirchengemeinde Norddörfer. \nMit Emily & Beate \nUnsere Online-Kinderkirchen findet Ihr weiterhin auf unser homepage oder auf YouTube/Friesenkapelle.
URL:https://friesenkapelle.de/event/kinderkirche-am-sonntag-trinitatis-mit-emily-beate-22-06-2025/
CATEGORIES:Gottesdienst
ATTACH;FMTTYPE=image/jpeg:https://friesenkapelle.de/wp-content/uploads/2024/09/Emily.jpg
END:VEVENT
BEGIN:VEVENT
DTSTART;TZID=Europe/Berlin:20250629T113000
DTEND;TZID=Europe/Berlin:20250629T120000
DTSTAMP:20260425T205514
CREATED:20250611T182513Z
LAST-MODIFIED:20250611T182513Z
UID:11176-1751196600-1751198400@friesenkapelle.de
SUMMARY:Kinderkirche am 2. Sonntag nach Trinitatis mit Emily & Oliver
DESCRIPTION:Kinderkirche in der Friesenkapelle\n2. Sonntag nach Trinitatis \nWir freuen uns\, Euch zum Kindergottesdienst in der Friesenkapelle begrüßen zu dürfen.\nGemeinsam singen\, gemeinsam tanzen\, gemeinsam beten und dazu eine spannende Geschichte – das ist die Kinderkirche der Kirchengemeinde Norddörfer. \nMit Emily & Oliver \nUnsere Online-Kinderkirchen findet Ihr weiterhin auf unser homepage oder auf YouTube/Friesenkapelle.
URL:https://friesenkapelle.de/event/kinderkirche-am-sonntag-trinitatis-mit-emily-oliver-15-06-2025-2/
CATEGORIES:Gottesdienst
ATTACH;FMTTYPE=image/jpeg:https://friesenkapelle.de/wp-content/uploads/2024/09/Emily.jpg
END:VEVENT
END:VCALENDAR