BEGIN:VCALENDAR
VERSION:2.0
PRODID:-//Friesenkapelle.de - ECPv6.15.20//NONSGML v1.0//EN
CALSCALE:GREGORIAN
METHOD:PUBLISH
X-ORIGINAL-URL:https://friesenkapelle.de
X-WR-CALDESC:Veranstaltungen für Friesenkapelle.de
REFRESH-INTERVAL;VALUE=DURATION:PT1H
X-Robots-Tag:noindex
X-PUBLISHED-TTL:PT1H
BEGIN:VTIMEZONE
TZID:Europe/Berlin
BEGIN:DAYLIGHT
TZOFFSETFROM:+0100
TZOFFSETTO:+0200
TZNAME:CEST
DTSTART:20220327T010000
END:DAYLIGHT
BEGIN:STANDARD
TZOFFSETFROM:+0200
TZOFFSETTO:+0100
TZNAME:CET
DTSTART:20221030T010000
END:STANDARD
BEGIN:DAYLIGHT
TZOFFSETFROM:+0100
TZOFFSETTO:+0200
TZNAME:CEST
DTSTART:20230326T010000
END:DAYLIGHT
BEGIN:STANDARD
TZOFFSETFROM:+0200
TZOFFSETTO:+0100
TZNAME:CET
DTSTART:20231029T010000
END:STANDARD
BEGIN:DAYLIGHT
TZOFFSETFROM:+0100
TZOFFSETTO:+0200
TZNAME:CEST
DTSTART:20240331T010000
END:DAYLIGHT
BEGIN:STANDARD
TZOFFSETFROM:+0200
TZOFFSETTO:+0100
TZNAME:CET
DTSTART:20241027T010000
END:STANDARD
END:VTIMEZONE
BEGIN:VEVENT
DTSTART;TZID=Europe/Berlin:20231125T170000
DTEND;TZID=Europe/Berlin:20231125T180000
DTSTAMP:20260424T180538
CREATED:20231016T120624Z
LAST-MODIFIED:20231016T121629Z
UID:9043-1700931600-1700935200@friesenkapelle.de
SUMMARY:Gospelkonzert „Joy for Soul“ mit den „Island Voices“
DESCRIPTION:Gospelkonzert „Joy for Soul“\n\nSeit Jahren gibt es im Jugendseeheim Kassel in Kampen den Workshop „Gospel gegen den Novemberblues“ mit der Chorleiterin Renate Henke und Sonja Horn.\nGäste\, sowie die Chormitglieder des insularen Gospelchores „Island Voices Sylt“ verbindet der Spaß am gemeinsamen Singen –  besonders in trüberen Zeiten!\nBeflügelt durch diesen großartigen Austausch entsteht regelmäßig der Wunsch\, die in einer knappen Woche erlernten Lieder in der Kirche zu präsentieren.\nSomit lädt dieser große Sängerkreis am Samstag\, den 25.11.23 um 17.00 Uhr zu einem Abschlusskonzert in die Friesenkapelle in Wenningstedt ein.  \nUnsere Kirche ist zu Gospelveranstaltungen immer sehr gut besucht. Es ist deshalb ratsam\, rechtzeitig in der Friesenkapelle zu erscheinen\, damit man noch einen Platz ergattert. \nEintritt frei\nSpenden sind zu Gunsten des Fördervereins des Chores herzlich willkommen! \nLeitung: Renate Henke.\nMusik: Island Voices\nOrt: Friesenkapelle am Dorfteich\, Wenningstedt\nBeginn 17.00 Uhr\nfreie Platzwahl
URL:https://friesenkapelle.de/event/gospelkonzert-joy-for-soul-mit-den-island-voices-25-11-2023/
LOCATION:Friesenkapelle am Dorfteich\, Bi Kiar 9\, Wenningstedt-Braderup\, 25996\, Deutschland
CATEGORIES:Veranstaltungen
ATTACH;FMTTYPE=image/jpeg:https://friesenkapelle.de/wp-content/uploads/2023/10/Island-Voices-Herbst.jpg
ORGANIZER;CN="Kirchengemeinde Nordd%C3%B6rfer":MAILTO:norddoerfer-kirchenbuero@t-online.de
END:VEVENT
END:VCALENDAR