BEGIN:VCALENDAR
VERSION:2.0
PRODID:-//Friesenkapelle.de - ECPv6.15.20//NONSGML v1.0//EN
CALSCALE:GREGORIAN
METHOD:PUBLISH
X-ORIGINAL-URL:https://friesenkapelle.de
X-WR-CALDESC:Veranstaltungen für Friesenkapelle.de
REFRESH-INTERVAL;VALUE=DURATION:PT1H
X-Robots-Tag:noindex
X-PUBLISHED-TTL:PT1H
BEGIN:VTIMEZONE
TZID:Europe/Berlin
BEGIN:DAYLIGHT
TZOFFSETFROM:+0100
TZOFFSETTO:+0200
TZNAME:CEST
DTSTART:20230326T010000
END:DAYLIGHT
BEGIN:STANDARD
TZOFFSETFROM:+0200
TZOFFSETTO:+0100
TZNAME:CET
DTSTART:20231029T010000
END:STANDARD
BEGIN:DAYLIGHT
TZOFFSETFROM:+0100
TZOFFSETTO:+0200
TZNAME:CEST
DTSTART:20240331T010000
END:DAYLIGHT
BEGIN:STANDARD
TZOFFSETFROM:+0200
TZOFFSETTO:+0100
TZNAME:CET
DTSTART:20241027T010000
END:STANDARD
BEGIN:DAYLIGHT
TZOFFSETFROM:+0100
TZOFFSETTO:+0200
TZNAME:CEST
DTSTART:20250330T010000
END:DAYLIGHT
BEGIN:STANDARD
TZOFFSETFROM:+0200
TZOFFSETTO:+0100
TZNAME:CET
DTSTART:20251026T010000
END:STANDARD
END:VTIMEZONE
BEGIN:VEVENT
DTSTART;TZID=Europe/Berlin:20240428T180000
DTEND;TZID=Europe/Berlin:20240428T190000
DTSTAMP:20260422T011915
CREATED:20240227T142604Z
LAST-MODIFIED:20240227T143225Z
UID:9492-1714327200-1714330800@friesenkapelle.de
SUMMARY:Gospelkonzert „Sweet Spring Gospel“ mit den „Island Voices“
DESCRIPTION:Gospelkonzert „Sweet Spring Gospel“\n\nAm 28. April 2024 lädt der Sylter Gospelchor „Island Voices“ von 18.00 – 19.00 Uhr zu seinem Frühlingskonzert in die Friesenkapelle am Dorfteich nach Wenningstedt auf Sylt ein. Unter der Leitung von Renate Henke erwartet die Besucher ein abwechslungsreicher Abend mit ausgewählten Gospels zum Genießen und Mitsingen.   \nUnsere Kirche ist zu Gospelveranstaltungen immer sehr gut besucht. Es ist deshalb ratsam\, rechtzeitig in der Friesenkapelle zu erscheinen\, damit man noch einen Platz ergattert. \nEintritt frei\nSpenden sind zu Gunsten des Fördervereins des Chores herzlich willkommen! \nLeitung: Renate Henke.\nMusik: Island Voices\nOrt: Friesenkapelle am Dorfteich\, Wenningstedt\nBeginn 18.00 Uhr\nfreie Platzwahl
URL:https://friesenkapelle.de/event/gospelkonzert-sweet-spring-gospel-mit-den-island-voices-28-04-2024/
LOCATION:Friesenkapelle am Dorfteich\, Bi Kiar 9\, Wenningstedt-Braderup\, 25996\, Deutschland
CATEGORIES:Veranstaltungen
ATTACH;FMTTYPE=image/jpeg:https://friesenkapelle.de/wp-content/uploads/2023/10/Island-Voices-Herbst.jpg
ORGANIZER;CN="Kirchengemeinde Nordd%C3%B6rfer":MAILTO:norddoerfer-kirchenbuero@t-online.de
END:VEVENT
END:VCALENDAR