BEGIN:VCALENDAR
VERSION:2.0
PRODID:-//Friesenkapelle.de - ECPv6.15.20//NONSGML v1.0//EN
CALSCALE:GREGORIAN
METHOD:PUBLISH
X-WR-CALNAME:Friesenkapelle.de
X-ORIGINAL-URL:https://friesenkapelle.de
X-WR-CALDESC:Veranstaltungen für Friesenkapelle.de
REFRESH-INTERVAL;VALUE=DURATION:PT1H
X-Robots-Tag:noindex
X-PUBLISHED-TTL:PT1H
BEGIN:VTIMEZONE
TZID:Europe/Berlin
BEGIN:DAYLIGHT
TZOFFSETFROM:+0100
TZOFFSETTO:+0200
TZNAME:CEST
DTSTART:20200329T010000
END:DAYLIGHT
BEGIN:STANDARD
TZOFFSETFROM:+0200
TZOFFSETTO:+0100
TZNAME:CET
DTSTART:20201025T010000
END:STANDARD
BEGIN:DAYLIGHT
TZOFFSETFROM:+0100
TZOFFSETTO:+0200
TZNAME:CEST
DTSTART:20210328T010000
END:DAYLIGHT
BEGIN:STANDARD
TZOFFSETFROM:+0200
TZOFFSETTO:+0100
TZNAME:CET
DTSTART:20211031T010000
END:STANDARD
BEGIN:DAYLIGHT
TZOFFSETFROM:+0100
TZOFFSETTO:+0200
TZNAME:CEST
DTSTART:20220327T010000
END:DAYLIGHT
BEGIN:STANDARD
TZOFFSETFROM:+0200
TZOFFSETTO:+0100
TZNAME:CET
DTSTART:20221030T010000
END:STANDARD
END:VTIMEZONE
BEGIN:VEVENT
DTSTART;TZID=Europe/Berlin:20210621T180000
DTEND;TZID=Europe/Berlin:20210621T190000
DTSTAMP:20260424T152410
CREATED:20210616T114925Z
LAST-MODIFIED:20210616T115740Z
UID:5259-1624298400-1624302000@friesenkapelle.de
SUMMARY:Strempler singt Johnny Cash „Greatest Hits & Rarities“
DESCRIPTION:Foto: Roman Matejov \nOliver Strempler interpretiert die zeitlosen Lieder des „Man in Black“ Johnny Cash\nUnser Kirchenmusiker Oliver Strempler lässt das Leben der Amerikanischen Musik-Ikone Johnny Cash musikalisch Revue passieren. Höhen und Tiefen\, Sucht und Glaube\, Liebe und Tod – das Leben der Legende war geprägt von Brüchen und Stürzen aber auch vom Wiederaufstehen und von Erfolgen. Er war einer der bedeutendsten Sänger Amerikas und seine markante Bassbariton-Stimme ist heute noch jedem im Ohr. Wer kennt nicht „Ring of Fire“\, „Walk the Line“\, „(Ghost) Riders in the Sky“\, „Boy Named Sue“ oder den legendären „Folsom Prisen Blues“.\nOliver Strempler interpretiert in seinem Programm die größten Hits und viele Songs der so genannten American Recordings\, die in ihrer Intensität und Authentizität den Abschluss zu Cashs Lebenswerk bilden.\nDie Songs werden mit einleitenden deutschen Erläuterungen präsentiert. \nFriesenkapelle am Dorfteich \nMontag\, 21. Juni 2021\nBeginn 18.00 Uhr\nEinlaß 17.30 Uhr\nEintritt 18 €\nTicketverkauf in den Tourismus-Services der Insel\, an der Abendkasse\noder online.
URL:https://friesenkapelle.de/event/oliver-strempler-singt-johnny-cash-greatest-hits-rarities-21-06-2021/
LOCATION:Friesenkapelle am Dorfteich\, Bi Kiar 9\, Wenningstedt-Braderup\, 25996\, Deutschland
CATEGORIES:Veranstaltungen
ATTACH;FMTTYPE=image/jpeg:https://friesenkapelle.de/wp-content/uploads/2017/04/Oliver-Strempler.jpg
ORGANIZER;CN="Kirchengemeinde Nordd%C3%B6rfer":MAILTO:norddoerfer-kirchenbuero@t-online.de
END:VEVENT
BEGIN:VEVENT
DTSTART;TZID=Europe/Berlin:20210621T200000
DTEND;TZID=Europe/Berlin:20210621T210000
DTSTAMP:20260424T152410
CREATED:20210616T115533Z
LAST-MODIFIED:20210616T115716Z
UID:5262-1624305600-1624309200@friesenkapelle.de
SUMMARY:Strempler singt Johnny Cash „Greatest Hits & Rarities“
DESCRIPTION:Foto: Roman Matejov \nOliver Strempler interpretiert die zeitlosen Lieder des „Man in Black“ Johnny Cash\nUnser Kirchenmusiker Oliver Strempler lässt das Leben der Amerikanischen Musik-Ikone Johnny Cash musikalisch Revue passieren. Höhen und Tiefen\, Sucht und Glaube\, Liebe und Tod – das Leben der Legende war geprägt von Brüchen und Stürzen aber auch vom Wiederaufstehen und von Erfolgen. Er war einer der bedeutendsten Sänger Amerikas und seine markante Bassbariton-Stimme ist heute noch jedem im Ohr. Wer kennt nicht „Ring of Fire“\, „Walk the Line“\, „(Ghost) Riders in the Sky“\, „Boy Named Sue“ oder den legendären „Folsom Prisen Blues“.\nOliver Strempler interpretiert in seinem Programm die größten Hits und viele Songs der so genannten American Recordings\, die in ihrer Intensität und Authentizität den Abschluss zu Cashs Lebenswerk bilden.\nDie Songs werden mit einleitenden deutschen Erläuterungen präsentiert. \nFriesenkapelle am Dorfteich \nMontag\, 21. Juni 2021\nBeginn 19.30 Uhr\nEinlaß 20.00 Uhr\nEintritt 18 €\nTicketverkauf in den Tourismus-Services der Insel\, an der Abendkasse\noder online.
URL:https://friesenkapelle.de/event/oliver-strempler-singt-johnny-cash-greatest-hits-rarities-21-06-2021-20/
LOCATION:Friesenkapelle am Dorfteich\, Bi Kiar 9\, Wenningstedt-Braderup\, 25996\, Deutschland
CATEGORIES:Veranstaltungen
ATTACH;FMTTYPE=image/jpeg:https://friesenkapelle.de/wp-content/uploads/2017/04/Oliver-Strempler.jpg
ORGANIZER;CN="Kirchengemeinde Nordd%C3%B6rfer":MAILTO:norddoerfer-kirchenbuero@t-online.de
END:VEVENT
END:VCALENDAR