BEGIN:VCALENDAR
VERSION:2.0
PRODID:-//Friesenkapelle.de - ECPv6.15.20//NONSGML v1.0//EN
CALSCALE:GREGORIAN
METHOD:PUBLISH
X-ORIGINAL-URL:https://friesenkapelle.de
X-WR-CALDESC:Veranstaltungen für Friesenkapelle.de
REFRESH-INTERVAL;VALUE=DURATION:PT1H
X-Robots-Tag:noindex
X-PUBLISHED-TTL:PT1H
BEGIN:VTIMEZONE
TZID:Europe/Berlin
BEGIN:DAYLIGHT
TZOFFSETFROM:+0100
TZOFFSETTO:+0200
TZNAME:CEST
DTSTART:20220327T010000
END:DAYLIGHT
BEGIN:STANDARD
TZOFFSETFROM:+0200
TZOFFSETTO:+0100
TZNAME:CET
DTSTART:20221030T010000
END:STANDARD
BEGIN:DAYLIGHT
TZOFFSETFROM:+0100
TZOFFSETTO:+0200
TZNAME:CEST
DTSTART:20230326T010000
END:DAYLIGHT
BEGIN:STANDARD
TZOFFSETFROM:+0200
TZOFFSETTO:+0100
TZNAME:CET
DTSTART:20231029T010000
END:STANDARD
BEGIN:DAYLIGHT
TZOFFSETFROM:+0100
TZOFFSETTO:+0200
TZNAME:CEST
DTSTART:20240331T010000
END:DAYLIGHT
BEGIN:STANDARD
TZOFFSETFROM:+0200
TZOFFSETTO:+0100
TZNAME:CET
DTSTART:20241027T010000
END:STANDARD
END:VTIMEZONE
BEGIN:VEVENT
DTSTART;TZID=Europe/Berlin:20230806T100000
DTEND;TZID=Europe/Berlin:20230806T111500
DTSTAMP:20260421T230555
CREATED:20230630T161248Z
LAST-MODIFIED:20230720T104041Z
UID:8595-1691316000-1691320500@friesenkapelle.de
SUMMARY:Gottesdienst mit Abendmahl am 9. Sonntag nach Trinitatis mit dem Team der Kirchengemeinde Norddörfer
DESCRIPTION:Gottesdienst mit Abendmahl\n9. Sonntag nach Tinitatis\nWir freuen uns\, Sie zum Gottesdienst in der Friesenkapelle zu begrüßen. \nLeitung: Pastor Rainer Chinnow\nMusik: Oliver Strempler \nÜbrigens: Bei gutem Wetter findet der Gottesdienst Open-Air statt! \nUnsere Online-Gottesdienste finden Sie weiterhin auf unser homepage oder auf YouTube/Friesenkapelle.
URL:https://friesenkapelle.de/event/gottesdienst-mit-abendmahl-am-9-sonntag-nach-trinitatis-mit-dem-team-der-kirchengemeinde-norddoerfer-06-08-2023/
LOCATION:Friesenkapelle am Dorfteich\, Bi Kiar 9\, Wenningstedt-Braderup\, 25996\, Deutschland
CATEGORIES:Gottesdienst
ATTACH;FMTTYPE=image/jpeg:https://friesenkapelle.de/wp-content/uploads/2022/01/IMG_9793-.jpg
ORGANIZER;CN="Kirchengemeinde Nordd%C3%B6rfer":MAILTO:norddoerfer-kirchenbuero@t-online.de
END:VEVENT
BEGIN:VEVENT
DTSTART;TZID=Europe/Berlin:20230813T100000
DTEND;TZID=Europe/Berlin:20230813T110000
DTSTAMP:20260421T230555
CREATED:20230701T063938Z
LAST-MODIFIED:20230701T064110Z
UID:8628-1691920800-1691924400@friesenkapelle.de
SUMMARY:Gottesdienst am 10. Sonntag nach Trinitatis mit Pastor Rainer Chinnow
DESCRIPTION:Gottesdienst mit Abendmahl\n10. Sonntag nach Tinitatis\nWir freuen uns\, Sie zum Gottesdienst in der Friesenkapelle zu begrüßen. \nLeitung: Pastor Rainer Chinnow\nMusik: Oliver Strempler \nUnsere Online-Gottesdienste finden Sie weiterhin auf unser homepage oder auf YouTube/Friesenkapelle.
URL:https://friesenkapelle.de/event/gottesdienst-am-10-sonntag-nach-trinitatis-mit-pastor-rainer-chinnow-13-08-2023/
LOCATION:Friesenkapelle am Dorfteich\, Bi Kiar 9\, Wenningstedt-Braderup\, 25996\, Deutschland
CATEGORIES:Gottesdienst
ATTACH;FMTTYPE=image/jpeg:https://friesenkapelle.de/wp-content/uploads/2022/01/IMG_9793-.jpg
ORGANIZER;CN="Kirchengemeinde Nordd%C3%B6rfer":MAILTO:norddoerfer-kirchenbuero@t-online.de
END:VEVENT
BEGIN:VEVENT
DTSTART;TZID=Europe/Berlin:20230813T113000
DTEND;TZID=Europe/Berlin:20230813T120000
DTSTAMP:20260421T230555
CREATED:20230701T064721Z
LAST-MODIFIED:20230720T102918Z
UID:8634-1691926200-1691928000@friesenkapelle.de
SUMMARY:Kinderkirche am 10. Sonntag nach Trinitatis mit Tini\, Tiffany und Beate
DESCRIPTION:Kinderkirche in der Friesenkapelle\n10. Sonntag nach Trinitatis\nWir freuen uns\, Euch zum Kindergottesdienst in der Friesenkapelle begrüßen zu dürfen.\nGemeinsam singen\, gemeinsam tanzen\, gemeinsam beten und dazu eine spannende Geschichte – das ist die Kinderkirche der Kirchengemeinde Norddörfer. \nMit Tini\, Tiffany und Oliver. \nUnsere Online-Kinderkirchen findet Ihr weiterhin auf unser homepage oder auf YouTube/Friesenkapelle.
URL:https://friesenkapelle.de/event/kinderkirche-am-8-sonntag-nach-trinitatis-mit-tini-tiffany-und-oliver-13-08-2023/
LOCATION:Friesenkapelle am Dorfteich\, Bi Kiar 9\, Wenningstedt-Braderup\, 25996\, Deutschland
CATEGORIES:Gottesdienst
ATTACH;FMTTYPE=image/jpeg:https://friesenkapelle.de/wp-content/uploads/2021/04/tiffany_image00039-scaled.jpg
ORGANIZER;CN="Kirchengemeinde Nordd%C3%B6rfer":MAILTO:norddoerfer-kirchenbuero@t-online.de
END:VEVENT
BEGIN:VEVENT
DTSTART;TZID=Europe/Berlin:20230820T100000
DTEND;TZID=Europe/Berlin:20230820T111500
DTSTAMP:20260421T230555
CREATED:20230630T145222Z
LAST-MODIFIED:20230701T065835Z
UID:8587-1692525600-1692530100@friesenkapelle.de
SUMMARY:Gospelgottesdienst am 11. Sonntag nach Trinitatis mit den Island Voices
DESCRIPTION:Gospelgottesdienst\n11. Sonntag nach Trinitatis\nWir freuen uns\, Sie zum Gottesdienst in der Friesenkapelle zu begrüßen. \nUnsere Kirche ist zu Gospelveranstaltungen immer sehr gut besucht. Es ist deshalb ratsam\, rechtzeitig in der Friesenkapelle zu erscheinen\, damit man noch einen Platz ergattert. \nLeitung: Pastor Rainer Chinnow\nMusik: Island Voices unter der Leitung von Renate Henke \nUnsere Online-Gottesdienste finden Sie weiterhin auf unser homepage oder auf YouTube/Friesenkapelle.
URL:https://friesenkapelle.de/event/gospelgottesdienst-am-11-sonntag-nach-trinitatis-mit-pastor-rainer-chinnow-und-des-island-voices-20-08-2023/
LOCATION:Friesenkapelle am Dorfteich\, Bi Kiar 9\, Wenningstedt-Braderup\, 25996\, Deutschland
CATEGORIES:Gottesdienst
ATTACH;FMTTYPE=image/jpeg:https://friesenkapelle.de/wp-content/uploads/2019/11/WEB-AV-3891.jpeg
ORGANIZER;CN="Kirchengemeinde Nordd%C3%B6rfer":MAILTO:norddoerfer-kirchenbuero@t-online.de
END:VEVENT
BEGIN:VEVENT
DTSTART;TZID=Europe/Berlin:20230820T113000
DTEND;TZID=Europe/Berlin:20230820T120000
DTSTAMP:20260421T230555
CREATED:20230701T064925Z
LAST-MODIFIED:20230701T065450Z
UID:8637-1692531000-1692532800@friesenkapelle.de
SUMMARY:Kinderkirche am 11. Sonntag nach Trinitatis mit Tini\, Tiffany und Oliver
DESCRIPTION:Kinderkirche in der Friesenkapelle\n11. Sonntag nach Trinitatis\nWir freuen uns\, Euch zum Kindergottesdienst in der Friesenkapelle begrüßen zu dürfen.\nGemeinsam singen\, gemeinsam tanzen\, gemeinsam beten und dazu eine spannende Geschichte – das ist die Kinderkirche der Kirchengemeinde Norddörfer. \nMit Tini\, Tiffany und Oliver. \nUnsere Online-Kinderkirchen findet Ihr weiterhin auf unser homepage oder auf YouTube/Friesenkapelle.
URL:https://friesenkapelle.de/event/kinderkirche-am-8-sonntag-nach-trinitatis-mit-tini-tiffany-und-oliver-20-08-2023/
LOCATION:Friesenkapelle am Dorfteich\, Bi Kiar 9\, Wenningstedt-Braderup\, 25996\, Deutschland
CATEGORIES:Gottesdienst
ATTACH;FMTTYPE=image/jpeg:https://friesenkapelle.de/wp-content/uploads/2021/04/tiffany_image00039-scaled.jpg
ORGANIZER;CN="Kirchengemeinde Nordd%C3%B6rfer":MAILTO:norddoerfer-kirchenbuero@t-online.de
END:VEVENT
BEGIN:VEVENT
DTSTART;TZID=Europe/Berlin:20230827T100000
DTEND;TZID=Europe/Berlin:20230827T111500
DTSTAMP:20260421T230555
CREATED:20230701T064134Z
LAST-MODIFIED:20230824T113040Z
UID:8631-1693130400-1693134900@friesenkapelle.de
SUMMARY:Gottesdienst mit Abendmahl am 12. Sonntag nach Trinitatis mit den Pastores Jochim Hartung & Rainer Chinnow und dem Norddörfer Musikverein
DESCRIPTION:Gottesdienst mit Abendmahl\n12. Sonntag nach Tinitatis\nWir freuen uns\, Sie zu diesem besonderen Dialog-Gottesdienst in der Friesenkapelle begrüßen zu dürfen. \nLeitung: Pastores Jochim Hartung & Rainer Chinnow\nMusik: Norddörfer Musikverein & Oliver Strempler \nUnsere Online-Gottesdienste finden Sie weiterhin auf unser homepage oder auf YouTube/Friesenkapelle.
URL:https://friesenkapelle.de/event/gottesdienst-mit-abendmahl-am-12-sonntag-nach-trinitatis-mit-den-pastores-jochim-hartung-rainer-chinnow-und-dem-norddoerfer-musikverein-und-27-08-2023/
LOCATION:Friesenkapelle am Dorfteich\, Bi Kiar 9\, Wenningstedt-Braderup\, 25996\, Deutschland
CATEGORIES:Gottesdienst
ATTACH;FMTTYPE=image/jpeg:https://friesenkapelle.de/wp-content/uploads/2022/12/Norddoerfer-Musikverein-Winterkonzert-2022-Foto.jpg
ORGANIZER;CN="Kirchengemeinde Nordd%C3%B6rfer":MAILTO:norddoerfer-kirchenbuero@t-online.de
END:VEVENT
BEGIN:VEVENT
DTSTART;TZID=Europe/Berlin:20230827T113000
DTEND;TZID=Europe/Berlin:20230827T120000
DTSTAMP:20260421T230555
CREATED:20230701T065919Z
LAST-MODIFIED:20230824T104447Z
UID:8642-1693135800-1693137600@friesenkapelle.de
SUMMARY:Kinderkirche am 12. Sonntag nach Trinitatis mit Pastor Rainer\, Tini\, Tiffany und Oliver
DESCRIPTION:Kinderkirche in der Friesenkapelle\n12. Sonntag nach Trinitatis\nWir freuen uns\, Euch zum Kindergottesdienst in der Friesenkapelle begrüßen zu dürfen.\nGemeinsam singen\, gemeinsam tanzen\, gemeinsam beten und dazu eine spannende Geschichte – das ist die Kinderkirche der Kirchengemeinde Norddörfer. \nMit Tini\, Tiffany und Oliver. \nUnsere Online-Kinderkirchen findet Ihr weiterhin auf unser homepage oder auf YouTube/Friesenkapelle.
URL:https://friesenkapelle.de/event/kinderkirche-am-12-sonntag-nach-trinitatis-mit-tini-tiffany-und-oliver-27-08-2023/
LOCATION:Friesenkapelle am Dorfteich\, Bi Kiar 9\, Wenningstedt-Braderup\, 25996\, Deutschland
CATEGORIES:Gottesdienst
ATTACH;FMTTYPE=image/jpeg:https://friesenkapelle.de/wp-content/uploads/2021/04/tiffany_image00039-scaled.jpg
ORGANIZER;CN="Kirchengemeinde Nordd%C3%B6rfer":MAILTO:norddoerfer-kirchenbuero@t-online.de
END:VEVENT
END:VCALENDAR