BEGIN:VCALENDAR
VERSION:2.0
PRODID:-//Friesenkapelle.de - ECPv6.15.20//NONSGML v1.0//EN
CALSCALE:GREGORIAN
METHOD:PUBLISH
X-WR-CALNAME:Friesenkapelle.de
X-ORIGINAL-URL:https://friesenkapelle.de
X-WR-CALDESC:Veranstaltungen für Friesenkapelle.de
REFRESH-INTERVAL;VALUE=DURATION:PT1H
X-Robots-Tag:noindex
X-PUBLISHED-TTL:PT1H
BEGIN:VTIMEZONE
TZID:Europe/Berlin
BEGIN:DAYLIGHT
TZOFFSETFROM:+0100
TZOFFSETTO:+0200
TZNAME:CEST
DTSTART:20220327T010000
END:DAYLIGHT
BEGIN:STANDARD
TZOFFSETFROM:+0200
TZOFFSETTO:+0100
TZNAME:CET
DTSTART:20221030T010000
END:STANDARD
BEGIN:DAYLIGHT
TZOFFSETFROM:+0100
TZOFFSETTO:+0200
TZNAME:CEST
DTSTART:20230326T010000
END:DAYLIGHT
BEGIN:STANDARD
TZOFFSETFROM:+0200
TZOFFSETTO:+0100
TZNAME:CET
DTSTART:20231029T010000
END:STANDARD
BEGIN:DAYLIGHT
TZOFFSETFROM:+0100
TZOFFSETTO:+0200
TZNAME:CEST
DTSTART:20240331T010000
END:DAYLIGHT
BEGIN:STANDARD
TZOFFSETFROM:+0200
TZOFFSETTO:+0100
TZNAME:CET
DTSTART:20241027T010000
END:STANDARD
END:VTIMEZONE
BEGIN:VEVENT
DTSTART;TZID=Europe/Berlin:20231001T100000
DTEND;TZID=Europe/Berlin:20231001T111500
DTSTAMP:20260421T153219
CREATED:20230824T111854Z
LAST-MODIFIED:20230924T222654Z
UID:8875-1696154400-1696158900@friesenkapelle.de
SUMMARY:Dialog-Gottesdienst mit Abendmahl am 17. Sonntag nach Trinitatis\, Erntedankfest mit Pastores Jochim Hartung & Rainer Chinnow
DESCRIPTION:Dialog-Gottesdienst mit Abendmahl\n17. Sonntag nach Tinitatis\, Erntedankfest \nWir freuen uns\, Sie zum Gottesdienst in der Friesenkapelle zu begrüßen. \nLeitung: Pastores Jochim Hartung & Rainer Chinnow\nMusik: Oliver Strempler \nUnsere Online-Gottesdienste finden Sie weiterhin auf unser homepage oder auf YouTube/Friesenkapelle.
URL:https://friesenkapelle.de/event/dialog-gottesdienst-mit-abendmahl-am-17-sonntag-nach-trinitatis-erntedankfest-mit-pastores-jochim-hartung-rainer-chinnow-01-10-2023/
LOCATION:Friesenkapelle am Dorfteich\, Bi Kiar 9\, Wenningstedt-Braderup\, 25996\, Deutschland
CATEGORIES:Gottesdienst
ATTACH;FMTTYPE=image/jpeg:https://friesenkapelle.de/wp-content/uploads/2022/01/IMG_9793-.jpg
ORGANIZER;CN="Kirchengemeinde Nordd%C3%B6rfer":MAILTO:norddoerfer-kirchenbuero@t-online.de
END:VEVENT
BEGIN:VEVENT
DTSTART;TZID=Europe/Berlin:20231001T113000
DTEND;TZID=Europe/Berlin:20231001T120000
DTSTAMP:20260421T153219
CREATED:20230924T223031Z
LAST-MODIFIED:20230924T223323Z
UID:8978-1696159800-1696161600@friesenkapelle.de
SUMMARY:Kinderkirche am 17. Sonntag nach Trinitatis\, Erntedankfest mit Tini\, Tiffany und Oliver
DESCRIPTION:Kinderkirche in der Friesenkapelle\n17. Sonntag nach Trinitatis\, Erntedankfest\nWir freuen uns\, Euch zum Kindergottesdienst in der Friesenkapelle begrüßen zu dürfen.\nGemeinsam singen\, gemeinsam tanzen\, gemeinsam beten und dazu eine spannende Geschichte – das ist die Kinderkirche der Kirchengemeinde Norddörfer. \nMit Tini\, Tiffany und Oliver. \nUnsere Online-Kinderkirchen findet Ihr weiterhin auf unser homepage oder auf YouTube/Friesenkapelle.
URL:https://friesenkapelle.de/event/kinderkirche-am-17-sonntag-nach-trinitatis-erntedankfest-mit-tini-tiffany-und-oliver-01-10-23/
LOCATION:Friesenkapelle am Dorfteich\, Bi Kiar 9\, Wenningstedt-Braderup\, 25996\, Deutschland
CATEGORIES:Gottesdienst
ATTACH;FMTTYPE=image/jpeg:https://friesenkapelle.de/wp-content/uploads/2021/04/tiffany_image00039-scaled.jpg
ORGANIZER;CN="Kirchengemeinde Nordd%C3%B6rfer":MAILTO:norddoerfer-kirchenbuero@t-online.de
END:VEVENT
BEGIN:VEVENT
DTSTART;TZID=Europe/Berlin:20231008T100000
DTEND;TZID=Europe/Berlin:20231008T110000
DTSTAMP:20260421T153219
CREATED:20230824T112244Z
LAST-MODIFIED:20230824T113508Z
UID:8878-1696759200-1696762800@friesenkapelle.de
SUMMARY:Gottesdienst am 18. Sonntag nach Trinitatis mit Pastor Rainer Chinnow
DESCRIPTION:Gottesdienst\n18. Sonntag nach Tinitatis\nWir freuen uns\, Sie zum Gottesdienst in der Friesenkapelle zu begrüßen. \nLeitung: Pastor Rainer Chinnow\nMusik: Oliver Strempler \nUnsere Online-Gottesdienste finden Sie weiterhin auf unser homepage oder auf YouTube/Friesenkapelle.
URL:https://friesenkapelle.de/event/gottesdienst-am-18-sonntag-nach-trinitatis-mit-pastor-rainer-chinnow-08-10-2023/
LOCATION:Friesenkapelle am Dorfteich\, Bi Kiar 9\, Wenningstedt-Braderup\, 25996\, Deutschland
CATEGORIES:Gottesdienst
ATTACH;FMTTYPE=image/jpeg:https://friesenkapelle.de/wp-content/uploads/2022/01/IMG_9793-.jpg
ORGANIZER;CN="Kirchengemeinde Nordd%C3%B6rfer":MAILTO:norddoerfer-kirchenbuero@t-online.de
END:VEVENT
BEGIN:VEVENT
DTSTART;TZID=Europe/Berlin:20231015T100000
DTEND;TZID=Europe/Berlin:20231015T111500
DTSTAMP:20260421T153219
CREATED:20230824T113615Z
LAST-MODIFIED:20230824T113809Z
UID:8886-1697364000-1697368500@friesenkapelle.de
SUMMARY:Gottesdienst mit Abendmahl am 19. Sonntag nach Trinitatis mit Pastor Rainer Chinnow
DESCRIPTION:Gottesdienst mit Abendmahl\n19. Sonntag nach Tinitatis\nWir freuen uns\, Sie zum Gottesdienst in der Friesenkapelle zu begrüßen. \nLeitung: Pastor Rainer Chinnow\nMusik: Oliver Strempler \nUnsere Online-Gottesdienste finden Sie weiterhin auf unser homepage oder auf YouTube/Friesenkapelle.
URL:https://friesenkapelle.de/event/gottesdienst-mit-abendmahl-am-19-sonntag-nach-trinitatis-mit-pastor-rainer-chinnow-15-10-23/
LOCATION:Friesenkapelle am Dorfteich\, Bi Kiar 9\, Wenningstedt-Braderup\, 25996\, Deutschland
CATEGORIES:Gottesdienst
ATTACH;FMTTYPE=image/jpeg:https://friesenkapelle.de/wp-content/uploads/2022/01/IMG_9793-.jpg
ORGANIZER;CN="Kirchengemeinde Nordd%C3%B6rfer":MAILTO:norddoerfer-kirchenbuero@t-online.de
END:VEVENT
BEGIN:VEVENT
DTSTART;TZID=Europe/Berlin:20231015T113000
DTEND;TZID=Europe/Berlin:20231015T120000
DTSTAMP:20260421T153219
CREATED:20231014T200107Z
LAST-MODIFIED:20231014T200604Z
UID:9004-1697369400-1697371200@friesenkapelle.de
SUMMARY:Kinderkirche am 19. Sonntag nach Trinitatis mit Oliver
DESCRIPTION:Kinderkirche in der Friesenkapelle\n19. Sonntag nach Trinitatis\nWir freuen uns\, Euch zum Kindergottesdienst in der Friesenkapelle begrüßen zu dürfen.\nGemeinsam singen\, gemeinsam tanzen\, gemeinsam beten und dazu eine spannende Geschichte – das ist die Kinderkirche der Kirchengemeinde Norddörfer. \nMit Tini\, Tiffany und Oliver. \nUnsere Online-Kinderkirchen findet Ihr weiterhin auf unser homepage oder auf YouTube/Friesenkapelle.
URL:https://friesenkapelle.de/event/kinderkirche-am-15-sonntag-nach-trinitatis-mit-tini-tiffany-und-oliver-15-10-23/
LOCATION:Friesenkapelle am Dorfteich\, Bi Kiar 9\, Wenningstedt-Braderup\, 25996\, Deutschland
CATEGORIES:Gottesdienst
ATTACH;FMTTYPE=image/jpeg:https://friesenkapelle.de/wp-content/uploads/2021/04/tiffany_image00039-scaled.jpg
ORGANIZER;CN="Kirchengemeinde Nordd%C3%B6rfer":MAILTO:norddoerfer-kirchenbuero@t-online.de
END:VEVENT
BEGIN:VEVENT
DTSTART;TZID=Europe/Berlin:20231022T100000
DTEND;TZID=Europe/Berlin:20231022T110000
DTSTAMP:20260421T153219
CREATED:20231016T113008Z
LAST-MODIFIED:20231016T113443Z
UID:9015-1697968800-1697972400@friesenkapelle.de
SUMMARY:Gottesdienst am 20. Sonntag nach Trinitatis mit Pastor Matthias Dreher
DESCRIPTION:Gottesdienst\n20. Sonntag nach Tinitatis\nWir freuen uns\, Sie zum Gottesdienst in der Friesenkapelle zu begrüßen. \nLeitung: Pastor Matthias Dreher\nMusik: Oliver Strempler \nUnsere Online-Gottesdienste finden Sie weiterhin auf unser homepage oder auf YouTube/Friesenkapelle.
URL:https://friesenkapelle.de/event/gottesdienst-am-20-sonntag-nach-trinitatis-mit-pastor-matthias-dreher-22-10-2023/
LOCATION:Friesenkapelle am Dorfteich\, Bi Kiar 9\, Wenningstedt-Braderup\, 25996\, Deutschland
CATEGORIES:Gottesdienst
ATTACH;FMTTYPE=image/jpeg:https://friesenkapelle.de/wp-content/uploads/2022/01/IMG_9793-.jpg
ORGANIZER;CN="Kirchengemeinde Nordd%C3%B6rfer":MAILTO:norddoerfer-kirchenbuero@t-online.de
END:VEVENT
BEGIN:VEVENT
DTSTART;TZID=Europe/Berlin:20231022T113000
DTEND;TZID=Europe/Berlin:20231022T120000
DTSTAMP:20260421T153219
CREATED:20231014T200415Z
LAST-MODIFIED:20231014T200520Z
UID:9007-1697974200-1697976000@friesenkapelle.de
SUMMARY:Kinderkirche am 20. Sonntag nach Trinitatis mit Oliver
DESCRIPTION:Kinderkirche in der Friesenkapelle\n20. Sonntag nach Trinitatis\nWir freuen uns\, Euch zum Kindergottesdienst in der Friesenkapelle begrüßen zu dürfen.\nGemeinsam singen\, gemeinsam tanzen\, gemeinsam beten und dazu eine spannende Geschichte – das ist die Kinderkirche der Kirchengemeinde Norddörfer. \nMit Oliver. \nUnsere Online-Kinderkirchen findet Ihr weiterhin auf unser homepage oder auf YouTube/Friesenkapelle.
URL:https://friesenkapelle.de/event/kinderkirche-am-15-sonntag-nach-trinitatis-mit-tini-tiffany-und-oliver-22-10-23/
LOCATION:Friesenkapelle am Dorfteich\, Bi Kiar 9\, Wenningstedt-Braderup\, 25996\, Deutschland
CATEGORIES:Gottesdienst
ATTACH;FMTTYPE=image/jpeg:https://friesenkapelle.de/wp-content/uploads/2021/04/tiffany_image00039-scaled.jpg
ORGANIZER;CN="Kirchengemeinde Nordd%C3%B6rfer":MAILTO:norddoerfer-kirchenbuero@t-online.de
END:VEVENT
BEGIN:VEVENT
DTSTART;TZID=Europe/Berlin:20231029T100000
DTEND;TZID=Europe/Berlin:20231029T110000
DTSTAMP:20260421T153219
CREATED:20231016T113540Z
LAST-MODIFIED:20231025T071911Z
UID:9018-1698573600-1698577200@friesenkapelle.de
SUMMARY:Dialog-Gottesdienst am 21. Sonntag nach Trinitatis mit Pastores Rainer Chinnow und Matthias Dreher
DESCRIPTION:Dialog-Gottesdienst\n21. Sonntag nach Tinitatis\nWir freuen uns\, Sie zum Gottesdienst in der Friesenkapelle zu begrüßen. \nLeitung: Pastores Rainer Chinnow und Matthias Dreher\nMusik: Beate Salzig \nUnsere Online-Gottesdienste finden Sie weiterhin auf unser homepage oder auf YouTube/Friesenkapelle.
URL:https://friesenkapelle.de/event/gottesdienst-am-21-sonntag-nach-trinitatis-mit-pastores-rainer-chinnow-und-matthias-dreher-29-10-2023/
LOCATION:Friesenkapelle am Dorfteich\, Bi Kiar 9\, Wenningstedt-Braderup\, 25996\, Deutschland
CATEGORIES:Gottesdienst
ATTACH;FMTTYPE=image/jpeg:https://friesenkapelle.de/wp-content/uploads/2022/01/IMG_9793-.jpg
ORGANIZER;CN="Kirchengemeinde Nordd%C3%B6rfer":MAILTO:norddoerfer-kirchenbuero@t-online.de
END:VEVENT
BEGIN:VEVENT
DTSTART;TZID=Europe/Berlin:20231029T113000
DTEND;TZID=Europe/Berlin:20231029T120000
DTSTAMP:20260421T153219
CREATED:20231014T200707Z
LAST-MODIFIED:20231016T120059Z
UID:9010-1698579000-1698580800@friesenkapelle.de
SUMMARY:Kinderkirche am 21. Sonntag nach Trinitatis mit Pastor Rainer & Beate
DESCRIPTION:Kinderkirche in der Friesenkapelle\n21. Sonntag nach Trinitatis\nWir freuen uns\, Euch zum Kindergottesdienst in der Friesenkapelle begrüßen zu dürfen.\nGemeinsam singen\, gemeinsam tanzen\, gemeinsam beten und dazu eine spannende Geschichte – das ist die Kinderkirche der Kirchengemeinde Norddörfer. \nMit Pastor Rainer & Beate. \nUnsere Online-Kinderkirchen findet Ihr weiterhin auf unser homepage oder auf YouTube/Friesenkapelle.
URL:https://friesenkapelle.de/event/kinderkirche-am-15-sonntag-nach-trinitatis-mit-tini-tiffany-und-oliver-29-10-23/
LOCATION:Friesenkapelle am Dorfteich\, Bi Kiar 9\, Wenningstedt-Braderup\, 25996\, Deutschland
CATEGORIES:Gottesdienst
ATTACH;FMTTYPE=image/jpeg:https://friesenkapelle.de/wp-content/uploads/2021/04/tiffany_image00039-scaled.jpg
ORGANIZER;CN="Kirchengemeinde Nordd%C3%B6rfer":MAILTO:norddoerfer-kirchenbuero@t-online.de
END:VEVENT
END:VCALENDAR