BEGIN:VCALENDAR
VERSION:2.0
PRODID:-//Friesenkapelle.de - ECPv6.15.20//NONSGML v1.0//EN
CALSCALE:GREGORIAN
METHOD:PUBLISH
X-WR-CALNAME:Friesenkapelle.de
X-ORIGINAL-URL:https://friesenkapelle.de
X-WR-CALDESC:Veranstaltungen für Friesenkapelle.de
REFRESH-INTERVAL;VALUE=DURATION:PT1H
X-Robots-Tag:noindex
X-PUBLISHED-TTL:PT1H
BEGIN:VTIMEZONE
TZID:Europe/Berlin
BEGIN:DAYLIGHT
TZOFFSETFROM:+0100
TZOFFSETTO:+0200
TZNAME:CEST
DTSTART:20230326T010000
END:DAYLIGHT
BEGIN:STANDARD
TZOFFSETFROM:+0200
TZOFFSETTO:+0100
TZNAME:CET
DTSTART:20231029T010000
END:STANDARD
BEGIN:DAYLIGHT
TZOFFSETFROM:+0100
TZOFFSETTO:+0200
TZNAME:CEST
DTSTART:20240331T010000
END:DAYLIGHT
BEGIN:STANDARD
TZOFFSETFROM:+0200
TZOFFSETTO:+0100
TZNAME:CET
DTSTART:20241027T010000
END:STANDARD
BEGIN:DAYLIGHT
TZOFFSETFROM:+0100
TZOFFSETTO:+0200
TZNAME:CEST
DTSTART:20250330T010000
END:DAYLIGHT
BEGIN:STANDARD
TZOFFSETFROM:+0200
TZOFFSETTO:+0100
TZNAME:CET
DTSTART:20251026T010000
END:STANDARD
END:VTIMEZONE
BEGIN:VEVENT
DTSTART;TZID=Europe/Berlin:20240407T113000
DTEND;TZID=Europe/Berlin:20240407T120000
DTSTAMP:20260420T141640
CREATED:20240312T121637Z
LAST-MODIFIED:20240312T123732Z
UID:9563-1712489400-1712491200@friesenkapelle.de
SUMMARY:Kinderkirche am Sonntag Quasimodogeniti mit Pastorin Gundula und Oliver
DESCRIPTION:Kinderkirche in der Friesenkapelle\nSonntag Quasimodogeniti\nWir freuen uns\, Euch zum Kindergottesdienst in der Friesenkapelle begrüßen zu dürfen.\nGemeinsam singen\, gemeinsam tanzen\, gemeinsam beten und dazu eine spannende Geschichte – das ist die Kinderkirche der Kirchengemeinde Norddörfer.\nMit Pastorin Gundula\, Tini\, Tiffany und Oliver. \nUnsere Online-Kinderkirchen findet Ihr weiterhin auf unser homepage oder auf YouTube/Friesenkapelle.
URL:https://friesenkapelle.de/event/kinderkirche-am-sonntag-quasimodogeniti-mit-pastorin-gundula-und-oliver-07-04-2024/
LOCATION:Friesenkapelle am Dorfteich\, Bi Kiar 9\, Wenningstedt-Braderup\, 25996\, Deutschland
CATEGORIES:Gottesdienst
ATTACH;FMTTYPE=image/jpeg:https://friesenkapelle.de/wp-content/uploads/2021/04/tiffany_image00039-scaled.jpg
ORGANIZER;CN="Kirchengemeinde Nordd%C3%B6rfer":MAILTO:norddoerfer-kirchenbuero@t-online.de
END:VEVENT
BEGIN:VEVENT
DTSTART;TZID=Europe/Berlin:20240414T113000
DTEND;TZID=Europe/Berlin:20240414T120000
DTSTAMP:20260420T141640
CREATED:20240313T151408Z
LAST-MODIFIED:20240325T102426Z
UID:9583-1713094200-1713096000@friesenkapelle.de
SUMMARY:Segnungs-Gottesdienst in der Kinderkirche am Sonntag Misericordias Domini mit Pastor Rainer\, Tiffany\, Tini & Oliver
DESCRIPTION:Segnungsgottesdienst in der Kinderkirche\nSonntag Misericordias Domini\nWir freuen uns\, Euch zum Kindergottesdienst in der Friesenkapelle begrüßen zu dürfen.\nSeit Jahren können sich nicht nur Erwachsenen\, sondern auch Kinder in der Friesenkapelle segnen lassen – auf Sylt gibt es das sonst nirgendwo. Entstanden ist die Zeremonie auf Anfrage der benachbarten Syltklinik. Dort erholen sich Familien mit einem krebskranken Kind.\n„Wir singen laut! Wir singen fröhlich! Wir singen schön!“\, ruft Pastor Rainer Chinnow den Kindern zu. Begleitet von Oliver Stremplers Gitarre singen die Kleinen lauthals und mit strahlenden Augen. Die Erwachsenen singen auch\, zurückhaltender\, fast ein bisschen schüchtern. Die fröhliche Leichtigkeit der Kinder berührt\, wenn man weiß: Einige der Kleinen sind Patienten der benachbarten Syltklinik. Dorthin kommen Familien mit einem krebskranken Kind\, um sich von der kräftezehrenden Therapie zu erholen. Neue Kraft sollen sie auch in der Kirche und durch Gottes Segen schöpfen.\n„Den Segnungsgottesdienst für Erwachsene machen wir schon immer. Vor einigen Jahren fragte uns eine Mitarbeiterin der Syltklinik\, ob wir das nicht auch für Kinder tun können“\, erzählt Pastor Rainer Chinnow. Er konnte. Ungefähr alle vier Wochen ist die erste Reihe der Friesenkapelle seitdem den Kleinen vorbehalten: Inselkinder und Urlaubskinder zelebrieren in fröhlicher Gemeinschaft mit den Kindern der Syltklinik den Kindersegnungs-Gottesdienst. Den gibt es auf Sylt nur in Wenningstedt. \nmit Pastor Rainer\, Tiffany\, Tini & Oliver. \nUnsere Online-Kinderkirchen findet Ihr weiterhin auf unser homepage oder auf YouTube/Friesenkapelle.
URL:https://friesenkapelle.de/event/segnungsgottesdienst-in-der-kinderkirche-am-sonntag-misericordias-domini-mit-pastor-rainer-tiffany-tini-oliver-14-4-2024/
LOCATION:Friesenkapelle am Dorfteich\, Bi Kiar 9\, Wenningstedt-Braderup\, 25996\, Deutschland
CATEGORIES:Gottesdienst
ATTACH;FMTTYPE=image/jpeg:https://friesenkapelle.de/wp-content/uploads/2021/04/tiffany_image00039-scaled.jpg
ORGANIZER;CN="Kirchengemeinde Nordd%C3%B6rfer":MAILTO:norddoerfer-kirchenbuero@t-online.de
END:VEVENT
BEGIN:VEVENT
DTSTART;TZID=Europe/Berlin:20240421T113000
DTEND;TZID=Europe/Berlin:20240421T120000
DTSTAMP:20260420T141640
CREATED:20240313T152307Z
LAST-MODIFIED:20240313T152434Z
UID:9590-1713699000-1713700800@friesenkapelle.de
SUMMARY:Kinderkirche am Sonntag Jubilate mit Tiffany\, Tini & Oliver
DESCRIPTION:Kinderkirche in der Friesenkapelle\nSonntag Jubilate\nWir freuen uns\, Euch zum Kindergottesdienst in der Friesenkapelle begrüßen zu dürfen.\nGemeinsam singen\, gemeinsam tanzen\, gemeinsam beten und dazu eine spannende Geschichte – das ist die Kinderkirche der Kirchengemeinde Norddörfer. \nMit Tiffany\, Tini & Oliver. \nUnsere Online-Kinderkirchen findet Ihr weiterhin auf unser homepage oder auf YouTube/Friesenkapelle.
URL:https://friesenkapelle.de/event/kinderkirche-am-sonntag-jubilate-mit-tiffany-tini-oliver-21-04-2024/
LOCATION:Friesenkapelle am Dorfteich\, Bi Kiar 9\, Wenningstedt-Braderup\, 25996\, Deutschland
CATEGORIES:Gottesdienst
ATTACH;FMTTYPE=image/jpeg:https://friesenkapelle.de/wp-content/uploads/2021/04/tiffany_image00039-scaled.jpg
ORGANIZER;CN="Kirchengemeinde Nordd%C3%B6rfer":MAILTO:norddoerfer-kirchenbuero@t-online.de
END:VEVENT
BEGIN:VEVENT
DTSTART;TZID=Europe/Berlin:20240428T113000
DTEND;TZID=Europe/Berlin:20240428T120000
DTSTAMP:20260420T141640
CREATED:20240313T152449Z
LAST-MODIFIED:20240313T152550Z
UID:9593-1714303800-1714305600@friesenkapelle.de
SUMMARY:Kinderkirche am Sonntag Cantate mit Tiffany\, Tini & Oliver
DESCRIPTION:Kinderkirche in der Friesenkapelle\nSonntag Cantate\nWir freuen uns\, Euch zum Kindergottesdienst in der Friesenkapelle begrüßen zu dürfen.\nGemeinsam singen\, gemeinsam tanzen\, gemeinsam beten und dazu eine spannende Geschichte – das ist die Kinderkirche der Kirchengemeinde Norddörfer. \nMit Tiffany\, Tini & Oliver. \nUnsere Online-Kinderkirchen findet Ihr weiterhin auf unser homepage oder auf YouTube/Friesenkapelle.
URL:https://friesenkapelle.de/event/kinderkirche-am-sonntag-cantate-mit-tiffany-tini-oliver-28-04-2024/
LOCATION:Friesenkapelle am Dorfteich\, Bi Kiar 9\, Wenningstedt-Braderup\, 25996\, Deutschland
CATEGORIES:Gottesdienst
ATTACH;FMTTYPE=image/jpeg:https://friesenkapelle.de/wp-content/uploads/2021/04/tiffany_image00039-scaled.jpg
ORGANIZER;CN="Kirchengemeinde Nordd%C3%B6rfer":MAILTO:norddoerfer-kirchenbuero@t-online.de
END:VEVENT
END:VCALENDAR