BEGIN:VCALENDAR
VERSION:2.0
PRODID:-//Friesenkapelle.de - ECPv6.15.20//NONSGML v1.0//EN
CALSCALE:GREGORIAN
METHOD:PUBLISH
X-WR-CALNAME:Friesenkapelle.de
X-ORIGINAL-URL:https://friesenkapelle.de
X-WR-CALDESC:Veranstaltungen für Friesenkapelle.de
REFRESH-INTERVAL;VALUE=DURATION:PT1H
X-Robots-Tag:noindex
X-PUBLISHED-TTL:PT1H
BEGIN:VTIMEZONE
TZID:Europe/Berlin
BEGIN:DAYLIGHT
TZOFFSETFROM:+0100
TZOFFSETTO:+0200
TZNAME:CEST
DTSTART:20240331T010000
END:DAYLIGHT
BEGIN:STANDARD
TZOFFSETFROM:+0200
TZOFFSETTO:+0100
TZNAME:CET
DTSTART:20241027T010000
END:STANDARD
BEGIN:DAYLIGHT
TZOFFSETFROM:+0100
TZOFFSETTO:+0200
TZNAME:CEST
DTSTART:20250330T010000
END:DAYLIGHT
BEGIN:STANDARD
TZOFFSETFROM:+0200
TZOFFSETTO:+0100
TZNAME:CET
DTSTART:20251026T010000
END:STANDARD
BEGIN:DAYLIGHT
TZOFFSETFROM:+0100
TZOFFSETTO:+0200
TZNAME:CEST
DTSTART:20260329T010000
END:DAYLIGHT
BEGIN:STANDARD
TZOFFSETFROM:+0200
TZOFFSETTO:+0100
TZNAME:CET
DTSTART:20261025T010000
END:STANDARD
END:VTIMEZONE
BEGIN:VEVENT
DTSTART;TZID=Europe/Berlin:20250202T100000
DTEND;TZID=Europe/Berlin:20250202T110000
DTSTAMP:20260421T212411
CREATED:20250116T090339Z
LAST-MODIFIED:20250116T090642Z
UID:10739-1738490400-1738494000@friesenkapelle.de
SUMMARY:Gottesdienst am letzten Sonntag nach Epiphanias mit Diakonin Emily Walter
DESCRIPTION:Gottesdienst\nLetzter Sonntag nach Epiphanias\nWir freuen uns\, Sie zum Gottesdienst in der Friesenkapelle zu begrüßen. \nLeitung: Diakonin Emily Walter\nMusik: Beate Salzig \nUnsere Online-Gottesdienste finden Sie weiterhin auf unser homepage oder auf YouTube/Friesenkapelle.
URL:https://friesenkapelle.de/event/gottesdienst-am-letzten-sonntag-nach-epiphanias-mit-diakonin-emily-walter-2-2-2025/
LOCATION:Friesenkapelle am Dorfteich\, Bi Kiar 9\, Wenningstedt-Braderup\, 25996\, Deutschland
CATEGORIES:Gottesdienst
ATTACH;FMTTYPE=image/jpeg:https://friesenkapelle.de/wp-content/uploads/2017/09/friesenkapelle_winter-1.jpg
ORGANIZER;CN="Kirchengemeinde Nordd%C3%B6rfer":MAILTO:norddoerfer-kirchenbuero@t-online.de
END:VEVENT
BEGIN:VEVENT
DTSTART;TZID=Europe/Berlin:20250202T113000
DTEND;TZID=Europe/Berlin:20250202T120000
DTSTAMP:20260421T212411
CREATED:20250116T085352Z
LAST-MODIFIED:20250116T085747Z
UID:10728-1738495800-1738497600@friesenkapelle.de
SUMMARY:Kinderkirche am letzten Sonntag nach Epiphanias mit Emily
DESCRIPTION:Kinderkirche in der Friesenkapelle\nLetzter Sonntag nach Epiphanias\nWir freuen uns\, Euch zum Kindergottesdienst in der Friesenkapelle begrüßen zu dürfen.\nGemeinsam singen\, gemeinsam tanzen\, gemeinsam beten und dazu eine spannende Geschichte – das ist die Kinderkirche der Kirchengemeinde Norddörfer. \nMit Emily \nUnsere Online-Kinderkirchen findet Ihr weiterhin auf unser homepage oder auf YouTube/Friesenkapelle.
URL:https://friesenkapelle.de/event/kinderkirche-am-letzten-sonntag-nach-epiphanias-mit-emily-2-2-2025/
LOCATION:Friesenkapelle am Dorfteich\, Bi Kiar 9\, Wenningstedt-Braderup\, 25996\, Deutschland
CATEGORIES:Gottesdienst
ATTACH;FMTTYPE=image/jpeg:https://friesenkapelle.de/wp-content/uploads/2021/04/tiffany_image00039-scaled.jpg
ORGANIZER;CN="Kirchengemeinde Nordd%C3%B6rfer":MAILTO:norddoerfer-kirchenbuero@t-online.de
END:VEVENT
BEGIN:VEVENT
DTSTART;TZID=Europe/Berlin:20250209T100000
DTEND;TZID=Europe/Berlin:20250209T110000
DTSTAMP:20260421T212411
CREATED:20250116T090709Z
LAST-MODIFIED:20250116T090954Z
UID:10742-1739095200-1739098800@friesenkapelle.de
SUMMARY:Gottesdienst am 4. Sonntag vor der Passionszeit mit Pastorin Anja Lochner
DESCRIPTION:Gottesdienst\n4. Sonntag vor der Passionszeit\nWir freuen uns\, Sie zum Gottesdienst in der Friesenkapelle zu begrüßen. \nLeitung: Pastorin Anja Lochner\nMusik: Beate Salzig \nUnsere Online-Gottesdienste finden Sie weiterhin auf unser homepage oder auf YouTube/Friesenkapelle.
URL:https://friesenkapelle.de/event/gottesdienst-am-4-sonntag-vor-der-passionszeit-mit-pastorin-anja-lochner-9-2-2025/
LOCATION:Friesenkapelle am Dorfteich\, Bi Kiar 9\, Wenningstedt-Braderup\, 25996\, Deutschland
CATEGORIES:Gottesdienst
ATTACH;FMTTYPE=image/jpeg:https://friesenkapelle.de/wp-content/uploads/2017/09/friesenkapelle_winter-1.jpg
ORGANIZER;CN="Kirchengemeinde Nordd%C3%B6rfer":MAILTO:norddoerfer-kirchenbuero@t-online.de
END:VEVENT
BEGIN:VEVENT
DTSTART;TZID=Europe/Berlin:20250209T113000
DTEND;TZID=Europe/Berlin:20250209T120000
DTSTAMP:20260421T212411
CREATED:20250116T085554Z
LAST-MODIFIED:20250116T085714Z
UID:10731-1739100600-1739102400@friesenkapelle.de
SUMMARY:Kinderkirche am 4. Sonntag vor der Passionszeit mit Emily
DESCRIPTION:Kinderkirche in der Friesenkapelle\n4. Sonntag vor der Passionszeit\nWir freuen uns\, Euch zum Kindergottesdienst in der Friesenkapelle begrüßen zu dürfen.\nGemeinsam singen\, gemeinsam tanzen\, gemeinsam beten und dazu eine spannende Geschichte – das ist die Kinderkirche der Kirchengemeinde Norddörfer. \nMit Emily \nUnsere Online-Kinderkirchen findet Ihr weiterhin auf unser homepage oder auf YouTube/Friesenkapelle.
URL:https://friesenkapelle.de/event/kinderkirche-am-4-sonntag-vor-der-passionszeit-mit-emily-9-2-2025/
LOCATION:Friesenkapelle am Dorfteich\, Bi Kiar 9\, Wenningstedt-Braderup\, 25996\, Deutschland
CATEGORIES:Gottesdienst
ATTACH;FMTTYPE=image/jpeg:https://friesenkapelle.de/wp-content/uploads/2021/04/tiffany_image00039-scaled.jpg
ORGANIZER;CN="Kirchengemeinde Nordd%C3%B6rfer":MAILTO:norddoerfer-kirchenbuero@t-online.de
END:VEVENT
BEGIN:VEVENT
DTSTART;TZID=Europe/Berlin:20250216T100000
DTEND;TZID=Europe/Berlin:20250216T111500
DTSTAMP:20260421T212411
CREATED:20250116T091019Z
LAST-MODIFIED:20250129T073959Z
UID:10745-1739700000-1739704500@friesenkapelle.de
SUMMARY:Vorstellungsgottesdienst der Konfirman:innen am Sonntag Septuagesimae mit Pastor Rainer Chinnow und Diakonin Emily Walter
DESCRIPTION:Vorstellungsgottesdienst der Konfirmanden\nSonntag Septuagesimae\nWir freuen uns\, Sie zum Gottesdienst in der Friesenkapelle zu begrüßen. \nLeitung: Pastor Rainer Chinnow und Diakonin Emily Walter\nMusik: Oliver Strempler \nUnsere Online-Gottesdienste finden Sie weiterhin auf unser homepage oder auf YouTube/Friesenkapelle.
URL:https://friesenkapelle.de/event/vorstellungsgottesdienst-der-konfirmanden-am-sonntag-septuagesimae-mit-pastor-rainer-chinnow-und-diakonin-emily-walter-16-2-2025/
LOCATION:Friesenkapelle am Dorfteich\, Bi Kiar 9\, Wenningstedt-Braderup\, 25996\, Deutschland
CATEGORIES:Gottesdienst
ATTACH;FMTTYPE=image/jpeg:https://friesenkapelle.de/wp-content/uploads/2017/09/friesenkapelle_winter-1.jpg
ORGANIZER;CN="Kirchengemeinde Nordd%C3%B6rfer":MAILTO:norddoerfer-kirchenbuero@t-online.de
END:VEVENT
BEGIN:VEVENT
DTSTART;TZID=Europe/Berlin:20250216T113000
DTEND;TZID=Europe/Berlin:20250216T120000
DTSTAMP:20260421T212411
CREATED:20250116T085800Z
LAST-MODIFIED:20250116T085922Z
UID:10734-1739705400-1739707200@friesenkapelle.de
SUMMARY:Kinderkirche am Sonntag Septuagesimae mit Emily & Oliver
DESCRIPTION:Kinderkirche in der Friesenkapelle\nSonntag Septuagesimae\nWir freuen uns\, Euch zum Kindergottesdienst in der Friesenkapelle begrüßen zu dürfen.\nGemeinsam singen\, gemeinsam tanzen\, gemeinsam beten und dazu eine spannende Geschichte – das ist die Kinderkirche der Kirchengemeinde Norddörfer. \nMit Emily & Oliver \nUnsere Online-Kinderkirchen findet Ihr weiterhin auf unser homepage oder auf YouTube/Friesenkapelle.
URL:https://friesenkapelle.de/event/kinderkirche-am-sonntag-septuagesimae-mit-emily-oliver-16-2-2025/
LOCATION:Friesenkapelle am Dorfteich\, Bi Kiar 9\, Wenningstedt-Braderup\, 25996\, Deutschland
CATEGORIES:Gottesdienst
ATTACH;FMTTYPE=image/jpeg:https://friesenkapelle.de/wp-content/uploads/2021/04/tiffany_image00039-scaled.jpg
ORGANIZER;CN="Kirchengemeinde Nordd%C3%B6rfer":MAILTO:norddoerfer-kirchenbuero@t-online.de
END:VEVENT
BEGIN:VEVENT
DTSTART;TZID=Europe/Berlin:20250223T100000
DTEND;TZID=Europe/Berlin:20250223T111500
DTSTAMP:20260421T212411
CREATED:20250116T091538Z
LAST-MODIFIED:20250116T091748Z
UID:10748-1740304800-1740309300@friesenkapelle.de
SUMMARY:Gottesdienst mit Abendmahl am Sonntag Sexagesimae mit Pastor Rainer Chinnow
DESCRIPTION:Gottesdienst mit Abendmahl\nSonntag Sexagesimae\nWir freuen uns\, Sie zum Gottesdienst in der Friesenkapelle zu begrüßen. \nLeitung: Pastor Rainer Chinnow\nMusik: Oliver Strempler \nUnsere Online-Gottesdienste finden Sie weiterhin auf unser homepage oder auf YouTube/Friesenkapelle.
URL:https://friesenkapelle.de/event/gottesdienst-mit-abendmahl-am-sonntag-sexagesimae-mit-pastor-rainer-chinnow-23-2-2025/
LOCATION:Friesenkapelle am Dorfteich\, Bi Kiar 9\, Wenningstedt-Braderup\, 25996\, Deutschland
CATEGORIES:Gottesdienst
ATTACH;FMTTYPE=image/jpeg:https://friesenkapelle.de/wp-content/uploads/2017/09/friesenkapelle_winter-1.jpg
ORGANIZER;CN="Kirchengemeinde Nordd%C3%B6rfer":MAILTO:norddoerfer-kirchenbuero@t-online.de
END:VEVENT
BEGIN:VEVENT
DTSTART;TZID=Europe/Berlin:20250223T113000
DTEND;TZID=Europe/Berlin:20250223T120000
DTSTAMP:20260421T212411
CREATED:20250116T085948Z
LAST-MODIFIED:20250116T090055Z
UID:10737-1740310200-1740312000@friesenkapelle.de
SUMMARY:Kinderkirche am Sonntag Sexagesimae mit Emily & Oliver
DESCRIPTION:Kinderkirche in der Friesenkapelle\nSonntag Sexagesimae \nWir freuen uns\, Euch zum Kindergottesdienst in der Friesenkapelle begrüßen zu dürfen.\nGemeinsam singen\, gemeinsam tanzen\, gemeinsam beten und dazu eine spannende Geschichte – das ist die Kinderkirche der Kirchengemeinde Norddörfer. \nMit Emily & Oliver \nUnsere Online-Kinderkirchen findet Ihr weiterhin auf unser homepage oder auf YouTube/Friesenkapelle.
URL:https://friesenkapelle.de/event/kinderkirche-am-sonntag-sexagesimae-mit-emily-oliver-23-2-2025/
LOCATION:Friesenkapelle am Dorfteich\, Bi Kiar 9\, Wenningstedt-Braderup\, 25996\, Deutschland
CATEGORIES:Gottesdienst
ATTACH;FMTTYPE=image/jpeg:https://friesenkapelle.de/wp-content/uploads/2021/04/tiffany_image00039-scaled.jpg
ORGANIZER;CN="Kirchengemeinde Nordd%C3%B6rfer":MAILTO:norddoerfer-kirchenbuero@t-online.de
END:VEVENT
END:VCALENDAR