BEGIN:VCALENDAR
VERSION:2.0
PRODID:-//Friesenkapelle.de - ECPv6.15.20//NONSGML v1.0//EN
CALSCALE:GREGORIAN
METHOD:PUBLISH
X-WR-CALNAME:Friesenkapelle.de
X-ORIGINAL-URL:https://friesenkapelle.de
X-WR-CALDESC:Veranstaltungen für Friesenkapelle.de
REFRESH-INTERVAL;VALUE=DURATION:PT1H
X-Robots-Tag:noindex
X-PUBLISHED-TTL:PT1H
BEGIN:VTIMEZONE
TZID:Europe/Berlin
BEGIN:DAYLIGHT
TZOFFSETFROM:+0100
TZOFFSETTO:+0200
TZNAME:CEST
DTSTART:20250330T010000
END:DAYLIGHT
BEGIN:STANDARD
TZOFFSETFROM:+0200
TZOFFSETTO:+0100
TZNAME:CET
DTSTART:20251026T010000
END:STANDARD
BEGIN:DAYLIGHT
TZOFFSETFROM:+0100
TZOFFSETTO:+0200
TZNAME:CEST
DTSTART:20260329T010000
END:DAYLIGHT
BEGIN:STANDARD
TZOFFSETFROM:+0200
TZOFFSETTO:+0100
TZNAME:CET
DTSTART:20261025T010000
END:STANDARD
BEGIN:DAYLIGHT
TZOFFSETFROM:+0100
TZOFFSETTO:+0200
TZNAME:CEST
DTSTART:20270328T010000
END:DAYLIGHT
BEGIN:STANDARD
TZOFFSETFROM:+0200
TZOFFSETTO:+0100
TZNAME:CET
DTSTART:20271031T010000
END:STANDARD
END:VTIMEZONE
BEGIN:VEVENT
DTSTART;TZID=Europe/Berlin:20260201T100000
DTEND;TZID=Europe/Berlin:20260201T110000
DTSTAMP:20260420T015356
CREATED:20260112T083225Z
LAST-MODIFIED:20260118T090721Z
UID:12311-1769940000-1769943600@friesenkapelle.de
SUMMARY:Gottesdienst am letzten Sonntag nach Epiphanias mit Diakonin Sarah Sachs
DESCRIPTION:Gottesdienst\nLetzter Sonntag nach Epiphanias\nWir freuen uns\, Sie zum Gottesdienst in der Friesenkapelle zu begrüßen. \nLeitung: Diakonin Sarah Sachs\nMusik: Dmitry Egorov \nUnsere Online-Gottesdienste finden Sie weiterhin auf unser homepage oder auf YouTube/Friesenkapelle.
URL:https://friesenkapelle.de/event/gottesdienst-mit-abendmahl-am-2-sonntag-nach-epiphanias-mit-pastor-rainer-chinnow-18-01-2026-2-2/
LOCATION:Friesenkapelle am Dorfteich\, Bi Kiar 9\, Wenningstedt-Braderup\, 25996\, Deutschland
CATEGORIES:Gottesdienst
ATTACH;FMTTYPE=image/jpeg:https://friesenkapelle.de/wp-content/uploads/2017/09/friesenkapelle_winter-1.jpg
ORGANIZER;CN="Kirchengemeinde Nordd%C3%B6rfer":MAILTO:norddoerfer-kirchenbuero@t-online.de
END:VEVENT
BEGIN:VEVENT
DTSTART;TZID=Europe/Berlin:20260201T113000
DTEND;TZID=Europe/Berlin:20260201T120000
DTSTAMP:20260420T015356
CREATED:20260112T084439Z
LAST-MODIFIED:20260118T090834Z
UID:12319-1769945400-1769947200@friesenkapelle.de
SUMMARY:Kinderkirche am letzten Sonntag nach Epiphanias mit Sarah & Dmitry
DESCRIPTION:Kinderkirche in der Friesenkapelle\nLetzter Sonntag nach Epiphanias\nWir freuen uns\, Euch zum Kindergottesdienst in der Friesenkapelle begrüßen zu dürfen.\nGemeinsam singen\, gemeinsam tanzen\, gemeinsam beten und dazu eine spannende Geschichte – das ist die Kinderkirche der Kirchengemeinde Norddörfer. \nMit Sarah & Dmitry \nUnsere Online-Kinderkirchen findet Ihr weiterhin auf unser homepage oder auf YouTube/Friesenkapelle.
URL:https://friesenkapelle.de/event/kinderkirche-am-2-sonntag-nach-epiphanias-mit-pastor-rainer-beate-1-2-2026/
LOCATION:Friesenkapelle am Dorfteich\, Bi Kiar 9\, Wenningstedt-Braderup\, 25996\, Deutschland
CATEGORIES:Gottesdienst
ATTACH;FMTTYPE=image/jpeg:https://friesenkapelle.de/wp-content/uploads/2026/01/Kinderkirche-Sarahs-Kinder.jpg
ORGANIZER;CN="Kirchengemeinde Nordd%C3%B6rfer":MAILTO:norddoerfer-kirchenbuero@t-online.de
END:VEVENT
BEGIN:VEVENT
DTSTART;TZID=Europe/Berlin:20260208T100000
DTEND;TZID=Europe/Berlin:20260208T111500
DTSTAMP:20260420T015356
CREATED:20260118T091208Z
LAST-MODIFIED:20260118T091208Z
UID:12333-1770544800-1770549300@friesenkapelle.de
SUMMARY:Gottesdienst mit Abendmahl am Sonntag Sexagesimae mit Pastor Rainer Chinnow
DESCRIPTION:Gottesdienst mit Abendmahl\nSonntag Sexagesimae\nWir freuen uns\, Sie zum Gottesdienst in der Friesenkapelle zu begrüßen. \nLeitung: Pastor Rainer Chinnow\nMusik: Oliver Strempler \nUnsere Online-Gottesdienste finden Sie weiterhin auf unser homepage oder auf YouTube/Friesenkapelle.
URL:https://friesenkapelle.de/event/gottesdienst-mit-abendmahl-am-sonntag-sexagesimae-mit-pastor-rainer-chinnow-08-02-2026/
LOCATION:Friesenkapelle am Dorfteich\, Bi Kiar 9\, Wenningstedt-Braderup\, 25996\, Deutschland
CATEGORIES:Gottesdienst
ATTACH;FMTTYPE=image/jpeg:https://friesenkapelle.de/wp-content/uploads/2017/09/friesenkapelle_winter-1.jpg
ORGANIZER;CN="Kirchengemeinde Nordd%C3%B6rfer":MAILTO:norddoerfer-kirchenbuero@t-online.de
END:VEVENT
BEGIN:VEVENT
DTSTART;TZID=Europe/Berlin:20260208T113000
DTEND;TZID=Europe/Berlin:20260208T120000
DTSTAMP:20260420T015356
CREATED:20260118T091817Z
LAST-MODIFIED:20260202T100823Z
UID:12339-1770550200-1770552000@friesenkapelle.de
SUMMARY:Kinderkirche am Sonntag Sexagesimae mit Sarah & Oliver
DESCRIPTION:Kinderkirche in der Friesenkapelle\nSonntag Sexagesimae\nWir freuen uns\, Euch zum Kindergottesdienst in der Friesenkapelle begrüßen zu dürfen.\nGemeinsam singen\, gemeinsam tanzen\, gemeinsam beten und dazu eine spannende Geschichte – das ist die Kinderkirche der Kirchengemeinde Norddörfer. \nMit Sarah & Oliver \nUnsere Online-Kinderkirchen findet Ihr weiterhin auf unser homepage oder auf YouTube/Friesenkapelle.
URL:https://friesenkapelle.de/event/kinderkirche-am-2-sonntag-nach-epiphanias-mit-pastor-rainer-beate-1-2-2026-2/
LOCATION:Friesenkapelle am Dorfteich\, Bi Kiar 9\, Wenningstedt-Braderup\, 25996\, Deutschland
CATEGORIES:Gottesdienst
ATTACH;FMTTYPE=image/jpeg:https://friesenkapelle.de/wp-content/uploads/2026/01/Kinderkirche-Sarahs-Kinder.jpg
ORGANIZER;CN="Kirchengemeinde Nordd%C3%B6rfer":MAILTO:norddoerfer-kirchenbuero@t-online.de
END:VEVENT
BEGIN:VEVENT
DTSTART;TZID=Europe/Berlin:20260215T100000
DTEND;TZID=Europe/Berlin:20260215T111500
DTSTAMP:20260420T015356
CREATED:20260118T091401Z
LAST-MODIFIED:20260212T075252Z
UID:12335-1771149600-1771154100@friesenkapelle.de
SUMMARY:Vorstellungsgottesdienst der Konfirmand:innen am Sonntag Estomihi mit Diakonin Emily Walter
DESCRIPTION:Vorstellungsgottesdienst der Konfirmanden\nSonntag Estomihi\nWir freuen uns\, Sie zum Gottesdienst in der Friesenkapelle zu begrüßen. \nLeitung: Pastor Rainer Chinnow und Diakonin Emily Walter\nMusik: Oliver Strempler \nUnsere Online-Gottesdienste finden Sie weiterhin auf unser homepage oder auf YouTube/Friesenkapelle.
URL:https://friesenkapelle.de/event/vorstellungsgottesdienst-der-konfirmaninnen-am-sonntag-estomihi-mit-pastor-rainer-chinnow-und-diakonin-emily-walter-15-2-2026/
LOCATION:Friesenkapelle am Dorfteich\, Bi Kiar 9\, Wenningstedt-Braderup\, 25996\, Deutschland
CATEGORIES:Gottesdienst
ATTACH;FMTTYPE=image/jpeg:https://friesenkapelle.de/wp-content/uploads/2017/09/friesenkapelle_winter-1.jpg
ORGANIZER;CN="Kirchengemeinde Nordd%C3%B6rfer":MAILTO:norddoerfer-kirchenbuero@t-online.de
END:VEVENT
BEGIN:VEVENT
DTSTART;TZID=Europe/Berlin:20260215T113000
DTEND;TZID=Europe/Berlin:20260215T120000
DTSTAMP:20260420T015356
CREATED:20260118T092021Z
LAST-MODIFIED:20260202T101009Z
UID:12341-1771155000-1771156800@friesenkapelle.de
SUMMARY:Kinderkirche am Sonntag Estomihi mit Emily und den Konfirman:innen & Oliver
DESCRIPTION:Kinderkirche in der Friesenkapelle\nSonntag Estomihi\nWir freuen uns\, Euch zum Kindergottesdienst in der Friesenkapelle begrüßen zu dürfen.\nGemeinsam singen\, gemeinsam tanzen\, gemeinsam beten und dazu eine spannende Geschichte – das ist die Kinderkirche der Kirchengemeinde Norddörfer. \nMit Emily\, den Konfirman:innen & Oliver \nUnsere Online-Kinderkirchen findet Ihr weiterhin auf unser homepage oder auf YouTube/Friesenkapelle.
URL:https://friesenkapelle.de/event/kinderkirche-am-2-sonntag-nach-epiphanias-mit-pastor-rainer-beate-1-2-2026-2-2/
LOCATION:Friesenkapelle am Dorfteich\, Bi Kiar 9\, Wenningstedt-Braderup\, 25996\, Deutschland
CATEGORIES:Gottesdienst
ATTACH;FMTTYPE=image/jpeg:https://friesenkapelle.de/wp-content/uploads/2026/01/Kinderkirche-Sarahs-Kinder.jpg
ORGANIZER;CN="Kirchengemeinde Nordd%C3%B6rfer":MAILTO:norddoerfer-kirchenbuero@t-online.de
END:VEVENT
BEGIN:VEVENT
DTSTART;TZID=Europe/Berlin:20260222T100000
DTEND;TZID=Europe/Berlin:20260222T111500
DTSTAMP:20260420T015356
CREATED:20260118T091610Z
LAST-MODIFIED:20260118T091610Z
UID:12337-1771754400-1771758900@friesenkapelle.de
SUMMARY:Gottesdienst mit Abendmahl am Sonntag Invocavit mit Pastor Rainer Chinnow
DESCRIPTION:Gottesdienst mit Abendmahl\nSonntag Invocavit\nWir freuen uns\, Sie zum Gottesdienst in der Friesenkapelle zu begrüßen. \nLeitung: Pastor Rainer Chinnow\nMusik: Oliver Strempler \nUnsere Online-Gottesdienste finden Sie weiterhin auf unser homepage oder auf YouTube/Friesenkapelle.
URL:https://friesenkapelle.de/event/gottesdienst-mit-abendmahl-am-sonntag-invocavit-mit-pastor-rainer-chinnow-22-02-2026/
LOCATION:Friesenkapelle am Dorfteich\, Bi Kiar 9\, Wenningstedt-Braderup\, 25996\, Deutschland
CATEGORIES:Gottesdienst
ATTACH;FMTTYPE=image/jpeg:https://friesenkapelle.de/wp-content/uploads/2017/09/friesenkapelle_winter-1.jpg
ORGANIZER;CN="Kirchengemeinde Nordd%C3%B6rfer":MAILTO:norddoerfer-kirchenbuero@t-online.de
END:VEVENT
BEGIN:VEVENT
DTSTART;TZID=Europe/Berlin:20260222T113000
DTEND;TZID=Europe/Berlin:20260222T120000
DTSTAMP:20260420T015356
CREATED:20260118T092153Z
LAST-MODIFIED:20260118T092153Z
UID:12343-1771759800-1771761600@friesenkapelle.de
SUMMARY:Kinderkirche am Sonntag Invocavit mit Emily & Oliver
DESCRIPTION:Kinderkirche in der Friesenkapelle\nSonntag Invocavit\nWir freuen uns\, Euch zum Kindergottesdienst in der Friesenkapelle begrüßen zu dürfen.\nGemeinsam singen\, gemeinsam tanzen\, gemeinsam beten und dazu eine spannende Geschichte – das ist die Kinderkirche der Kirchengemeinde Norddörfer. \nMit Emily & Oliver \nUnsere Online-Kinderkirchen findet Ihr weiterhin auf unser homepage oder auf YouTube/Friesenkapelle.
URL:https://friesenkapelle.de/event/kinderkirche-am-2-sonntag-nach-epiphanias-mit-pastor-rainer-beate-1-2-2026-2-2-2/
LOCATION:Friesenkapelle am Dorfteich\, Bi Kiar 9\, Wenningstedt-Braderup\, 25996\, Deutschland
CATEGORIES:Gottesdienst
ATTACH;FMTTYPE=image/jpeg:https://friesenkapelle.de/wp-content/uploads/2026/01/Kinderkirche-Sarahs-Kinder.jpg
ORGANIZER;CN="Kirchengemeinde Nordd%C3%B6rfer":MAILTO:norddoerfer-kirchenbuero@t-online.de
END:VEVENT
END:VCALENDAR