BEGIN:VCALENDAR
VERSION:2.0
PRODID:-//Friesenkapelle.de - ECPv6.15.20//NONSGML v1.0//EN
CALSCALE:GREGORIAN
METHOD:PUBLISH
X-WR-CALNAME:Friesenkapelle.de
X-ORIGINAL-URL:https://friesenkapelle.de
X-WR-CALDESC:Veranstaltungen für Friesenkapelle.de
REFRESH-INTERVAL;VALUE=DURATION:PT1H
X-Robots-Tag:noindex
X-PUBLISHED-TTL:PT1H
BEGIN:VTIMEZONE
TZID:Europe/Berlin
BEGIN:DAYLIGHT
TZOFFSETFROM:+0100
TZOFFSETTO:+0200
TZNAME:CEST
DTSTART:20240331T010000
END:DAYLIGHT
BEGIN:STANDARD
TZOFFSETFROM:+0200
TZOFFSETTO:+0100
TZNAME:CET
DTSTART:20241027T010000
END:STANDARD
BEGIN:DAYLIGHT
TZOFFSETFROM:+0100
TZOFFSETTO:+0200
TZNAME:CEST
DTSTART:20250330T010000
END:DAYLIGHT
BEGIN:STANDARD
TZOFFSETFROM:+0200
TZOFFSETTO:+0100
TZNAME:CET
DTSTART:20251026T010000
END:STANDARD
BEGIN:DAYLIGHT
TZOFFSETFROM:+0100
TZOFFSETTO:+0200
TZNAME:CEST
DTSTART:20260329T010000
END:DAYLIGHT
BEGIN:STANDARD
TZOFFSETFROM:+0200
TZOFFSETTO:+0100
TZNAME:CET
DTSTART:20261025T010000
END:STANDARD
END:VTIMEZONE
BEGIN:VEVENT
DTSTART;TZID=Europe/Berlin:20250609T110000
DTEND;TZID=Europe/Berlin:20250609T120000
DTSTAMP:20260422T004024
CREATED:20250611T184238Z
LAST-MODIFIED:20250611T184238Z
UID:11193-1749466800-1749470400@friesenkapelle.de
SUMMARY:Ökumenischer Gottesdienst der Inselgemeinden in der St. Christopherus Kirche in Westerland
DESCRIPTION:Ökumenischer Gottesdienst\nPfingstmontag\nEin Mal im Jahr treffen sich die Sylter Pastoren und Pfarrer zu einem gemeinsamen Gottesdienst. Dieses Jahr wird die Veranstaltung in St. Christopherus Kirche in Westerland gefeiert.\nWir freuen uns\, Sie zu diesem Gottesdienst zu begrüßen. \nLeitung: die Sylter Pastoren und Pfarrer\nMusik: Christian Bechmann \nUnsere Online-Gottesdienste finden Sie weiterhin auf unser homepage oder auf YouTube/Friesenkapelle.
URL:https://friesenkapelle.de/event/oekumenischer-gottesdienst-der-inselgemeinden-in-der-st-christopherus-kirche-in-westerland-9-6-2025/
CATEGORIES:Gottesdienst
ATTACH;FMTTYPE=image/jpeg:https://friesenkapelle.de/wp-content/uploads/2024/04/image.jpeg
END:VEVENT
END:VCALENDAR