BEGIN:VCALENDAR
VERSION:2.0
PRODID:-//Friesenkapelle.de - ECPv6.15.20//NONSGML v1.0//EN
CALSCALE:GREGORIAN
METHOD:PUBLISH
X-ORIGINAL-URL:https://friesenkapelle.de
X-WR-CALDESC:Veranstaltungen für Friesenkapelle.de
REFRESH-INTERVAL;VALUE=DURATION:PT1H
X-Robots-Tag:noindex
X-PUBLISHED-TTL:PT1H
BEGIN:VTIMEZONE
TZID:Europe/Berlin
BEGIN:DAYLIGHT
TZOFFSETFROM:+0100
TZOFFSETTO:+0200
TZNAME:CEST
DTSTART:20220327T010000
END:DAYLIGHT
BEGIN:STANDARD
TZOFFSETFROM:+0200
TZOFFSETTO:+0100
TZNAME:CET
DTSTART:20221030T010000
END:STANDARD
BEGIN:DAYLIGHT
TZOFFSETFROM:+0100
TZOFFSETTO:+0200
TZNAME:CEST
DTSTART:20230326T010000
END:DAYLIGHT
BEGIN:STANDARD
TZOFFSETFROM:+0200
TZOFFSETTO:+0100
TZNAME:CET
DTSTART:20231029T010000
END:STANDARD
BEGIN:DAYLIGHT
TZOFFSETFROM:+0100
TZOFFSETTO:+0200
TZNAME:CEST
DTSTART:20240331T010000
END:DAYLIGHT
BEGIN:STANDARD
TZOFFSETFROM:+0200
TZOFFSETTO:+0100
TZNAME:CET
DTSTART:20241027T010000
END:STANDARD
END:VTIMEZONE
BEGIN:VEVENT
DTSTART;TZID=Europe/Berlin:20230305T100000
DTEND;TZID=Europe/Berlin:20230305T110000
DTSTAMP:20260425T012900
CREATED:20230107T052812Z
LAST-MODIFIED:20230223T102016Z
UID:7798-1678010400-1678014000@friesenkapelle.de
SUMMARY:Gottesdienst mit Abendmahl am Sonntag Reminiscere mit Pastores Jochim Hartung & Rainer Chinnow
DESCRIPTION:Gottesdienst mit Abendmahl\nSonntag Reminiscere \nWir freuen uns\, Sie zum Gottesdienst in der Friesenkapelle zu begrüßen. \nLeitung: Pastores Jochim Hartung & Rainer Chinnow\nMusik: Beate Salzig \nUnsere Online-Gottesdienste finden Sie weiterhin auf unser homepage oder auf YouTube/Friesenkapelle.
URL:https://friesenkapelle.de/event/gottesdienst-mit-abendmahl-am-sonntag-reminiscere-mit-pastor-rainer-chinnow-23-03-05/
LOCATION:Friesenkapelle am Dorfteich\, Bi Kiar 9\, Wenningstedt-Braderup\, 25996\, Deutschland
CATEGORIES:Gottesdienst
ATTACH;FMTTYPE=image/jpeg:https://friesenkapelle.de/wp-content/uploads/2022/01/IMG_9793-.jpg
ORGANIZER;CN="Kirchengemeinde Nordd%C3%B6rfer":MAILTO:norddoerfer-kirchenbuero@t-online.de
END:VEVENT
BEGIN:VEVENT
DTSTART;TZID=Europe/Berlin:20230312T100000
DTEND;TZID=Europe/Berlin:20230312T110000
DTSTAMP:20260425T012900
CREATED:20230107T053449Z
LAST-MODIFIED:20230223T102654Z
UID:7803-1678615200-1678618800@friesenkapelle.de
SUMMARY:Gospelgottesdienst am Sonntag Okuli mit Pastor Rainer Chinnow
DESCRIPTION:Gospelgottesdienst \nSonntag Okuli  \nAm 12. März 2023 findet nach einem Gospelworkshop mit dem Popkantor Manuel Schienke um 10.00 Uhr der Abschlussgottesdienst unter der Leitung von Pastor Rainer Chinnow in der Friesenkapelle am Dorfteich in Wenningstedt statt. Die Teilnehmer präsentieren ihre Ergebnisse nach 2 Tagen intensiver Chorarbeit und freuen sich über zahlreiche Besucher. \nWir freuen uns\, Sie zum Gottesdienst in der Friesenkapelle zu begrüßen. \nLeitung: Pastor Rainer Chinnow\nMusik: Island Voice unter der Leitung von Popkantor Manuel Schienke \nUnsere Online-Gottesdienste finden Sie weiterhin auf unser homepage oder auf YouTube/Friesenkapelle.
URL:https://friesenkapelle.de/event/gottesdienst-am-sonntag-okuli-mit-pastor-rainer-chinnow-23-03-12/
LOCATION:Friesenkapelle am Dorfteich\, Bi Kiar 9\, Wenningstedt-Braderup\, 25996\, Deutschland
CATEGORIES:Gottesdienst
ATTACH;FMTTYPE=image/jpeg:https://friesenkapelle.de/wp-content/uploads/2019/11/WEB-AV-3891.jpeg
ORGANIZER;CN="Kirchengemeinde Nordd%C3%B6rfer":MAILTO:norddoerfer-kirchenbuero@t-online.de
END:VEVENT
BEGIN:VEVENT
DTSTART;TZID=Europe/Berlin:20230313T193000
DTEND;TZID=Europe/Berlin:20230313T210000
DTSTAMP:20260425T012900
CREATED:20230213T151008Z
LAST-MODIFIED:20230304T175223Z
UID:7963-1678735800-1678741200@friesenkapelle.de
SUMMARY:Oliver Strempler singt Leonard Cohen„Hallelujah\, Suzanne“
DESCRIPTION:Hallelujah\, SuzanneOliver Strempler interpretiert Songs von Leonard Cohen \nDer kanadische Dichter und Sänger Leonard Cohen fasziniert seit Jahrzehnten das Publikum. Besonders erfolgreich war er am Beginn seiner Karriere Ende der 60er\, Anfang der 70er Jahre. Es gab praktisch keinen Haushalt\, in dem sich keine Leonard Cohen Platte fand. Alle liebten die mysteriöse Suzanne und fragten sich\, wohin wohl die Marianne verabschiedet wurde. Man überlegte\, was es mit dem Vogel auf dem Kabel auf sich hatte. Man verstand ja auch nicht alles. Besonders erfolgreich war dann in Deutschland Lover\, Lover\, Lover aus dem Jahr 1974.\nFür Leonard Cohen völlig unerwartet: noch erfolgreicher wurde er dann als über 70-jähriger auf den fast 500 Konzerten seiner beiden letzten Welt-Tourneen zwischen 2008 und 2013. Die Fans liebten und feierten ihn und er liebte und feierte seine Fans.\nViele seiner Lieder wie „Suzanne“\, „Hallelujah“\, „Bird On the Wire“ genießen seit Jahren Kultstatus und wurden von Musikern wie Johnny Cash\, Nick Cave\, Joe Cocker\, Billy Joel\, Elton John\, R.E.M.\, Sting oder U2 gecovert.\nUnser Kirchenmusiker Oliver Strempler interpretiert die zeitlosen Lieder des „Godfather of Song“.\nDie Songs werden mit einleitenden deutschen Erläuterungen präsentiert. \nFriesenkapelle am Dorfteich\nMontag\, 13. März 2023\nBeginn 19.30 Uhr\nEinlaß 19.00 Uhr\nEintritt: 20 € \nTicketverkauf in den Tourismus-Services der Insel\, an der Abendkasse oder online.
URL:https://friesenkapelle.de/event/konzert-oliver-strempler-singt-leonard-cohen-23-03-13/
LOCATION:Friesenkapelle am Dorfteich\, Bi Kiar 9\, Wenningstedt-Braderup\, 25996\, Deutschland
CATEGORIES:Veranstaltungen
ATTACH;FMTTYPE=image/jpeg:https://friesenkapelle.de/wp-content/uploads/2017/04/RAY8641_banana_colour_2_FB.jpg
ORGANIZER;CN="Kirchengemeinde Nordd%C3%B6rfer":MAILTO:norddoerfer-kirchenbuero@t-online.de
END:VEVENT
BEGIN:VEVENT
DTSTART;TZID=Europe/Berlin:20230319T100000
DTEND;TZID=Europe/Berlin:20230319T110000
DTSTAMP:20260425T012900
CREATED:20230107T053329Z
LAST-MODIFIED:20230226T123045Z
UID:7801-1679220000-1679223600@friesenkapelle.de
SUMMARY:Gottesdienst mit Abendmahl am Sonntag Laetare mit Pastor Rainer Chinnow
DESCRIPTION:Gottesdienst mit Abendmahl\nSonntag Laetare \nWir freuen uns\, Sie zum Gottesdienst in der Friesenkapelle zu begrüßen. \nLeitung: Pastor Rainer Chinnow\nMusik: Oliver Strempler \nUnsere Online-Gottesdienste finden Sie weiterhin auf unser homepage oder auf YouTube/Friesenkapelle.
URL:https://friesenkapelle.de/event/gottesdienst-mit-abendmahl-am-sonntag-laetare-mit-pastor-rainer-chinnow-23-03-19/
LOCATION:Friesenkapelle am Dorfteich\, Bi Kiar 9\, Wenningstedt-Braderup\, 25996\, Deutschland
CATEGORIES:Gottesdienst
ATTACH;FMTTYPE=image/jpeg:https://friesenkapelle.de/wp-content/uploads/2022/01/IMG_9793-.jpg
ORGANIZER;CN="Kirchengemeinde Nordd%C3%B6rfer":MAILTO:norddoerfer-kirchenbuero@t-online.de
END:VEVENT
BEGIN:VEVENT
DTSTART;TZID=Europe/Berlin:20230319T113000
DTEND;TZID=Europe/Berlin:20230319T120000
DTSTAMP:20260425T012900
CREATED:20230106T111511Z
LAST-MODIFIED:20230226T123112Z
UID:7791-1679225400-1679227200@friesenkapelle.de
SUMMARY:Kinderkirche am Sonntag Laetare mit Pastor Rainer\, Tini\, Tiffany und Oliver
DESCRIPTION:Kinderkirche in der Friesenkapelle\nSonntag Laetare \nWir freuen uns\, Euch zum Kindergottesdienst in der Friesenkapelle begrüßen zu dürfen.\nGemeinsam singen\, gemeinsam tanzen\, gemeinsam beten und dazu eine spannende Geschichte – das ist die Kinderkirche der Kirchengemeinde Norddörfer.\nMit Pastor Rainer\, Tini\, Tiffany und Oliver. \nUnsere Online-Kinderkirchen findet Ihr weiterhin auf unser homepage oder auf YouTube/Friesenkapelle.
URL:https://friesenkapelle.de/event/kinderkirche-am-sonntag-laetare-mit-pastor-rainer-tini-tiffany-und-oliver-23-03-19/
LOCATION:Friesenkapelle am Dorfteich\, Bi Kiar 9\, Wenningstedt-Braderup\, 25996\, Deutschland
CATEGORIES:Gottesdienst
ATTACH;FMTTYPE=image/jpeg:https://friesenkapelle.de/wp-content/uploads/2021/04/tiffany_image00039-scaled.jpg
ORGANIZER;CN="Kirchengemeinde Nordd%C3%B6rfer":MAILTO:norddoerfer-kirchenbuero@t-online.de
END:VEVENT
BEGIN:VEVENT
DTSTART;TZID=Europe/Berlin:20230326T100000
DTEND;TZID=Europe/Berlin:20230326T110000
DTSTAMP:20260425T012900
CREATED:20230107T053856Z
LAST-MODIFIED:20230308T080920Z
UID:7807-1679824800-1679828400@friesenkapelle.de
SUMMARY:Gottesdienst am Sonntag Judika mit Pastor Rainer Chinnow
DESCRIPTION:Gottesdienst\nSonntag Judika \nWir freuen uns\, Sie zum Gottesdienst in der Friesenkapelle zu begrüßen. \nLeitung: Pastor Rainer Chinnow\nMusik: Oliver Strempler \nUnsere Online-Gottesdienste finden Sie weiterhin auf unser homepage oder auf YouTube/Friesenkapelle.
URL:https://friesenkapelle.de/event/gottesdienst-am-sonntag-judika-mit-dem-team-der-kirchengemeinde-norddoerfer-23-03-26/
LOCATION:Friesenkapelle am Dorfteich\, Bi Kiar 9\, Wenningstedt-Braderup\, 25996\, Deutschland
CATEGORIES:Gottesdienst
ATTACH;FMTTYPE=image/jpeg:https://friesenkapelle.de/wp-content/uploads/2022/01/IMG_9793-.jpg
ORGANIZER;CN="Kirchengemeinde Nordd%C3%B6rfer":MAILTO:norddoerfer-kirchenbuero@t-online.de
END:VEVENT
BEGIN:VEVENT
DTSTART;TZID=Europe/Berlin:20230326T113000
DTEND;TZID=Europe/Berlin:20230326T120000
DTSTAMP:20260425T012900
CREATED:20230106T111702Z
LAST-MODIFIED:20230226T123311Z
UID:7794-1679830200-1679832000@friesenkapelle.de
SUMMARY:Kinderkirche am Sonntag Judika mit Tini\, Tiffany und Oliver
DESCRIPTION:Kinderkirche in der Friesenkapelle\nSonntag Judika \nWir freuen uns\, Euch zum Kindergottesdienst in der Friesenkapelle begrüßen zu dürfen.\nGemeinsam singen\, gemeinsam tanzen\, gemeinsam beten und dazu eine spannende Geschichte – das ist die Kinderkirche der Kirchengemeinde Norddörfer.\nMit Tini\, Tiffany\, Katrin und Oliver. \nUnsere Online-Kinderkirchen findet Ihr weiterhin auf unser homepage oder auf YouTube/Friesenkapelle.
URL:https://friesenkapelle.de/event/kinderkirche-am-sonntag-judika-mit-tini-tiffany-und-oliver-23-03-26/
LOCATION:Friesenkapelle am Dorfteich\, Bi Kiar 9\, Wenningstedt-Braderup\, 25996\, Deutschland
CATEGORIES:Gottesdienst
ATTACH;FMTTYPE=image/jpeg:https://friesenkapelle.de/wp-content/uploads/2021/04/tiffany_image00039-scaled.jpg
ORGANIZER;CN="Kirchengemeinde Nordd%C3%B6rfer":MAILTO:norddoerfer-kirchenbuero@t-online.de
END:VEVENT
BEGIN:VEVENT
DTSTART;TZID=Europe/Berlin:20230327T193000
DTEND;TZID=Europe/Berlin:20230327T210000
DTSTAMP:20260425T012900
CREATED:20230213T145736Z
LAST-MODIFIED:20230213T150246Z
UID:7959-1679945400-1679950800@friesenkapelle.de
SUMMARY:Oliver Strempler singt UDO vs. UDO
DESCRIPTION:Foto: Roman Matejov \nOliver Strempler interpretiert Lieder von Udo Jürgens & Udo Lindenberg\nUnser Kirchenmusiker widmet seinen Konzertabend am Montag\, den 27. März den beiden bekanntesten Udos der deutschen Popkultur. Passt nicht? Und ob! \nMan könnte glauben\, dass Oliver Strempler seine sieben Konzertformate und die musikalische Begleitung der Gottesdienste und Amtshandlungen eigentlich voll auslasten könnten. Stimmt aber nicht. Der Vollblutmusiker hat immer wieder neue Ideen.\nAuf seinen jüngsten Coup scheint das Publikum nun regelrecht gewartet zu haben. Bei „Udo vs. Udo“ widmet er sich dem Werk der beiden großen Us der deutschen Musikszene: Udo Jürgens und Udo Lindenberg.  \nAuf die Frage\, was denn den Liedermacher und den Rocker verbindet\, wo also der Rote Faden seines Konzertabends liege\, bleibt Connaisseur Strempler die Antwort nicht lange schuldig. „Obwohl sie charakterlich gänzlich verschieden sind\, haben sie musikalisch unglaublich viel gemeinsam“\, sagt Strempler\, dessen Wunsch es schon seit langer Zeit ist ein Konzert dieser Art zu spielen. „Sie beide lieb(t)en den Rock\, den Jazz aber auch den Pop. Beide entschieden sich ganz bewusst auf Deutsch zu singen und beide befassten sich in ihren Texten auch immer wieder mit kritischen Themen der Zeitgeschichte auseinander“.  \n„Und als Randnotiz: Jeder der beiden hat auch schonmal einen Song des anderen interpretiert. Ich würde ansonsten empfehlen\, den Konzertabend einfach zu besuchen\, dann weiß man mehr – viel mehr“\, sagt der Musikentertainer augenzwinkernd. Auf gewohnt gesellige Art bekommen seine Konzertbesucher nicht nur eine allerbeste Auswahl der jeweiligen Udo-Songs\, sondern auch reichlich spannende Infos\, die den Horizont mal eben um ein ganzes Stück erweitern.\n„Beide Udos werden gebührend gefeiert“\, freut sich Strempler.\nÜbrigens: Mitsingen ist unbedingt erwünscht! \nFriesenkapelle am Dorfteich\nMontag\, 27. März 2023\nBeginn 19.30 Uhr\nEinlaß 19.00 Uhr\nEintritt 20 €\nTicketverkauf in den Tourismus-Services der Insel\, an der Abendkasse oder online
URL:https://friesenkapelle.de/event/konzert-strempler-singt-udo-vs-udo-27-03-2023/
LOCATION:Friesenkapelle am Dorfteich\, Bi Kiar 9\, Wenningstedt-Braderup\, 25996\, Deutschland
CATEGORIES:Veranstaltungen
ATTACH;FMTTYPE=image/jpeg:https://friesenkapelle.de/wp-content/uploads/2019/11/UDO-vs.-UDO-final-NETZ.jpg
ORGANIZER;CN="Kirchengemeinde Nordd%C3%B6rfer":MAILTO:norddoerfer-kirchenbuero@t-online.de
END:VEVENT
END:VCALENDAR