BEGIN:VCALENDAR
VERSION:2.0
PRODID:-//Friesenkapelle.de - ECPv6.15.20//NONSGML v1.0//EN
CALSCALE:GREGORIAN
METHOD:PUBLISH
X-WR-CALNAME:Friesenkapelle.de
X-ORIGINAL-URL:https://friesenkapelle.de
X-WR-CALDESC:Veranstaltungen für Friesenkapelle.de
REFRESH-INTERVAL;VALUE=DURATION:PT1H
X-Robots-Tag:noindex
X-PUBLISHED-TTL:PT1H
BEGIN:VTIMEZONE
TZID:Europe/Berlin
BEGIN:DAYLIGHT
TZOFFSETFROM:+0100
TZOFFSETTO:+0200
TZNAME:CEST
DTSTART:20220327T010000
END:DAYLIGHT
BEGIN:STANDARD
TZOFFSETFROM:+0200
TZOFFSETTO:+0100
TZNAME:CET
DTSTART:20221030T010000
END:STANDARD
BEGIN:DAYLIGHT
TZOFFSETFROM:+0100
TZOFFSETTO:+0200
TZNAME:CEST
DTSTART:20230326T010000
END:DAYLIGHT
BEGIN:STANDARD
TZOFFSETFROM:+0200
TZOFFSETTO:+0100
TZNAME:CET
DTSTART:20231029T010000
END:STANDARD
BEGIN:DAYLIGHT
TZOFFSETFROM:+0100
TZOFFSETTO:+0200
TZNAME:CEST
DTSTART:20240331T010000
END:DAYLIGHT
BEGIN:STANDARD
TZOFFSETFROM:+0200
TZOFFSETTO:+0100
TZNAME:CET
DTSTART:20241027T010000
END:STANDARD
END:VTIMEZONE
BEGIN:VEVENT
DTSTART;TZID=Europe/Berlin:20230402T113000
DTEND;TZID=Europe/Berlin:20230402T120000
DTSTAMP:20260422T122847
CREATED:20230226T124906Z
LAST-MODIFIED:20230226T125326Z
UID:8037-1680435000-1680436800@friesenkapelle.de
SUMMARY:Kinderkirche am Palmsonntag mit Pastor Rainer\, Tini\, Tiffany und Oliver
DESCRIPTION:Kinderkirche in der Friesenkapelle\nPalmsonntag \nWir freuen uns\, Euch zum Kindergottesdienst in der Friesenkapelle begrüßen zu dürfen.\nGemeinsam singen\, gemeinsam tanzen\, gemeinsam beten und dazu eine spannende Geschichte – das ist die Kinderkirche der Kirchengemeinde Norddörfer.\nMit Pastor Rainer\, Tini\, Tiffany und Oliver. \nUnsere Online-Kinderkirchen findet Ihr weiterhin auf unser homepage oder auf YouTube/Friesenkapelle.
URL:https://friesenkapelle.de/event/kinderkirche-am-palmsonntag-mit-pastor-rainer-tini-tiffany-und-oliver-23-04-02/
LOCATION:Friesenkapelle am Dorfteich\, Bi Kiar 9\, Wenningstedt-Braderup\, 25996\, Deutschland
CATEGORIES:Gottesdienst
ATTACH;FMTTYPE=image/jpeg:https://friesenkapelle.de/wp-content/uploads/2021/04/tiffany_image00039-scaled.jpg
ORGANIZER;CN="Kirchengemeinde Nordd%C3%B6rfer":MAILTO:norddoerfer-kirchenbuero@t-online.de
END:VEVENT
BEGIN:VEVENT
DTSTART;TZID=Europe/Berlin:20230409T100000
DTEND;TZID=Europe/Berlin:20230409T110000
DTSTAMP:20260422T122847
CREATED:20230226T124156Z
LAST-MODIFIED:20230401T111607Z
UID:8028-1681034400-1681038000@friesenkapelle.de
SUMMARY:Gottesdienst mit Abendmahl am Ostersonntag mit Pastor Rainer Chinnow
DESCRIPTION:Gottesdienst\nOstersonntag \nWir freuen uns\, Sie zum Gottesdienst in der Friesenkapelle zu begrüßen. \nLeitung: Pastor Rainer Chinnow\nMusik: Oliver Strempler & Martin Stein \nUnsere Online-Gottesdienste finden Sie weiterhin auf unser homepage oder auf YouTube/Friesenkapelle.
URL:https://friesenkapelle.de/event/gottesdienst-mit-abendmahl-am-ostersonntag-mit-pastor-rainer-chinnow-32-04-09/
LOCATION:Friesenkapelle am Dorfteich\, Bi Kiar 9\, Wenningstedt-Braderup\, 25996\, Deutschland
CATEGORIES:Gottesdienst
ATTACH;FMTTYPE=image/jpeg:https://friesenkapelle.de/wp-content/uploads/2022/01/IMG_9793-.jpg
END:VEVENT
BEGIN:VEVENT
DTSTART;TZID=Europe/Berlin:20230409T113000
DTEND;TZID=Europe/Berlin:20230409T120000
DTSTAMP:20260422T122847
CREATED:20230315T112701Z
LAST-MODIFIED:20230315T112812Z
UID:8137-1681039800-1681041600@friesenkapelle.de
SUMMARY:Kinderkirche am Ostersonntag mit Pastor Rainer\, Tini\, Tiffany und Oliver
DESCRIPTION:Kinderkirche in der Friesenkapelle\nOstersonntag \nWir freuen uns\, Euch zum Kindergottesdienst in der Friesenkapelle begrüßen zu dürfen.\nGemeinsam singen\, gemeinsam tanzen\, gemeinsam beten und dazu eine spannende Geschichte – das ist die Kinderkirche der Kirchengemeinde Norddörfer.\nMit Pastor Rainer\, Tini\, Tiffany und Oliver. \nUnsere Online-Kinderkirchen findet Ihr weiterhin auf unser homepage oder auf YouTube/Friesenkapelle.
URL:https://friesenkapelle.de/event/kinderkirche-am-ostersonntag-mit-pastor-rainer-tini-tiffany-und-oliver-9-4-2023/
LOCATION:Friesenkapelle am Dorfteich\, Bi Kiar 9\, Wenningstedt-Braderup\, 25996\, Deutschland
CATEGORIES:Gottesdienst
ATTACH;FMTTYPE=image/jpeg:https://friesenkapelle.de/wp-content/uploads/2021/04/tiffany_image00039-scaled.jpg
ORGANIZER;CN="Kirchengemeinde Nordd%C3%B6rfer":MAILTO:norddoerfer-kirchenbuero@t-online.de
END:VEVENT
BEGIN:VEVENT
DTSTART;TZID=Europe/Berlin:20230410T100000
DTEND;TZID=Europe/Berlin:20230410T110000
DTSTAMP:20260422T122847
CREATED:20230315T112909Z
LAST-MODIFIED:20230315T113014Z
UID:8139-1681120800-1681124400@friesenkapelle.de
SUMMARY:Familien-Gottesdienst am Ostermontag
DESCRIPTION:Familiengottesdienst am Ostermontag\nOstermontag \nWir freuen uns\, Sie zum Gottesdienst in der Friesenkapelle zu begrüßen. \nLeitung: Pastor Rainer Chinnow\nMusik: Oliver Strempler \nUnsere Online-Gottesdienste finden Sie weiterhin auf unser homepage oder auf YouTube/Friesenkapelle.
URL:https://friesenkapelle.de/event/familien-gottesdienst-am-ostermontag-10-4-2023/
LOCATION:Friesenkapelle am Dorfteich\, Bi Kiar 9\, Wenningstedt-Braderup\, 25996\, Deutschland
CATEGORIES:Gottesdienst
ATTACH;FMTTYPE=image/jpeg:https://friesenkapelle.de/wp-content/uploads/2022/01/IMG_9793-.jpg
ORGANIZER;CN="Kirchengemeinde Nordd%C3%B6rfer":MAILTO:norddoerfer-kirchenbuero@t-online.de
END:VEVENT
BEGIN:VEVENT
DTSTART;TZID=Europe/Berlin:20230410T193000
DTEND;TZID=Europe/Berlin:20230410T210000
DTSTAMP:20260422T122847
CREATED:20230403T085304Z
LAST-MODIFIED:20230403T085613Z
UID:8221-1681155000-1681160400@friesenkapelle.de
SUMMARY:Oliver Strempler singt UDO vs. UDO
DESCRIPTION:Foto: Roman Matejov \nOliver Strempler interpretiert Lieder von Udo Jürgens & Udo Lindenberg\nUnser Kirchenmusiker widmet seinen Konzertabend am Ostermontag\, den 10. April den beiden bekanntesten Udos der deutschen Popkultur. Passt nicht? Und ob! \nMan könnte glauben\, dass Oliver Strempler seine sieben Konzertformate und die musikalische Begleitung der Gottesdienste und Amtshandlungen eigentlich voll auslasten könnten. Stimmt aber nicht. Der Vollblutmusiker hat immer wieder neue Ideen.\nAuf seinen jüngsten Coup scheint das Publikum nun regelrecht gewartet zu haben. Bei „Udo vs. Udo“ widmet er sich dem Werk der beiden großen Us der deutschen Musikszene: Udo Jürgens und Udo Lindenberg.  \nAuf die Frage\, was denn den Liedermacher und den Rocker verbindet\, wo also der Rote Faden seines Konzertabends liege\, bleibt Connaisseur Strempler die Antwort nicht lange schuldig. „Obwohl sie charakterlich gänzlich verschieden sind\, haben sie musikalisch unglaublich viel gemeinsam“\, sagt Strempler\, dessen Wunsch es schon seit langer Zeit ist ein Konzert dieser Art zu spielen. „Sie beide lieb(t)en den Rock\, den Jazz aber auch den Pop. Beide entschieden sich ganz bewusst auf Deutsch zu singen und beide befassten sich in ihren Texten auch immer wieder mit kritischen Themen der Zeitgeschichte auseinander“.  \n„Und als Randnotiz: Jeder der beiden hat auch schonmal einen Song des anderen interpretiert. Ich würde ansonsten empfehlen\, den Konzertabend einfach zu besuchen\, dann weiß man mehr – viel mehr“\, sagt der Musikentertainer augenzwinkernd. Auf gewohnt gesellige Art bekommen seine Konzertbesucher nicht nur eine allerbeste Auswahl der jeweiligen Udo-Songs\, sondern auch reichlich spannende Infos\, die den Horizont mal eben um ein ganzes Stück erweitern.\n„Beide Udos werden gebührend gefeiert“\, freut sich Strempler.\nÜbrigens: Mitsingen ist unbedingt erwünscht! \nFriesenkapelle am Dorfteich\nOstermontag\, 10. April 2023\nBeginn 19.30 Uhr\nEinlaß 19.00 Uhr\nEintritt 20 €\nTicketverkauf in den Tourismus-Services der Insel\, an der Abendkasse oder online.
URL:https://friesenkapelle.de/event/konzert-strempler-singt-udo-vs-udo-10-04-2023/
LOCATION:Friesenkapelle am Dorfteich\, Bi Kiar 9\, Wenningstedt-Braderup\, 25996\, Deutschland
CATEGORIES:Veranstaltungen
ATTACH;FMTTYPE=image/jpeg:https://friesenkapelle.de/wp-content/uploads/2019/11/UDO-vs.-UDO-final-NETZ.jpg
ORGANIZER;CN="Kirchengemeinde Nordd%C3%B6rfer":MAILTO:norddoerfer-kirchenbuero@t-online.de
END:VEVENT
BEGIN:VEVENT
DTSTART;TZID=Europe/Berlin:20230416T100000
DTEND;TZID=Europe/Berlin:20230416T110000
DTSTAMP:20260422T122847
CREATED:20230226T123955Z
LAST-MODIFIED:20230226T124111Z
UID:8025-1681639200-1681642800@friesenkapelle.de
SUMMARY:Gottesdienst mit Abendmahl am Sonntag Quasimodogeniti mit Pastor Rainer Chinnow
DESCRIPTION:Gottesdienst mit Abendmahl\nSonntag Quasimodogeniti \nWir freuen uns\, Sie zum Gottesdienst in der Friesenkapelle zu begrüßen. \nLeitung: Pastor Rainer Chinnow\nMusik: Oliver Strempler \nUnsere Online-Gottesdienste finden Sie weiterhin auf unser homepage oder auf YouTube/Friesenkapelle.
URL:https://friesenkapelle.de/event/gottesdienst-mit-abendmahl-am-sonntag-laetare-mit-pastor-rainer-chinnow-23-04-02-copy/
LOCATION:Friesenkapelle am Dorfteich\, Bi Kiar 9\, Wenningstedt-Braderup\, 25996\, Deutschland
CATEGORIES:Gottesdienst
ATTACH;FMTTYPE=image/jpeg:https://friesenkapelle.de/wp-content/uploads/2022/01/IMG_9793-.jpg
ORGANIZER;CN="Kirchengemeinde Nordd%C3%B6rfer":MAILTO:norddoerfer-kirchenbuero@t-online.de
END:VEVENT
BEGIN:VEVENT
DTSTART;TZID=Europe/Berlin:20230416T113000
DTEND;TZID=Europe/Berlin:20230416T120000
DTSTAMP:20260422T122847
CREATED:20230226T124959Z
LAST-MODIFIED:20230226T125239Z
UID:8039-1681644600-1681646400@friesenkapelle.de
SUMMARY:Kinderkirche am Sonntag Quasimodogeniti mit Pastor Rainer\, Tini\, Tiffany und Oliver
DESCRIPTION:Kinderkirche in der Friesenkapelle\nSonntag Quasimodogeniti \nWir freuen uns\, Euch zum Kindergottesdienst in der Friesenkapelle begrüßen zu dürfen.\nGemeinsam singen\, gemeinsam tanzen\, gemeinsam beten und dazu eine spannende Geschichte – das ist die Kinderkirche der Kirchengemeinde Norddörfer.\nMit Pastor Rainer\, Tini\, Tiffany und Oliver. \nUnsere Online-Kinderkirchen findet Ihr weiterhin auf unser homepage oder auf YouTube/Friesenkapelle.
URL:https://friesenkapelle.de/event/kinderkirche-am-sonntag-quasimodogeniti-mit-pastor-rainer-tini-tiffany-und-oliver-23-04-16/
LOCATION:Friesenkapelle am Dorfteich\, Bi Kiar 9\, Wenningstedt-Braderup\, 25996\, Deutschland
CATEGORIES:Gottesdienst
ATTACH;FMTTYPE=image/jpeg:https://friesenkapelle.de/wp-content/uploads/2021/04/tiffany_image00039-scaled.jpg
ORGANIZER;CN="Kirchengemeinde Nordd%C3%B6rfer":MAILTO:norddoerfer-kirchenbuero@t-online.de
END:VEVENT
BEGIN:VEVENT
DTSTART;TZID=Europe/Berlin:20230423T100000
DTEND;TZID=Europe/Berlin:20230423T110000
DTSTAMP:20260422T122847
CREATED:20230226T124421Z
LAST-MODIFIED:20230226T124752Z
UID:8031-1682244000-1682247600@friesenkapelle.de
SUMMARY:Gottesdienst am Sonntag Misericordias Domini mit Pastor Rainer Chinnow
DESCRIPTION:Gottesdienst\nSonntag Quasimodogeniti \nWir freuen uns\, Sie zum Gottesdienst in der Friesenkapelle zu begrüßen. \nLeitung: Pastor Rainer Chinnow\nMusik: Oliver Strempler \nUnsere Online-Gottesdienste finden Sie weiterhin auf unser homepage oder auf YouTube/Friesenkapelle.
URL:https://friesenkapelle.de/event/gottesdienst-am-sonntag-misericordias-domini-mit-pastor-rainer-chinnow-23-04-23/
LOCATION:Friesenkapelle am Dorfteich\, Bi Kiar 9\, Wenningstedt-Braderup\, 25996\, Deutschland
CATEGORIES:Gottesdienst
ATTACH;FMTTYPE=image/jpeg:https://friesenkapelle.de/wp-content/uploads/2022/01/IMG_9793-.jpg
ORGANIZER;CN="Kirchengemeinde Nordd%C3%B6rfer":MAILTO:norddoerfer-kirchenbuero@t-online.de
END:VEVENT
BEGIN:VEVENT
DTSTART;TZID=Europe/Berlin:20230423T113000
DTEND;TZID=Europe/Berlin:20230423T120000
DTSTAMP:20260422T122847
CREATED:20230226T125432Z
LAST-MODIFIED:20230226T125550Z
UID:8044-1682249400-1682251200@friesenkapelle.de
SUMMARY:Kinderkirche am Sonntag Misericordias Domini mit Pastor Rainer\, Tini\, Tiffany und Oliver
DESCRIPTION:Kinderkirche in der Friesenkapelle\nSonntag Misericordias Domini\nWir freuen uns\, Euch zum Kindergottesdienst in der Friesenkapelle begrüßen zu dürfen.\nGemeinsam singen\, gemeinsam tanzen\, gemeinsam beten und dazu eine spannende Geschichte – das ist die Kinderkirche der Kirchengemeinde Norddörfer.\nMit Pastor Rainer\, Tini\, Tiffany und Oliver. \nUnsere Online-Kinderkirchen findet Ihr weiterhin auf unser homepage oder auf YouTube/Friesenkapelle.
URL:https://friesenkapelle.de/event/misericordias-domini-23-04-23/
LOCATION:Friesenkapelle am Dorfteich\, Bi Kiar 9\, Wenningstedt-Braderup\, 25996\, Deutschland
CATEGORIES:Gottesdienst
ATTACH;FMTTYPE=image/jpeg:https://friesenkapelle.de/wp-content/uploads/2021/04/tiffany_image00039-scaled.jpg
ORGANIZER;CN="Kirchengemeinde Nordd%C3%B6rfer":MAILTO:norddoerfer-kirchenbuero@t-online.de
END:VEVENT
BEGIN:VEVENT
DTSTART;TZID=Europe/Berlin:20230424T193000
DTEND;TZID=Europe/Berlin:20230424T210000
DTSTAMP:20260422T122847
CREATED:20230401T112129Z
LAST-MODIFIED:20230403T085736Z
UID:8190-1682364600-1682370000@friesenkapelle.de
SUMMARY:Oliver Strempler singt UDO vs. UDO
DESCRIPTION:Foto: Roman Matejov \nOliver Strempler interpretiert Lieder von Udo Jürgens & Udo Lindenberg\nUnser Kirchenmusiker widmet seinen Konzertabend am Montag\, den 24. April den beiden bekanntesten Udos der deutschen Popkultur. Passt nicht? Und ob! \nMan könnte glauben\, dass Oliver Strempler seine sieben Konzertformate und die musikalische Begleitung der Gottesdienste und Amtshandlungen eigentlich voll auslasten könnten. Stimmt aber nicht. Der Vollblutmusiker hat immer wieder neue Ideen.\nAuf seinen jüngsten Coup scheint das Publikum nun regelrecht gewartet zu haben. Bei „Udo vs. Udo“ widmet er sich dem Werk der beiden großen Us der deutschen Musikszene: Udo Jürgens und Udo Lindenberg.  \nAuf die Frage\, was denn den Liedermacher und den Rocker verbindet\, wo also der Rote Faden seines Konzertabends liege\, bleibt Connaisseur Strempler die Antwort nicht lange schuldig. „Obwohl sie charakterlich gänzlich verschieden sind\, haben sie musikalisch unglaublich viel gemeinsam“\, sagt Strempler\, dessen Wunsch es schon seit langer Zeit ist ein Konzert dieser Art zu spielen. „Sie beide lieb(t)en den Rock\, den Jazz aber auch den Pop. Beide entschieden sich ganz bewusst auf Deutsch zu singen und beide befassten sich in ihren Texten auch immer wieder mit kritischen Themen der Zeitgeschichte auseinander“.  \n„Und als Randnotiz: Jeder der beiden hat auch schonmal einen Song des anderen interpretiert. Ich würde ansonsten empfehlen\, den Konzertabend einfach zu besuchen\, dann weiß man mehr – viel mehr“\, sagt der Musikentertainer augenzwinkernd. Auf gewohnt gesellige Art bekommen seine Konzertbesucher nicht nur eine allerbeste Auswahl der jeweiligen Udo-Songs\, sondern auch reichlich spannende Infos\, die den Horizont mal eben um ein ganzes Stück erweitern.\n„Beide Udos werden gebührend gefeiert“\, freut sich Strempler.\nÜbrigens: Mitsingen ist unbedingt erwünscht! \nFriesenkapelle am Dorfteich\nMontag\, 24. April 2023\nBeginn 19.30 Uhr\nEinlaß 19.00 Uhr\nEintritt 20 €\nTicketverkauf in den Tourismus-Services der Insel\, an der Abendkasse oder online.
URL:https://friesenkapelle.de/event/konzert-strempler-singt-udo-vs-udo-24-04-2023/
LOCATION:Friesenkapelle am Dorfteich\, Bi Kiar 9\, Wenningstedt-Braderup\, 25996\, Deutschland
CATEGORIES:Veranstaltungen
ATTACH;FMTTYPE=image/jpeg:https://friesenkapelle.de/wp-content/uploads/2019/11/UDO-vs.-UDO-final-NETZ.jpg
ORGANIZER;CN="Kirchengemeinde Nordd%C3%B6rfer":MAILTO:norddoerfer-kirchenbuero@t-online.de
END:VEVENT
BEGIN:VEVENT
DTSTART;TZID=Europe/Berlin:20230430T100000
DTEND;TZID=Europe/Berlin:20230430T110000
DTSTAMP:20260422T122847
CREATED:20230226T124620Z
LAST-MODIFIED:20230226T125652Z
UID:8034-1682848800-1682852400@friesenkapelle.de
SUMMARY:Gottesdienst am Sonntag Jubilate mit Pastor Rainer Chinnow
DESCRIPTION:Gottesdienst\nSonntag Jubilate\nWir freuen uns\, Sie zum Gottesdienst in der Friesenkapelle zu begrüßen. \nLeitung: Pastor Rainer Chinnow\nMusik: Oliver Strempler \nUnsere Online-Gottesdienste finden Sie weiterhin auf unser homepage oder auf YouTube/Friesenkapelle.
URL:https://friesenkapelle.de/event/gottesdienst-am-sonntag-jubilate-mit-pastor-rainer-chinnow-23-04-30/
LOCATION:Friesenkapelle am Dorfteich\, Bi Kiar 9\, Wenningstedt-Braderup\, 25996\, Deutschland
CATEGORIES:Gottesdienst
ATTACH;FMTTYPE=image/jpeg:https://friesenkapelle.de/wp-content/uploads/2022/01/IMG_9793-.jpg
ORGANIZER;CN="Kirchengemeinde Nordd%C3%B6rfer":MAILTO:norddoerfer-kirchenbuero@t-online.de
END:VEVENT
BEGIN:VEVENT
DTSTART;TZID=Europe/Berlin:20230430T113000
DTEND;TZID=Europe/Berlin:20230430T120000
DTSTAMP:20260422T122847
CREATED:20230226T125709Z
LAST-MODIFIED:20230226T125819Z
UID:8047-1682854200-1682856000@friesenkapelle.de
SUMMARY:Kinderkirche am Sonntag Jubilate mit Pastor Rainer\, Tini\, Tiffany und Oliver
DESCRIPTION:Kinderkirche in der Friesenkapelle\nSonntag Jubilate\nWir freuen uns\, Euch zum Kindergottesdienst in der Friesenkapelle begrüßen zu dürfen.\nGemeinsam singen\, gemeinsam tanzen\, gemeinsam beten und dazu eine spannende Geschichte – das ist die Kinderkirche der Kirchengemeinde Norddörfer.\nMit Pastor Rainer\, Tini\, Tiffany und Oliver. \nUnsere Online-Kinderkirchen findet Ihr weiterhin auf unser homepage oder auf YouTube/Friesenkapelle.
URL:https://friesenkapelle.de/event/kinderkirche-am-sonntag-jubilate-mit-pastor-rainer-tini-tiffany-und-oliver-23-04-30/
LOCATION:Friesenkapelle am Dorfteich\, Bi Kiar 9\, Wenningstedt-Braderup\, 25996\, Deutschland
CATEGORIES:Gottesdienst
ATTACH;FMTTYPE=image/jpeg:https://friesenkapelle.de/wp-content/uploads/2021/04/tiffany_image00039-scaled.jpg
ORGANIZER;CN="Kirchengemeinde Nordd%C3%B6rfer":MAILTO:norddoerfer-kirchenbuero@t-online.de
END:VEVENT
END:VCALENDAR