BEGIN:VCALENDAR
VERSION:2.0
PRODID:-//Friesenkapelle.de - ECPv6.15.20//NONSGML v1.0//EN
CALSCALE:GREGORIAN
METHOD:PUBLISH
X-ORIGINAL-URL:https://friesenkapelle.de
X-WR-CALDESC:Veranstaltungen für Friesenkapelle.de
REFRESH-INTERVAL;VALUE=DURATION:PT1H
X-Robots-Tag:noindex
X-PUBLISHED-TTL:PT1H
BEGIN:VTIMEZONE
TZID:Europe/Berlin
BEGIN:DAYLIGHT
TZOFFSETFROM:+0100
TZOFFSETTO:+0200
TZNAME:CEST
DTSTART:20230326T010000
END:DAYLIGHT
BEGIN:STANDARD
TZOFFSETFROM:+0200
TZOFFSETTO:+0100
TZNAME:CET
DTSTART:20231029T010000
END:STANDARD
BEGIN:DAYLIGHT
TZOFFSETFROM:+0100
TZOFFSETTO:+0200
TZNAME:CEST
DTSTART:20240331T010000
END:DAYLIGHT
BEGIN:STANDARD
TZOFFSETFROM:+0200
TZOFFSETTO:+0100
TZNAME:CET
DTSTART:20241027T010000
END:STANDARD
BEGIN:DAYLIGHT
TZOFFSETFROM:+0100
TZOFFSETTO:+0200
TZNAME:CEST
DTSTART:20250330T010000
END:DAYLIGHT
BEGIN:STANDARD
TZOFFSETFROM:+0200
TZOFFSETTO:+0100
TZNAME:CET
DTSTART:20251026T010000
END:STANDARD
END:VTIMEZONE
BEGIN:VEVENT
DTSTART;TZID=Europe/Berlin:20240107T100000
DTEND;TZID=Europe/Berlin:20240107T110000
DTSTAMP:20260422T203122
CREATED:20231206T100918Z
LAST-MODIFIED:20240107T053024Z
UID:9203-1704621600-1704625200@friesenkapelle.de
SUMMARY:Gottesdienst zum 25-jährigen Dienstjubiläum von Pastor Rainer Chinnow am 1. Sonntag nach Epiphanias mit dem Team der Kirchengemeinde Norddörfer
DESCRIPTION:Gottesdienst\nzum 25-jährigen Dienstjubiläum von Pastor Rainer Chinnow am 1. Sonntag nach Epiphanias mit dem Team der Kirchengemeinde Norddörfer\nWir freuen uns\, Sie zum Gottesdienst in der Friesenkapelle zu begrüßen. \nLeitung: Pastor Rainer Chinnow\nMusik: Oliver Strempler & Beate Salzig \nUnsere Online-Gottesdienste finden Sie weiterhin auf unser homepage oder auf YouTube/Friesenkapelle.
URL:https://friesenkapelle.de/event/gottesdienst-mit-abendmahl-1-sonntag-nach-epiphanias-mit-pastor-pastor-chinnow-7-1-2024/
LOCATION:Friesenkapelle am Dorfteich\, Bi Kiar 9\, Wenningstedt-Braderup\, 25996\, Deutschland
CATEGORIES:Gottesdienst
ATTACH;FMTTYPE=image/jpeg:https://friesenkapelle.de/wp-content/uploads/2023/12/IMG_3038-1.jpg
END:VEVENT
BEGIN:VEVENT
DTSTART;TZID=Europe/Berlin:20240114T100000
DTEND;TZID=Europe/Berlin:20240114T110000
DTSTAMP:20260422T203122
CREATED:20231206T110746Z
LAST-MODIFIED:20231206T110951Z
UID:9215-1705226400-1705230000@friesenkapelle.de
SUMMARY:Gottesdienst am 2. Sonntag nach Epiphanias mit Pastor Pastor Chinnow
DESCRIPTION:Gottesdienst\n2. Sonntag nach Epiphanias\nWir freuen uns\, Sie zum Gottesdienst in der Friesenkapelle zu begrüßen. \nLeitung: Pastor Rainer Chinnow\nMusik: Beate Salzig \nUnsere Online-Gottesdienste finden Sie weiterhin auf unser homepage oder auf YouTube/Friesenkapelle.
URL:https://friesenkapelle.de/event/gottesdienst-am-2-sonntag-nach-epiphanias-mit-pastor-pastor-chinnow-14-1-2024/
LOCATION:Friesenkapelle am Dorfteich\, Bi Kiar 9\, Wenningstedt-Braderup\, 25996\, Deutschland
CATEGORIES:Gottesdienst
ATTACH;FMTTYPE=image/jpeg:https://friesenkapelle.de/wp-content/uploads/2023/12/IMG_3038-1.jpg
END:VEVENT
BEGIN:VEVENT
DTSTART;TZID=Europe/Berlin:20240121T100000
DTEND;TZID=Europe/Berlin:20240121T110000
DTSTAMP:20260422T203122
CREATED:20231206T105719Z
LAST-MODIFIED:20231206T110714Z
UID:9206-1705831200-1705834800@friesenkapelle.de
SUMMARY:Gottesdienst mit Abendmahl am 3. Sonntag nach Epiphanias mit Pastor Pastor Chinnow
DESCRIPTION:Gottesdienst mit Abendmahl\n3. Sonntag nach Epiphanias\nWir freuen uns\, Sie zum Gottesdienst in der Friesenkapelle zu begrüßen. \nLeitung: Pastor Rainer Chinnow\nMusik: Beate Salzig \nUnsere Online-Gottesdienste finden Sie weiterhin auf unser homepage oder auf YouTube/Friesenkapelle.
URL:https://friesenkapelle.de/event/gottesdienst-3-sonntag-nach-epiphanias-mit-pastor-pastor-chinnow-21-1-2024/
LOCATION:Friesenkapelle am Dorfteich\, Bi Kiar 9\, Wenningstedt-Braderup\, 25996\, Deutschland
CATEGORIES:Gottesdienst
ATTACH;FMTTYPE=image/jpeg:https://friesenkapelle.de/wp-content/uploads/2023/12/IMG_3038-1.jpg
END:VEVENT
BEGIN:VEVENT
DTSTART;TZID=Europe/Berlin:20240128T100000
DTEND;TZID=Europe/Berlin:20240128T110000
DTSTAMP:20260422T203122
CREATED:20231206T111110Z
LAST-MODIFIED:20231206T113219Z
UID:9218-1706436000-1706439600@friesenkapelle.de
SUMMARY:Gottesdienst am letzten Sonntag nach Epiphanias mit Pastor Pastor Chinnow
DESCRIPTION:Gottesdienst\nLetzter Sonntag nach Epiphanias\nWir freuen uns\, Sie zum Gottesdienst in der Friesenkapelle zu begrüßen. \nLeitung: Pastor Rainer Chinnow\nMusik: Dmitry Egorov \nUnsere Online-Gottesdienste finden Sie weiterhin auf unser homepage oder auf YouTube/Friesenkapelle.
URL:https://friesenkapelle.de/event/gottesdienst-am-letzten-sonntag-nach-epiphanias-mit-pastor-pastor-chinnow-28-1-2024/
LOCATION:Friesenkapelle am Dorfteich\, Bi Kiar 9\, Wenningstedt-Braderup\, 25996\, Deutschland
CATEGORIES:Gottesdienst
ATTACH;FMTTYPE=image/jpeg:https://friesenkapelle.de/wp-content/uploads/2023/12/IMG_3038-1.jpg
END:VEVENT
END:VCALENDAR