BEGIN:VCALENDAR
VERSION:2.0
PRODID:-//Friesenkapelle.de - ECPv6.15.20//NONSGML v1.0//EN
CALSCALE:GREGORIAN
METHOD:PUBLISH
X-WR-CALNAME:Friesenkapelle.de
X-ORIGINAL-URL:https://friesenkapelle.de
X-WR-CALDESC:Veranstaltungen für Friesenkapelle.de
REFRESH-INTERVAL;VALUE=DURATION:PT1H
X-Robots-Tag:noindex
X-PUBLISHED-TTL:PT1H
BEGIN:VTIMEZONE
TZID:Europe/Berlin
BEGIN:DAYLIGHT
TZOFFSETFROM:+0100
TZOFFSETTO:+0200
TZNAME:CEST
DTSTART:20230326T010000
END:DAYLIGHT
BEGIN:STANDARD
TZOFFSETFROM:+0200
TZOFFSETTO:+0100
TZNAME:CET
DTSTART:20231029T010000
END:STANDARD
BEGIN:DAYLIGHT
TZOFFSETFROM:+0100
TZOFFSETTO:+0200
TZNAME:CEST
DTSTART:20240331T010000
END:DAYLIGHT
BEGIN:STANDARD
TZOFFSETFROM:+0200
TZOFFSETTO:+0100
TZNAME:CET
DTSTART:20241027T010000
END:STANDARD
BEGIN:DAYLIGHT
TZOFFSETFROM:+0100
TZOFFSETTO:+0200
TZNAME:CEST
DTSTART:20250330T010000
END:DAYLIGHT
BEGIN:STANDARD
TZOFFSETFROM:+0200
TZOFFSETTO:+0100
TZNAME:CET
DTSTART:20251026T010000
END:STANDARD
END:VTIMEZONE
BEGIN:VEVENT
DTSTART;TZID=Europe/Berlin:20240303T100000
DTEND;TZID=Europe/Berlin:20240303T111500
DTSTAMP:20260422T124926
CREATED:20240220T082733Z
LAST-MODIFIED:20240220T094148Z
UID:9392-1709460000-1709464500@friesenkapelle.de
SUMMARY:Gottesdienst mit Abendmahl am Sonntag Okuli mit Pastor Chinnow
DESCRIPTION:Gottesdienst\nSonntag Okuli \nWir freuen uns\, Sie zum Gottesdienst in der Friesenkapelle zu begrüßen. \nLeitung: Pastor Rainer Chinnow\nMusik: Oliver Strempler \nUnsere Online-Gottesdienste finden Sie weiterhin auf unser homepage oder auf YouTube/Friesenkapelle.
URL:https://friesenkapelle.de/event/gottesdienst-am-sonntag-reminiscere-mit-pastor-pastor-chinnow-03-03-2024/
LOCATION:Friesenkapelle am Dorfteich\, Bi Kiar 9\, Wenningstedt-Braderup\, 25996\, Deutschland
CATEGORIES:Gottesdienst
ATTACH;FMTTYPE=image/jpeg:https://friesenkapelle.de/wp-content/uploads/2017/04/slider1-1024x476.jpg
END:VEVENT
BEGIN:VEVENT
DTSTART;TZID=Europe/Berlin:20240310T100000
DTEND;TZID=Europe/Berlin:20240310T110000
DTSTAMP:20260422T124926
CREATED:20240220T084609Z
LAST-MODIFIED:20240226T092852Z
UID:9406-1710064800-1710068400@friesenkapelle.de
SUMMARY:Gottesdienst am Sonntag Laetare mit Team Friesenkapelle und Pastor Chinnow
DESCRIPTION:Gottesdienst\nSonntag Laetare\nWir freuen uns\, Sie zum Gottesdienst in der Friesenkapelle zu begrüßen. \nLeitung: Pastor Rainer Chinnow\nMusik: Oliver Strempler \nUnsere Online-Gottesdienste finden Sie weiterhin auf unser homepage oder auf YouTube/Friesenkapelle.
URL:https://friesenkapelle.de/event/gottesdienst-am-sonntag-laetare-mit-team-friesenkapelle-und-pastor-chinnow-10-03-2024/
LOCATION:Friesenkapelle am Dorfteich\, Bi Kiar 9\, Wenningstedt-Braderup\, 25996\, Deutschland
CATEGORIES:Gottesdienst
ATTACH;FMTTYPE=image/jpeg:https://friesenkapelle.de/wp-content/uploads/2017/04/slider1-1024x476.jpg
END:VEVENT
BEGIN:VEVENT
DTSTART;TZID=Europe/Berlin:20240317T100000
DTEND;TZID=Europe/Berlin:20240317T111500
DTSTAMP:20260422T124926
CREATED:20240220T085657Z
LAST-MODIFIED:20240226T093119Z
UID:9420-1710669600-1710674100@friesenkapelle.de
SUMMARY:Gospelgottesdienst am Sonntag Judika mit Pastor Chinnow\, Tine Hamburger und den Island Voices
DESCRIPTION:Tine Hamburger und Anna Seibert \nGospelgottesdienst mit Abendmahl am Sonntag Judika\nWir freuen uns\, Sie zum Gospel-Gottesdienst in der Friesenkapelle zu begrüßen\nAm 17. März 2024 um 10.00 Uhr findet nach einem Gospelworkshop mit der Dozentin Tine Hamburger und ihrer begleitenden Pianistin Anna Seibert der Abschlussgottesdienst unter der Leitung von Pastor Rainer Chinnow in der Friesenkapelle am Dorfteich in Wenningstedt statt.\nDie Teilnehmer präsentieren ihre Ergebnisse nach 2 Tagen intensiver Chorarbeit mit der in Wuppertal lebenden Gospeltrainerin. Sie ist bekannt geworden über die Gospelkirche Hannover und setzt sich als nationale und internationale Gesangs-\, Stimmbildungs- und Workshopdozentin mit großem Engagement und viel Leidenschaft für diese Musik und deren Entfaltungsformen ein.\nDer Workshopchor und die „Island Voices“ freuen sich über zahlreiche Besucher dieses besonderen Gottesdienstes auf Sylt. \nLeitung: Pastor Rainer Chinnow.\nMusikalische Leitung: Tine Hamburger. \nUnsere Online-Gottesdienste finden Sie weiterhin auf unser homepage oder auf YouTube/Friesenkapelle.
URL:https://friesenkapelle.de/event/gospelgottesdienst-am-sonntag-judika-mit-pastor-chinnow-tine-hamburger-und-den-island-voices-17-03-2024/
LOCATION:Friesenkapelle am Dorfteich\, Bi Kiar 9\, Wenningstedt-Braderup\, 25996\, Deutschland
CATEGORIES:Gottesdienst
ATTACH;FMTTYPE=image/jpeg:https://friesenkapelle.de/wp-content/uploads/2024/02/Tine-Hamburger_-Anna-Seibert2.jpg
ORGANIZER;CN="Kirchengemeinde Nordd%C3%B6rfer":MAILTO:norddoerfer-kirchenbuero@t-online.de
END:VEVENT
BEGIN:VEVENT
DTSTART;TZID=Europe/Berlin:20240328T200000
DTEND;TZID=Europe/Berlin:20240328T211500
DTSTAMP:20260422T124926
CREATED:20240220T095355Z
LAST-MODIFIED:20240226T115037Z
UID:9439-1711656000-1711660500@friesenkapelle.de
SUMMARY:Gospelmesse mit Abendmahl am Gründonnerstag mit Pastor Chinnow und den „Island Voices“
DESCRIPTION:Highlight in der Passionszeit\nGospelmesse mit Abendmahl am Gründonnerstag\nSeit vielen Jahren singen die Island Voices zur Gospelmesse in der Passionswoche vor Ostern. Die Melodien sind ruhig\, harmonisch und begleiten die Gedanken auf meditative Weise durch das Geschehen der letzten Tage Jesu im Kreis seiner Jünger. Viele Lieder werden von allen Kirchenbesuchern mitgesungen. So voll auch die Kirche ist\, findet sich eine große Ruhe in allem. \nLeitung: Pastor Rainer Chinnow\nMusik: Island Voices\nmusikalische Leitung: Renate Henke.\nBeginn 20.00 Uhr
URL:https://friesenkapelle.de/event/gospelmesse-mit-abendmahl-am-gruendonnerstag-mit-pastor-chinnow-und-den-island-voices-28-03-2024/
LOCATION:Friesenkapelle am Dorfteich\, Bi Kiar 9\, Wenningstedt-Braderup\, 25996\, Deutschland
CATEGORIES:Gottesdienst
ATTACH;FMTTYPE=image/jpeg:https://friesenkapelle.de/wp-content/uploads/2023/02/ADFC9BA1E32949358E18EF6827B38BE4.jpg
ORGANIZER;CN="Kirchengemeinde Nordd%C3%B6rfer":MAILTO:norddoerfer-kirchenbuero@t-online.de
END:VEVENT
BEGIN:VEVENT
DTSTART;TZID=Europe/Berlin:20240329T100000
DTEND;TZID=Europe/Berlin:20240329T111500
DTSTAMP:20260422T124926
CREATED:20240220T094336Z
LAST-MODIFIED:20240226T115154Z
UID:9435-1711706400-1711710900@friesenkapelle.de
SUMMARY:Gottesdienst am Karfreitag mit Abendmahl mit Pastor Jochim Hartung und Pastor Rainer Chinnow
DESCRIPTION:Gottesdienst an Karfreitag mit Abendmahl\nLeitung: Pastor Jochim Hartung und Pastor Rainer Chinnow\nMusik: Martin Stein \nUnsere Online-Gottesdienste finden Sie weiterhin auf unser homepage oder auf YouTube/Friesenkapelle.
URL:https://friesenkapelle.de/event/gottesdienst-am-karfreitag-mit-abendmahl-mit-pastor-jochim-hartung-und-pastor-rainer-chinnow-29-3-2024/
LOCATION:Friesenkapelle am Dorfteich\, Bi Kiar 9\, Wenningstedt-Braderup\, 25996\, Deutschland
CATEGORIES:Gottesdienst
ATTACH;FMTTYPE=image/jpeg:https://friesenkapelle.de/wp-content/uploads/2022/01/IMG_9793-.jpg
ORGANIZER;CN="Kirchengemeinde Nordd%C3%B6rfer":MAILTO:norddoerfer-kirchenbuero@t-online.de
END:VEVENT
BEGIN:VEVENT
DTSTART;TZID=Europe/Berlin:20240331T080000
DTEND;TZID=Europe/Berlin:20240331T084500
DTSTAMP:20260422T124926
CREATED:20240220T093738Z
LAST-MODIFIED:20240325T082409Z
UID:9429-1711872000-1711874700@friesenkapelle.de
SUMMARY:Osterandacht am Ostersonntag mit Pastor Rainer Chinnow
DESCRIPTION:Osterandacht \nOstersonntag\nWir freuen uns\, Sie zum Gottesdienst in der Friesenkapelle zu begrüßen. \nLeitung: Pastor Rainer Chinnow\nMusik: Martin Stein \nUnsere Online-Gottesdienste finden Sie weiterhin auf unser homepage oder auf YouTube/Friesenkapelle.
URL:https://friesenkapelle.de/event/osterandacht-am-ostersonntag-mit-pastor-rainer-chinnow-31-03-2024/
LOCATION:Friesenkapelle am Dorfteich\, Bi Kiar 9\, Wenningstedt-Braderup\, 25996\, Deutschland
CATEGORIES:Gottesdienst
ATTACH;FMTTYPE=image/jpeg:https://friesenkapelle.de/wp-content/uploads/2022/01/IMG_9793-.jpg
END:VEVENT
BEGIN:VEVENT
DTSTART;TZID=Europe/Berlin:20240331T100000
DTEND;TZID=Europe/Berlin:20240331T111500
DTSTAMP:20260422T124926
CREATED:20240220T093939Z
LAST-MODIFIED:20240222T135153Z
UID:9431-1711879200-1711883700@friesenkapelle.de
SUMMARY:Gottesdienst mit Abendmahl am Ostersonntag mit Pastor Rainer Chinnow
DESCRIPTION:Gottesdienst\nOstersonntag \nWir freuen uns\, Sie zum Gottesdienst in der Friesenkapelle zu begrüßen. \nLeitung: Pastor Rainer Chinnow\nMusik: Martin Stein & Oliver Strempler \nUnsere Online-Gottesdienste finden Sie weiterhin auf unser homepage oder auf YouTube/Friesenkapelle.
URL:https://friesenkapelle.de/event/gottesdienst-mit-abendmahl-am-ostersonntag-mit-pastor-rainer-chinnow-31-03-2024/
LOCATION:Friesenkapelle am Dorfteich\, Bi Kiar 9\, Wenningstedt-Braderup\, 25996\, Deutschland
CATEGORIES:Gottesdienst
ATTACH;FMTTYPE=image/jpeg:https://friesenkapelle.de/wp-content/uploads/2022/01/IMG_9793-.jpg
END:VEVENT
END:VCALENDAR