BEGIN:VCALENDAR
VERSION:2.0
PRODID:-//Friesenkapelle.de - ECPv6.15.20//NONSGML v1.0//EN
CALSCALE:GREGORIAN
METHOD:PUBLISH
X-WR-CALNAME:Friesenkapelle.de
X-ORIGINAL-URL:https://friesenkapelle.de
X-WR-CALDESC:Veranstaltungen für Friesenkapelle.de
REFRESH-INTERVAL;VALUE=DURATION:PT1H
X-Robots-Tag:noindex
X-PUBLISHED-TTL:PT1H
BEGIN:VTIMEZONE
TZID:Europe/Berlin
BEGIN:DAYLIGHT
TZOFFSETFROM:+0100
TZOFFSETTO:+0200
TZNAME:CEST
DTSTART:20230326T010000
END:DAYLIGHT
BEGIN:STANDARD
TZOFFSETFROM:+0200
TZOFFSETTO:+0100
TZNAME:CET
DTSTART:20231029T010000
END:STANDARD
BEGIN:DAYLIGHT
TZOFFSETFROM:+0100
TZOFFSETTO:+0200
TZNAME:CEST
DTSTART:20240331T010000
END:DAYLIGHT
BEGIN:STANDARD
TZOFFSETFROM:+0200
TZOFFSETTO:+0100
TZNAME:CET
DTSTART:20241027T010000
END:STANDARD
BEGIN:DAYLIGHT
TZOFFSETFROM:+0100
TZOFFSETTO:+0200
TZNAME:CEST
DTSTART:20250330T010000
END:DAYLIGHT
BEGIN:STANDARD
TZOFFSETFROM:+0200
TZOFFSETTO:+0100
TZNAME:CET
DTSTART:20251026T010000
END:STANDARD
END:VTIMEZONE
BEGIN:VEVENT
DTSTART;TZID=Europe/Berlin:20240505T100000
DTEND;TZID=Europe/Berlin:20240505T111500
DTSTAMP:20260421T214023
CREATED:20240313T171449Z
LAST-MODIFIED:20240313T171609Z
UID:9623-1714903200-1714907700@friesenkapelle.de
SUMMARY:Gottesdienst mit Abendmahl am Sonntag Rogate mit Pastor Rainer Chinnow
DESCRIPTION:Gottesdienst mit Abendmahl\nSonntag Rogate\nDie Friesenkapelle ist ein ganz besonderer Ort\, um Gott und das Leben zu feiern. Seien Sie nicht nur Gast\, seien sie willkommen als unser Gemeindeglied.\nWir freuen uns\, Sie zum Gottesdienst in der Friesenkapelle zu begrüßen. \nLeitung: Pastor Rainer Chinnow\nMusik: Oliver Strempler \nUnsere Online-Gottesdienste finden Sie weiterhin auf unser homepage oder auf YouTube/Friesenkapelle.
URL:https://friesenkapelle.de/event/gottesdienst-mit-abendmahl-am-sonntag-rogate-mit-pastor-rainer-chinnow-05-05-2024/
CATEGORIES:Gottesdienst
ATTACH;FMTTYPE=image/jpeg:https://friesenkapelle.de/wp-content/uploads/2022/01/IMG_9793-.jpg
END:VEVENT
BEGIN:VEVENT
DTSTART;TZID=Europe/Berlin:20240509T100000
DTEND;TZID=Europe/Berlin:20240509T110000
DTSTAMP:20260421T214023
CREATED:20240423T072822Z
LAST-MODIFIED:20240423T083955Z
UID:9821-1715248800-1715252400@friesenkapelle.de
SUMMARY:Gottesdienst an Christi Himmelfahrt mit Pastor Rainer Chinnow
DESCRIPTION:Gottesdienst\nChristi Himmelfahrt\nAn Christi Himmelfahrt feiert die Kirche die Rückkehr des Gottessohnes zu seinem Vater im Himmel. Das Fest findet immer am 40. Tag nach Ostern statt.\nDie Friesenkapelle ist ein ganz besonderer Ort\, um Gott und das Leben zu feiern. Seien Sie nicht nur Gast\, seien sie willkommen als unser Gemeindeglied.\nWir freuen uns\, Sie zum Gottesdienst in der Friesenkapelle zu begrüßen. \nLeitung: Pastor Rainer Chinnow\nMusik: Oliver Strempler \nUnsere Online-Gottesdienste finden Sie weiterhin auf unser homepage oder auf YouTube/Friesenkapelle.
URL:https://friesenkapelle.de/event/gottesdienst-an-christi-himmelfahrt-mit-pastor-rainer-chinnow-09-05-2024/
CATEGORIES:Gottesdienst
ATTACH;FMTTYPE=image/jpeg:https://friesenkapelle.de/wp-content/uploads/2022/01/IMG_9793-.jpg
END:VEVENT
BEGIN:VEVENT
DTSTART;TZID=Europe/Berlin:20240512T100000
DTEND;TZID=Europe/Berlin:20240512T110000
DTSTAMP:20260421T214023
CREATED:20240313T171904Z
LAST-MODIFIED:20240423T084232Z
UID:9628-1715508000-1715511600@friesenkapelle.de
SUMMARY:Dialog-Gottesdienst am Sonntag Exaudi mit Pastor Jochim Hartung & Pastor Rainer Chinnow
DESCRIPTION:Dialog-Gottesdienst\nSonntag Exaudi\nDie Friesenkapelle ist ein ganz besonderer Ort\, um Gott und das Leben zu feiern. Seien Sie nicht nur Gast\, seien sie willkommen als unser Gemeindeglied.\nWir freuen uns\, Sie zum Gottesdienst in der Friesenkapelle zu begrüßen. \nLeitung: Pastor Jochim Hartung & Pastor Rainer Chinnow\nMusik: Oliver Strempler \nUnsere Online-Gottesdienste finden Sie weiterhin auf unser homepage oder auf YouTube/Friesenkapelle.
URL:https://friesenkapelle.de/event/gottesdienst-am-sonntag-exaudi-mit-pastor-rainer-chinnow-12-05-2024/
CATEGORIES:Gottesdienst
ATTACH;FMTTYPE=image/jpeg:https://friesenkapelle.de/wp-content/uploads/2022/01/IMG_9793-.jpg
END:VEVENT
BEGIN:VEVENT
DTSTART;TZID=Europe/Berlin:20240519T100000
DTEND;TZID=Europe/Berlin:20240519T111500
DTSTAMP:20260421T214023
CREATED:20240313T171738Z
LAST-MODIFIED:20240423T084730Z
UID:9626-1716112800-1716117300@friesenkapelle.de
SUMMARY:Gottesdienst mit Abendmahl am Pfingstsonntag mit Pastor Rainer Chinnow
DESCRIPTION:Gottesdienst mit Abendmahl\n Pfingstsonntag\nPfingsten ist das Fest des Heiligen Geistes\, der dem christlichen Glauben zufolge alle Gläubigen weltweit erfüllt und verbindet. Pfingsten gilt als der „Geburtstag der Kirche“.\nMit den Pfingsttagen endet nach 50 Tagen die Osterzeit. Der Begriff Pfingsten leitet sich von dem griechischen Wort „pentekosté“\, der Fünfzigste\, ab.\nDie Friesenkapelle ist ein ganz besonderer Ort\, um Gott und das Leben zu feiern. Seien Sie nicht nur Gast\, seien sie willkommen als unser Gemeindeglied.\nWir freuen uns\, Sie zum Gottesdienst in der Friesenkapelle zu begrüßen. \nLeitung: Pastor Rainer Chinnow\nMusik: Oliver Strempler \nUnsere Online-Gottesdienste finden Sie weiterhin auf unser homepage oder auf YouTube/Friesenkapelle.
URL:https://friesenkapelle.de/event/gottesdienst-mit-abendmahl-am-pfingstsonntag-mit-pastor-rainer-chinnow-19-05-2024/
CATEGORIES:Gottesdienst
ATTACH;FMTTYPE=image/jpeg:https://friesenkapelle.de/wp-content/uploads/2022/01/IMG_9793-.jpg
END:VEVENT
END:VCALENDAR