BEGIN:VCALENDAR
VERSION:2.0
PRODID:-//Friesenkapelle.de - ECPv6.15.20//NONSGML v1.0//EN
CALSCALE:GREGORIAN
METHOD:PUBLISH
X-ORIGINAL-URL:https://friesenkapelle.de
X-WR-CALDESC:Veranstaltungen für Friesenkapelle.de
REFRESH-INTERVAL;VALUE=DURATION:PT1H
X-Robots-Tag:noindex
X-PUBLISHED-TTL:PT1H
BEGIN:VTIMEZONE
TZID:Europe/Berlin
BEGIN:DAYLIGHT
TZOFFSETFROM:+0100
TZOFFSETTO:+0200
TZNAME:CEST
DTSTART:20230326T010000
END:DAYLIGHT
BEGIN:STANDARD
TZOFFSETFROM:+0200
TZOFFSETTO:+0100
TZNAME:CET
DTSTART:20231029T010000
END:STANDARD
BEGIN:DAYLIGHT
TZOFFSETFROM:+0100
TZOFFSETTO:+0200
TZNAME:CEST
DTSTART:20240331T010000
END:DAYLIGHT
BEGIN:STANDARD
TZOFFSETFROM:+0200
TZOFFSETTO:+0100
TZNAME:CET
DTSTART:20241027T010000
END:STANDARD
BEGIN:DAYLIGHT
TZOFFSETFROM:+0100
TZOFFSETTO:+0200
TZNAME:CEST
DTSTART:20250330T010000
END:DAYLIGHT
BEGIN:STANDARD
TZOFFSETFROM:+0200
TZOFFSETTO:+0100
TZNAME:CET
DTSTART:20251026T010000
END:STANDARD
END:VTIMEZONE
BEGIN:VEVENT
DTSTART;TZID=Europe/Berlin:20240705T171500
DTEND;TZID=Europe/Berlin:20240705T175000
DTSTAMP:20260421T183348
CREATED:20240704T091210Z
LAST-MODIFIED:20240704T091538Z
UID:10009-1720199700-1720201800@friesenkapelle.de
SUMMARY:Fußball-Gottesdienst · Spanien : Deutschland und Public Viewing
DESCRIPTION:Fußball-Gottesdienst zum Spiel Spanien : Deutschland \nJulians Buben in Gottes Stuben \nUnter dem Motto „Julians Buben in Gottes Stuben“ feiern wir in der Friesenkapelle am Dorfteich in Wenningstedt auf Sylt eine Fußballparty zum Spiel der deutschen Mannschaft: eine Halbzeit vor Spielbeginn beginnt das Fest mit dem Fußballgottesdienst von Pastor Rainer Chinnow (Predigt) und Oliver Strempler (Musik).\nAnschließend geht’s zum Public Viewing ins Pastorat am Dorfteich. Es wird gegrillt und es gibt allerlei Getränke. \n 
URL:https://friesenkapelle.de/event/fussball-gottesdienst-%c2%b7-spanien-deutschland-und-public-viewing-05-07-2024/
LOCATION:Friesenkapelle am Dorfteich\, Bi Kiar 9\, Wenningstedt-Braderup\, 25996\, Deutschland
CATEGORIES:Gottesdienst
ATTACH;FMTTYPE=image/jpeg:https://friesenkapelle.de/wp-content/uploads/2024/02/image00235_EMBall2024-1.jpg
ORGANIZER;CN="Kirchengemeinde Nordd%C3%B6rfer":MAILTO:norddoerfer-kirchenbuero@t-online.de
END:VEVENT
BEGIN:VEVENT
DTSTART;TZID=Europe/Berlin:20240707T100000
DTEND;TZID=Europe/Berlin:20240707T111500
DTSTAMP:20260421T183348
CREATED:20240220T101500Z
LAST-MODIFIED:20240220T101628Z
UID:9446-1720346400-1720350900@friesenkapelle.de
SUMMARY:Gospelgottesdienst mit Abendmahl am 6. Sonntag nach Trinitatis mit Pastor Chinnow und den Island Voices
DESCRIPTION:Gospelgottesdienst mit Abendmahl am 6. Sonntag nach Trinitatis\nWir freuen uns\, Sie zum Gottesdienst in der Friesenkapelle zu begrüßen. \nUnsere Kirche ist zu Gospelveranstaltungen immer sehr gut besucht. Es ist deshalb ratsam\, rechtzeitig in der Friesenkapelle zu erscheinen\, damit man noch einen Platz ergattert. \nLeitung: Pastor Rainer Chinnow\nMusik: Island Voices unter der Leitung von Renate Henke \nUnsere Online-Gottesdienste finden Sie weiterhin auf unser homepage oder auf YouTube/Friesenkapelle.
URL:https://friesenkapelle.de/event/gospelgottesdienst-mit-abendmahl-am-6-sonntag-nach-trinitatis-mit-pastor-chinnow-und-den-island-voices-7-7-2024/
LOCATION:Friesenkapelle am Dorfteich\, Bi Kiar 9\, Wenningstedt-Braderup\, 25996\, Deutschland
CATEGORIES:Gottesdienst
ATTACH;FMTTYPE=image/jpeg:https://friesenkapelle.de/wp-content/uploads/2023/06/Island-Voices-Foto-Vicedomini-scaled.jpg
ORGANIZER;CN="Kirchengemeinde Nordd%C3%B6rfer":MAILTO:norddoerfer-kirchenbuero@t-online.de
END:VEVENT
BEGIN:VEVENT
DTSTART;TZID=Europe/Berlin:20240707T113000
DTEND;TZID=Europe/Berlin:20240707T120000
DTSTAMP:20260421T183348
CREATED:20240704T094153Z
LAST-MODIFIED:20240704T094546Z
UID:10017-1720351800-1720353600@friesenkapelle.de
SUMMARY:Kinderkirche am 6. Sonntag nach Trinitatis mit Pastor Rainer
DESCRIPTION:Kinderkirche in der Friesenkapelle\n6. Sonntag nach Trinitatis\nWir freuen uns\, Euch zum Kindergottesdienst in der Friesenkapelle begrüßen zu dürfen.\nGemeinsam singen\, gemeinsam tanzen\, gemeinsam beten und dazu eine spannende Geschichte – das ist die Kinderkirche der Kirchengemeinde Norddörfer. \nMit Pastor Rainer \nUnsere Online-Kinderkirchen findet Ihr weiterhin auf unser homepage oder auf YouTube/Friesenkapelle.
URL:https://friesenkapelle.de/event/kinderkirche-am-6-sonntag-nach-trinitatis-mit-pastor-rainer-07-07-2024/
LOCATION:Friesenkapelle am Dorfteich\, Bi Kiar 9\, Wenningstedt-Braderup\, 25996\, Deutschland
CATEGORIES:Gottesdienst
ATTACH;FMTTYPE=image/jpeg:https://friesenkapelle.de/wp-content/uploads/2021/04/tiffany_image00039-scaled.jpg
ORGANIZER;CN="Kirchengemeinde Nordd%C3%B6rfer":MAILTO:norddoerfer-kirchenbuero@t-online.de
END:VEVENT
BEGIN:VEVENT
DTSTART;TZID=Europe/Berlin:20240714T100000
DTEND;TZID=Europe/Berlin:20240714T110000
DTSTAMP:20260421T183348
CREATED:20240704T100436Z
LAST-MODIFIED:20240704T100717Z
UID:10032-1720951200-1720954800@friesenkapelle.de
SUMMARY:Dialog-Gottesdienst am 7. Sonntag nach Trinitatis mit Pastor Jochim Hartung & Pastor Rainer Chinnow
DESCRIPTION:Dialog-Gottesdienst\n7. Sonntag nach Trinitatis\nDie Friesenkapelle ist ein ganz besonderer Ort\, um Gott und das Leben zu feiern. Seien Sie nicht nur Gast\, seien sie willkommen als unser Gemeindeglied.\nWir freuen uns\, Sie zum Gottesdienst in der Friesenkapelle zu begrüßen. \nLeitung: Pastor Jochim Hartung & Pastor Rainer Chinnow\n \nUnsere Online-Gottesdienste finden Sie weiterhin auf unser homepage oder auf YouTube/Friesenkapelle.
URL:https://friesenkapelle.de/event/dialog-gottesdienst-am-7-sonntag-nach-trinitatis-mit-pastor-jochim-hartung-pastor-rainer-chinnow-14-07-2024/
CATEGORIES:Gottesdienst
ATTACH;FMTTYPE=image/jpeg:https://friesenkapelle.de/wp-content/uploads/2022/01/IMG_9793-.jpg
END:VEVENT
BEGIN:VEVENT
DTSTART;TZID=Europe/Berlin:20240714T113000
DTEND;TZID=Europe/Berlin:20240714T120000
DTSTAMP:20260421T183348
CREATED:20240704T094359Z
LAST-MODIFIED:20240704T094521Z
UID:10020-1720956600-1720958400@friesenkapelle.de
SUMMARY:Kinderkirche am 7. Sonntag nach Trinitatis mit Pastor Rainer
DESCRIPTION:Kinderkirche in der Friesenkapelle\n7. Sonntag nach Trinitatis\nWir freuen uns\, Euch zum Kindergottesdienst in der Friesenkapelle begrüßen zu dürfen.\nGemeinsam singen\, gemeinsam tanzen\, gemeinsam beten und dazu eine spannende Geschichte – das ist die Kinderkirche der Kirchengemeinde Norddörfer. \nMit Pastor Rainer \nUnsere Online-Kinderkirchen findet Ihr weiterhin auf unser homepage oder auf YouTube/Friesenkapelle.
URL:https://friesenkapelle.de/event/kinderkirche-am-6-sonntag-nach-trinitatis-mit-pastor-rainer-14-07-2024/
LOCATION:Friesenkapelle am Dorfteich\, Bi Kiar 9\, Wenningstedt-Braderup\, 25996\, Deutschland
CATEGORIES:Gottesdienst
ATTACH;FMTTYPE=image/jpeg:https://friesenkapelle.de/wp-content/uploads/2021/04/tiffany_image00039-scaled.jpg
ORGANIZER;CN="Kirchengemeinde Nordd%C3%B6rfer":MAILTO:norddoerfer-kirchenbuero@t-online.de
END:VEVENT
BEGIN:VEVENT
DTSTART;TZID=Europe/Berlin:20240721T100000
DTEND;TZID=Europe/Berlin:20240721T111500
DTSTAMP:20260421T183348
CREATED:20240704T100942Z
LAST-MODIFIED:20240704T101111Z
UID:10035-1721556000-1721560500@friesenkapelle.de
SUMMARY:Gottesdienst mit Abendmahl am 8. Sonntag nach Trinitatis mit Pastor Rainer Chinnow
DESCRIPTION:Gottesdienst mit Abendmahl\n8. Sonntag nach Trinitatis \nDie Friesenkapelle ist ein ganz besonderer Ort\, um Gott und das Leben zu feiern. Seien Sie nicht nur Gast\, seien sie willkommen als unser Gemeindeglied.\nWir freuen uns\, Sie zum Gottesdienst in der Friesenkapelle zu begrüßen. \nLeitung: Pastor Rainer Chinnow\n \nUnsere Online-Gottesdienste finden Sie weiterhin auf unser homepage oder auf YouTube/Friesenkapelle.
URL:https://friesenkapelle.de/event/gottesdienst-mit-abendmahl-am-8-sonntag-nach-trinitatis-mit-pastor-rainer-chinnow-21-07-2024/
CATEGORIES:Gottesdienst
ATTACH;FMTTYPE=image/jpeg:https://friesenkapelle.de/wp-content/uploads/2022/01/IMG_9793-.jpg
END:VEVENT
BEGIN:VEVENT
DTSTART;TZID=Europe/Berlin:20240728T100000
DTEND;TZID=Europe/Berlin:20240728T110000
DTSTAMP:20260421T183348
CREATED:20240704T101227Z
LAST-MODIFIED:20240704T101331Z
UID:10038-1722160800-1722164400@friesenkapelle.de
SUMMARY:Gottesdienst am 9. Sonntag nach Trinitatis mit Pastor Rainer Chinnow
DESCRIPTION:Gottesdienst mit Abendmahl\n9. Sonntag nach Trinitatis \nDie Friesenkapelle ist ein ganz besonderer Ort\, um Gott und das Leben zu feiern. Seien Sie nicht nur Gast\, seien sie willkommen als unser Gemeindeglied.\nWir freuen uns\, Sie zum Gottesdienst in der Friesenkapelle zu begrüßen. \nLeitung: Pastor Rainer Chinnow\n \nUnsere Online-Gottesdienste finden Sie weiterhin auf unser homepage oder auf YouTube/Friesenkapelle.
URL:https://friesenkapelle.de/event/gottesdienst-am-9-sonntag-nach-trinitatis-mit-pastor-rainer-chinnow-28-07-2024/
CATEGORIES:Gottesdienst
ATTACH;FMTTYPE=image/jpeg:https://friesenkapelle.de/wp-content/uploads/2022/01/IMG_9793-.jpg
END:VEVENT
BEGIN:VEVENT
DTSTART;TZID=Europe/Berlin:20240728T113000
DTEND;TZID=Europe/Berlin:20240728T120000
DTSTAMP:20260421T183348
CREATED:20240704T094403Z
LAST-MODIFIED:20240704T094728Z
UID:10021-1722166200-1722168000@friesenkapelle.de
SUMMARY:Kinderkirche am 9. Sonntag nach Trinitatis mit Pastor Rainer
DESCRIPTION:Kinderkirche in der Friesenkapelle\n9. Sonntag nach Trinitatis\nWir freuen uns\, Euch zum Kindergottesdienst in der Friesenkapelle begrüßen zu dürfen.\nGemeinsam singen\, gemeinsam tanzen\, gemeinsam beten und dazu eine spannende Geschichte – das ist die Kinderkirche der Kirchengemeinde Norddörfer. \nMit Pastor Rainer \nUnsere Online-Kinderkirchen findet Ihr weiterhin auf unser homepage oder auf YouTube/Friesenkapelle.
URL:https://friesenkapelle.de/event/kinderkirche-am-6-sonntag-nach-trinitatis-mit-pastor-rainer-28-07-2024/
LOCATION:Friesenkapelle am Dorfteich\, Bi Kiar 9\, Wenningstedt-Braderup\, 25996\, Deutschland
CATEGORIES:Gottesdienst
ATTACH;FMTTYPE=image/jpeg:https://friesenkapelle.de/wp-content/uploads/2021/04/tiffany_image00039-scaled.jpg
ORGANIZER;CN="Kirchengemeinde Nordd%C3%B6rfer":MAILTO:norddoerfer-kirchenbuero@t-online.de
END:VEVENT
END:VCALENDAR