BEGIN:VCALENDAR
VERSION:2.0
PRODID:-//Friesenkapelle.de - ECPv6.15.20//NONSGML v1.0//EN
CALSCALE:GREGORIAN
METHOD:PUBLISH
X-WR-CALNAME:Friesenkapelle.de
X-ORIGINAL-URL:https://friesenkapelle.de
X-WR-CALDESC:Veranstaltungen für Friesenkapelle.de
REFRESH-INTERVAL;VALUE=DURATION:PT1H
X-Robots-Tag:noindex
X-PUBLISHED-TTL:PT1H
BEGIN:VTIMEZONE
TZID:Europe/Berlin
BEGIN:DAYLIGHT
TZOFFSETFROM:+0100
TZOFFSETTO:+0200
TZNAME:CEST
DTSTART:20230326T010000
END:DAYLIGHT
BEGIN:STANDARD
TZOFFSETFROM:+0200
TZOFFSETTO:+0100
TZNAME:CET
DTSTART:20231029T010000
END:STANDARD
BEGIN:DAYLIGHT
TZOFFSETFROM:+0100
TZOFFSETTO:+0200
TZNAME:CEST
DTSTART:20240331T010000
END:DAYLIGHT
BEGIN:STANDARD
TZOFFSETFROM:+0200
TZOFFSETTO:+0100
TZNAME:CET
DTSTART:20241027T010000
END:STANDARD
BEGIN:DAYLIGHT
TZOFFSETFROM:+0100
TZOFFSETTO:+0200
TZNAME:CEST
DTSTART:20250330T010000
END:DAYLIGHT
BEGIN:STANDARD
TZOFFSETFROM:+0200
TZOFFSETTO:+0100
TZNAME:CET
DTSTART:20251026T010000
END:STANDARD
END:VTIMEZONE
BEGIN:VEVENT
DTSTART;TZID=Europe/Berlin:20240811T100000
DTEND;TZID=Europe/Berlin:20240811T111500
DTSTAMP:20260421T165454
CREATED:20240712T083910Z
LAST-MODIFIED:20240712T084100Z
UID:10046-1723370400-1723374900@friesenkapelle.de
SUMMARY:Gottesdienst mit Abendmahl am 11. Sonntag nach Trinitatis mit Pastor Rainer Chinnow
DESCRIPTION:Gottesdienst mit Abendmahl\n11. Sonntag nach Trinitatis \nDie Friesenkapelle ist ein ganz besonderer Ort\, um Gott und das Leben zu feiern. Seien Sie nicht nur Gast\, seien sie willkommen als unser Gemeindeglied.\nWir freuen uns\, Sie zum Gottesdienst in der Friesenkapelle zu begrüßen. \nLeitung: Pastor Rainer Chinnow\nMusik: Oliver Strempler \nUnsere Online-Gottesdienste finden Sie weiterhin auf unser homepage oder auf YouTube/Friesenkapelle.
URL:https://friesenkapelle.de/event/gottesdienst-mit-abendmahl-am-11-sonntag-nach-trinitatis-mit-pastor-rainer-chinnow-11-08-2024/
CATEGORIES:Gottesdienst
ATTACH;FMTTYPE=image/jpeg:https://friesenkapelle.de/wp-content/uploads/2022/01/IMG_9793-.jpg
END:VEVENT
BEGIN:VEVENT
DTSTART;TZID=Europe/Berlin:20240811T113000
DTEND;TZID=Europe/Berlin:20240811T120000
DTSTAMP:20260421T165454
CREATED:20240712T084850Z
LAST-MODIFIED:20240712T084959Z
UID:10056-1723375800-1723377600@friesenkapelle.de
SUMMARY:Kinderkirche am 11. Sonntag nach Trinitatis mit Pastor Rainer
DESCRIPTION:Kinderkirche in der Friesenkapelle\n11. Sonntag nach Trinitatis\nWir freuen uns\, Euch zum Kindergottesdienst in der Friesenkapelle begrüßen zu dürfen.\nGemeinsam singen\, gemeinsam tanzen\, gemeinsam beten und dazu eine spannende Geschichte – das ist die Kinderkirche der Kirchengemeinde Norddörfer. \nMit Pastor Rainer & Oliver \nUnsere Online-Kinderkirchen findet Ihr weiterhin auf unser homepage oder auf YouTube/Friesenkapelle.
URL:https://friesenkapelle.de/event/kinderkirche-am-11-sonntag-nach-trinitatis-mit-pastor-rainer-11-08-2024/
LOCATION:Friesenkapelle am Dorfteich\, Bi Kiar 9\, Wenningstedt-Braderup\, 25996\, Deutschland
CATEGORIES:Gottesdienst
ATTACH;FMTTYPE=image/jpeg:https://friesenkapelle.de/wp-content/uploads/2021/04/tiffany_image00039-scaled.jpg
ORGANIZER;CN="Kirchengemeinde Nordd%C3%B6rfer":MAILTO:norddoerfer-kirchenbuero@t-online.de
END:VEVENT
BEGIN:VEVENT
DTSTART;TZID=Europe/Berlin:20240818T100000
DTEND;TZID=Europe/Berlin:20240818T111500
DTSTAMP:20260421T165454
CREATED:20240220T101800Z
LAST-MODIFIED:20240717T120238Z
UID:9449-1723975200-1723979700@friesenkapelle.de
SUMMARY:Gospelgottesdienst am 12. Sonntag nach Trinitatis mit Pastor Chinnow und Team und den Island Voices
DESCRIPTION:Gospelgottesdienst am 12. Sonntag nach Trinitatis\nWir freuen uns\, Sie zum Gottesdienst in der Friesenkapelle zu begrüßen. \nUnsere Kirche ist zu Gospelveranstaltungen immer sehr gut besucht. Es ist deshalb ratsam\, rechtzeitig in der Friesenkapelle zu erscheinen\, damit man noch einen Platz ergattert. \nLeitung: Pastor Rainer Chinnow und Team\nMusik: Island Voices unter der Leitung von Renate Henke \nUnsere Online-Gottesdienste finden Sie weiterhin auf unser homepage oder auf YouTube/Friesenkapelle.
URL:https://friesenkapelle.de/event/gospelgottesdienst-mit-abendmahl-am-12-sonntag-nach-trinitatis-mit-pastor-chinnow-und-den-island-voices-18-8-2024/
LOCATION:Friesenkapelle am Dorfteich\, Bi Kiar 9\, Wenningstedt-Braderup\, 25996\, Deutschland
CATEGORIES:Gottesdienst
ATTACH;FMTTYPE=image/jpeg:https://friesenkapelle.de/wp-content/uploads/2023/06/Island-Voices-Foto-Vicedomini-scaled.jpg
ORGANIZER;CN="Kirchengemeinde Nordd%C3%B6rfer":MAILTO:norddoerfer-kirchenbuero@t-online.de
END:VEVENT
BEGIN:VEVENT
DTSTART;TZID=Europe/Berlin:20240825T100000
DTEND;TZID=Europe/Berlin:20240825T111500
DTSTAMP:20260421T165454
CREATED:20240712T084456Z
LAST-MODIFIED:20240712T084609Z
UID:10051-1724580000-1724584500@friesenkapelle.de
SUMMARY:Gottesdienst mit Abendmahl am 13. Sonntag nach Trinitatis mit Pastor Rainer Chinnow
DESCRIPTION:Gottesdienst mit Abendmahl\n13. Sonntag nach Trinitatis \nDie Friesenkapelle ist ein ganz besonderer Ort\, um Gott und das Leben zu feiern. Seien Sie nicht nur Gast\, seien sie willkommen als unser Gemeindeglied.\nWir freuen uns\, Sie zum Gottesdienst in der Friesenkapelle zu begrüßen. \nLeitung: Pastor Rainer Chinnow\nMusik: Oliver Strempler \nUnsere Online-Gottesdienste finden Sie weiterhin auf unser homepage oder auf YouTube/Friesenkapelle.
URL:https://friesenkapelle.de/event/gottesdienst-mit-abendmahl-am-13-sonntag-nach-trinitatis-mit-pastor-rainer-chinnow-25-08-2024/
CATEGORIES:Gottesdienst
ATTACH;FMTTYPE=image/jpeg:https://friesenkapelle.de/wp-content/uploads/2022/01/IMG_9793-.jpg
END:VEVENT
BEGIN:VEVENT
DTSTART;TZID=Europe/Berlin:20240825T113000
DTEND;TZID=Europe/Berlin:20240825T120000
DTSTAMP:20260421T165454
CREATED:20240712T085101Z
LAST-MODIFIED:20240712T085159Z
UID:10059-1724585400-1724587200@friesenkapelle.de
SUMMARY:Kinderkirche am 13. Sonntag nach Trinitatis mit Pastor Rainer
DESCRIPTION:Kinderkirche in der Friesenkapelle\n13. Sonntag nach Trinitatis\nWir freuen uns\, Euch zum Kindergottesdienst in der Friesenkapelle begrüßen zu dürfen.\nGemeinsam singen\, gemeinsam tanzen\, gemeinsam beten und dazu eine spannende Geschichte – das ist die Kinderkirche der Kirchengemeinde Norddörfer. \nMit Pastor Rainer & Oliver \nUnsere Online-Kinderkirchen findet Ihr weiterhin auf unser homepage oder auf YouTube/Friesenkapelle.
URL:https://friesenkapelle.de/event/kinderkirche-am-13-sonntag-nach-trinitatis-mit-pastor-rainer-25-08-2024/
LOCATION:Friesenkapelle am Dorfteich\, Bi Kiar 9\, Wenningstedt-Braderup\, 25996\, Deutschland
CATEGORIES:Gottesdienst
ATTACH;FMTTYPE=image/jpeg:https://friesenkapelle.de/wp-content/uploads/2021/04/tiffany_image00039-scaled.jpg
ORGANIZER;CN="Kirchengemeinde Nordd%C3%B6rfer":MAILTO:norddoerfer-kirchenbuero@t-online.de
END:VEVENT
END:VCALENDAR