BEGIN:VCALENDAR
VERSION:2.0
PRODID:-//Friesenkapelle.de - ECPv6.15.20//NONSGML v1.0//EN
CALSCALE:GREGORIAN
METHOD:PUBLISH
X-WR-CALNAME:Friesenkapelle.de
X-ORIGINAL-URL:https://friesenkapelle.de
X-WR-CALDESC:Veranstaltungen für Friesenkapelle.de
REFRESH-INTERVAL;VALUE=DURATION:PT1H
X-Robots-Tag:noindex
X-PUBLISHED-TTL:PT1H
BEGIN:VTIMEZONE
TZID:Europe/Berlin
BEGIN:DAYLIGHT
TZOFFSETFROM:+0100
TZOFFSETTO:+0200
TZNAME:CEST
DTSTART:20230326T010000
END:DAYLIGHT
BEGIN:STANDARD
TZOFFSETFROM:+0200
TZOFFSETTO:+0100
TZNAME:CET
DTSTART:20231029T010000
END:STANDARD
BEGIN:DAYLIGHT
TZOFFSETFROM:+0100
TZOFFSETTO:+0200
TZNAME:CEST
DTSTART:20240331T010000
END:DAYLIGHT
BEGIN:STANDARD
TZOFFSETFROM:+0200
TZOFFSETTO:+0100
TZNAME:CET
DTSTART:20241027T010000
END:STANDARD
BEGIN:DAYLIGHT
TZOFFSETFROM:+0100
TZOFFSETTO:+0200
TZNAME:CEST
DTSTART:20250330T010000
END:DAYLIGHT
BEGIN:STANDARD
TZOFFSETFROM:+0200
TZOFFSETTO:+0100
TZNAME:CET
DTSTART:20251026T010000
END:STANDARD
END:VTIMEZONE
BEGIN:VEVENT
DTSTART;TZID=Europe/Berlin:20241201T100000
DTEND;TZID=Europe/Berlin:20241201T111500
DTSTAMP:20260422T142340
CREATED:20241025T084954Z
LAST-MODIFIED:20241127T102543Z
UID:10474-1733047200-1733051700@friesenkapelle.de
SUMMARY:Gottesdienst am 1. Advent mit dem Sylter Shantychor und Pastor Rainer Chinnow
DESCRIPTION:Gottesdienst mit Tradition.\nWie schon einige Jahre üblich\, feiert die Kirchengemeinde Norddörfer am ersten Advent um 10.00 Uhr zusammen mit dem Sylter Shanty-Chor einen Shanty-Gottesdienst. Das beliebte Gottesdienst-Format ist immer sehr gut besucht. Es ist deshalb ratsam\, rechtzeitig in der Friesenkapelle zu erscheinen\, damit man noch einen Platz ergattert. \nLeitung: Pastor Rainer Chinnow\nMusik: Sylter Shantychor \nUnsere Online-Gottesdienste finden Sie weiterhin auf unser homepage oder auf YouTube/Friesenkapelle.
URL:https://friesenkapelle.de/event/gottesdienst-am-1-advent-mit-dem-sylter-shantychor-und-pastor-rainer-chinnow-01-12-2024/
LOCATION:Friesenkapelle am Dorfteich\, Bi Kiar 9\, Wenningstedt-Braderup\, 25996\, Deutschland
CATEGORIES:Gottesdienst
ATTACH;FMTTYPE=image/jpeg:https://friesenkapelle.de/wp-content/uploads/2019/06/Shanty-Chor-Magulski_ok.jpg
ORGANIZER;CN="Kirchengemeinde Nordd%C3%B6rfer":MAILTO:norddoerfer-kirchenbuero@t-online.de
END:VEVENT
BEGIN:VEVENT
DTSTART;TZID=Europe/Berlin:20241208T100000
DTEND;TZID=Europe/Berlin:20241208T110000
DTSTAMP:20260422T142340
CREATED:20240515T072443Z
LAST-MODIFIED:20241207T123921Z
UID:9913-1733652000-1733655600@friesenkapelle.de
SUMMARY:Gottesdienst am 2. Advent mit Pastor Jochim Hartung und dem Norddörfer Musikverein
DESCRIPTION:Gottesdienst\n2. Advent\nWir freuen uns\, Sie zum Gottesdienst in der Friesenkapelle zu begrüßen. \nLeitung: Pastor Jochim Hartung\nMusik: Norddörfer Musikverein und Oliver Strempler \nUnsere Online-Gottesdienste finden Sie weiterhin auf unser homepage oder auf YouTube/Friesenkapelle.
URL:https://friesenkapelle.de/event/gottesdienst-mit-pastor-hartung-dem-team-der-kirchengemeinde-norddoerfer-und-dem-norddoerfer-musikverein-08-12-2024/
LOCATION:Friesenkapelle am Dorfteich\, Bi Kiar 9\, Wenningstedt-Braderup\, 25996\, Deutschland
CATEGORIES:Gottesdienst
ATTACH;FMTTYPE=image/jpeg:https://friesenkapelle.de/wp-content/uploads/2017/09/friesenkapelle_winter-1.jpg
ORGANIZER;CN="Kirchengemeinde Nordd%C3%B6rfer":MAILTO:norddoerfer-kirchenbuero@t-online.de
END:VEVENT
BEGIN:VEVENT
DTSTART;TZID=Europe/Berlin:20241215T100000
DTEND;TZID=Europe/Berlin:20241215T111500
DTSTAMP:20260422T142340
CREATED:20241025T085340Z
LAST-MODIFIED:20241211T065841Z
UID:10479-1734256800-1734261300@friesenkapelle.de
SUMMARY:Gottesdienst mit Abendmahl am 3. Advent mit Diakonin Emily Walter & Pastor Rainer Chinnow
DESCRIPTION:Gottesdienst mit Abendmahl\n3. Advent\nWir freuen uns\, Sie zum Gottesdienst in der Friesenkapelle zu begrüßen. \nLeitung: Diakonin Emily Walter & Pastor Rainer Chinnow\nMusik: Oliver Strempler \nUnsere Online-Gottesdienste finden Sie weiterhin auf unser homepage oder auf YouTube/Friesenkapelle.
URL:https://friesenkapelle.de/event/gottesdienst-mit-abendmahl-am-3-advent-mit-pastor-rainer-chinnow-15-12-2024/
LOCATION:Friesenkapelle am Dorfteich\, Bi Kiar 9\, Wenningstedt-Braderup\, 25996\, Deutschland
CATEGORIES:Gottesdienst
ATTACH;FMTTYPE=image/jpeg:https://friesenkapelle.de/wp-content/uploads/2017/09/friesenkapelle_winter-1.jpg
ORGANIZER;CN="Kirchengemeinde Nordd%C3%B6rfer":MAILTO:norddoerfer-kirchenbuero@t-online.de
END:VEVENT
BEGIN:VEVENT
DTSTART;TZID=Europe/Berlin:20241224T120000
DTEND;TZID=Europe/Berlin:20241224T124500
DTSTAMP:20260422T142340
CREATED:20241025T090527Z
LAST-MODIFIED:20241025T090549Z
UID:10491-1735041600-1735044300@friesenkapelle.de
SUMMARY:Familiengottesdienst mit Krippenspiel am Heiligabend mit Pastor Rainer Chinnow
DESCRIPTION:Gottesdienst mit Krippenspiel für die ganze Familie\nHeiligabend \nWir freuen uns\, Sie zum Gottesdienst in der feierlich geschmückten Friesenkapelle zu begrüßen.\nLeitung: Pastor Rainer Chinnow\nMusik: Oliver Strempler \nUnsere Online-Gottesdienste finden Sie weiterhin auf unser homepage oder auf YouTube/Friesenkapelle.
URL:https://friesenkapelle.de/event/familiengottesdienst-mit-krippenspiel-am-heiligabend-mit-pastor-rainer-chinnow-24-12-2024-13-copy/
LOCATION:Friesenkapelle am Dorfteich\, Bi Kiar 9\, Wenningstedt-Braderup\, 25996\, Deutschland
CATEGORIES:Gottesdienst
ATTACH;FMTTYPE=image/jpeg:https://friesenkapelle.de/wp-content/uploads/2017/09/friesenkapelle_winter-1.jpg
ORGANIZER;CN="Kirchengemeinde Nordd%C3%B6rfer":MAILTO:norddoerfer-kirchenbuero@t-online.de
END:VEVENT
BEGIN:VEVENT
DTSTART;TZID=Europe/Berlin:20241224T130000
DTEND;TZID=Europe/Berlin:20241224T134500
DTSTAMP:20260422T142340
CREATED:20241025T090333Z
LAST-MODIFIED:20241025T090504Z
UID:10488-1735045200-1735047900@friesenkapelle.de
SUMMARY:Familiengottesdienst mit Krippenspiel am Heiligabend mit Pastor Rainer Chinnow
DESCRIPTION:Gottesdienst mit Krippenspiel für die ganze Familie\nHeiligabend \nWir freuen uns\, Sie zum Gottesdienst in der feierlich geschmückten Friesenkapelle zu begrüßen.\nLeitung: Pastor Rainer Chinnow\nMusik: Oliver Strempler \nUnsere Online-Gottesdienste finden Sie weiterhin auf unser homepage oder auf YouTube/Friesenkapelle.
URL:https://friesenkapelle.de/event/familiengottesdienst-mit-krippenspiel-am-heiligabend-mit-pastor-rainer-chinnow-24-12-2024-13/
LOCATION:Friesenkapelle am Dorfteich\, Bi Kiar 9\, Wenningstedt-Braderup\, 25996\, Deutschland
CATEGORIES:Gottesdienst
ATTACH;FMTTYPE=image/jpeg:https://friesenkapelle.de/wp-content/uploads/2017/09/friesenkapelle_winter-1.jpg
ORGANIZER;CN="Kirchengemeinde Nordd%C3%B6rfer":MAILTO:norddoerfer-kirchenbuero@t-online.de
END:VEVENT
BEGIN:VEVENT
DTSTART;TZID=Europe/Berlin:20241224T150000
DTEND;TZID=Europe/Berlin:20241224T160000
DTSTAMP:20260422T142340
CREATED:20241025T090710Z
LAST-MODIFIED:20241025T091046Z
UID:10495-1735052400-1735056000@friesenkapelle.de
SUMMARY:Christvesper mit Pastor Rainer Chinnow
DESCRIPTION:Besinnliche Christvesper\nHeiligabend \nWir freuen uns\, Sie zur Christvesper in der feierlich geschmückten Friesenkapelle begrüßen zu dürfen.\nLeitung: Pastor Rainer Chinnow\nMusik: Martin Stein\, Orgel \nUnsere Online-Gottesdienste finden Sie weiterhin auf unser homepage oder auf YouTube/Friesenkapelle.
URL:https://friesenkapelle.de/event/christvesper-mit-pastor-rainer-chinnow-24-12-2024-15/
LOCATION:Friesenkapelle am Dorfteich\, Bi Kiar 9\, Wenningstedt-Braderup\, 25996\, Deutschland
CATEGORIES:Gottesdienst
ATTACH;FMTTYPE=image/jpeg:https://friesenkapelle.de/wp-content/uploads/2017/09/friesenkapelle_winter-1.jpg
ORGANIZER;CN="Kirchengemeinde Nordd%C3%B6rfer":MAILTO:norddoerfer-kirchenbuero@t-online.de
END:VEVENT
BEGIN:VEVENT
DTSTART;TZID=Europe/Berlin:20241224T163000
DTEND;TZID=Europe/Berlin:20241224T173000
DTSTAMP:20260422T142340
CREATED:20241025T091058Z
LAST-MODIFIED:20241025T091130Z
UID:10499-1735057800-1735061400@friesenkapelle.de
SUMMARY:Christvesper mit Pastor Rainer Chinnow
DESCRIPTION:Besinnliche Christvesper\nHeiligabend \nWir freuen uns\, Sie zur Christvesper in der feierlich geschmückten Friesenkapelle begrüßen zu dürfen.\nLeitung: Pastor Rainer Chinnow\nMusik: Martin Stein\, Orgel \nUnsere Online-Gottesdienste finden Sie weiterhin auf unser homepage oder auf YouTube/Friesenkapelle.
URL:https://friesenkapelle.de/event/christvesper-mit-pastor-rainer-chinnow-24-12-2024-16-30/
LOCATION:Friesenkapelle am Dorfteich\, Bi Kiar 9\, Wenningstedt-Braderup\, 25996\, Deutschland
CATEGORIES:Gottesdienst
ATTACH;FMTTYPE=image/jpeg:https://friesenkapelle.de/wp-content/uploads/2017/09/friesenkapelle_winter-1.jpg
ORGANIZER;CN="Kirchengemeinde Nordd%C3%B6rfer":MAILTO:norddoerfer-kirchenbuero@t-online.de
END:VEVENT
BEGIN:VEVENT
DTSTART;TZID=Europe/Berlin:20241224T180000
DTEND;TZID=Europe/Berlin:20241224T190000
DTSTAMP:20260422T142340
CREATED:20241025T091145Z
LAST-MODIFIED:20241025T091213Z
UID:10501-1735063200-1735066800@friesenkapelle.de
SUMMARY:Christvesper mit Pastor Rainer Chinnow
DESCRIPTION:Besinnliche Christvesper\nHeiligabend \nWir freuen uns\, Sie zur Christvesper in der feierlich geschmückten Friesenkapelle begrüßen zu dürfen.\nLeitung: Pastor Rainer Chinnow\nMusik: Martin Stein\, Orgel \nUnsere Online-Gottesdienste finden Sie weiterhin auf unser homepage oder auf YouTube/Friesenkapelle.
URL:https://friesenkapelle.de/event/christvesper-mit-pastor-rainer-chinnow-24-12-2024-18/
LOCATION:Friesenkapelle am Dorfteich\, Bi Kiar 9\, Wenningstedt-Braderup\, 25996\, Deutschland
CATEGORIES:Gottesdienst
ATTACH;FMTTYPE=image/jpeg:https://friesenkapelle.de/wp-content/uploads/2017/09/friesenkapelle_winter-1.jpg
ORGANIZER;CN="Kirchengemeinde Nordd%C3%B6rfer":MAILTO:norddoerfer-kirchenbuero@t-online.de
END:VEVENT
BEGIN:VEVENT
DTSTART;TZID=Europe/Berlin:20241225T170000
DTEND;TZID=Europe/Berlin:20241225T180000
DTSTAMP:20260422T142340
CREATED:20241025T091955Z
LAST-MODIFIED:20241120T115032Z
UID:10506-1735146000-1735149600@friesenkapelle.de
SUMMARY:Christfest-Gottesdienst am ersten Weihnachtstag mit Pastor Chinnow und Oliver Strempler
DESCRIPTION:Christfest-Gottesdienst am ersten Weihnachtstag\nWir freuen uns\, Sie zum Gottesdienst in der Friesenkapelle zu begrüßen\nmit fröhlicher Gospel- und Weihnachtsmusik. \nLeitung: Pastor Rainer Chinnow\nMusik: Oliver Strempler \nUnsere Online-Gottesdienste finden Sie weiterhin auf unser homepage oder auf YouTube/Friesenkapelle.
URL:https://friesenkapelle.de/event/christfest-gottesdienst-am-ersten-weihnachtstag-mit-pastor-chinnow-und-oliver-strempler-25-12-2024/
LOCATION:Friesenkapelle am Dorfteich\, Bi Kiar 9\, Wenningstedt-Braderup\, 25996\, Deutschland
CATEGORIES:Gottesdienst
ATTACH;FMTTYPE=image/jpeg:https://friesenkapelle.de/wp-content/uploads/2017/09/friesenkapelle_winter-1.jpg
ORGANIZER;CN="Kirchengemeinde Nordd%C3%B6rfer":MAILTO:norddoerfer-kirchenbuero@t-online.de
END:VEVENT
BEGIN:VEVENT
DTSTART;TZID=Europe/Berlin:20241229T100000
DTEND;TZID=Europe/Berlin:20241229T110000
DTSTAMP:20260422T142340
CREATED:20241120T115514Z
LAST-MODIFIED:20241120T120023Z
UID:10569-1735466400-1735470000@friesenkapelle.de
SUMMARY:Gottesdienst am 1. Sonntag nach Weihnachten mit Pastor Rainer Chinnow
DESCRIPTION:Gottesdienst\n1. Sonntag nach Weihnachten \nDie Friesenkapelle ist ein ganz besonderer Ort\, um Gott und das Leben zu feiern. Seien Sie nicht nur Gast\, seien sie willkommen als unser Gemeindeglied.\nWir freuen uns\, Sie zum Gottesdienst in der Friesenkapelle zu begrüßen. \nLeitung: Pastor Rainer Chinnow\nMusik: Oliver Strempler \nUnsere Online-Gottesdienste finden Sie weiterhin auf unser homepage oder auf YouTube/Friesenkapelle.
URL:https://friesenkapelle.de/event/gottesdienst-am-1-sonntag-nach-weihnachten-mit-pastor-rainer-chinnow-29-12-2024/
CATEGORIES:Gottesdienst
ATTACH;FMTTYPE=image/jpeg:https://friesenkapelle.de/wp-content/uploads/2017/09/friesenkapelle_winter-1.jpg
END:VEVENT
BEGIN:VEVENT
DTSTART;TZID=Europe/Berlin:20241231T153000
DTEND;TZID=Europe/Berlin:20241231T163000
DTSTAMP:20260422T142340
CREATED:20241025T094127Z
LAST-MODIFIED:20241120T120527Z
UID:10518-1735659000-1735662600@friesenkapelle.de
SUMMARY:Jahresschlussgottesdienst am Altjahrsabend mit Pastor Rainer Chinnow
DESCRIPTION:Jahresschlussgottesdienst am Altjahrsabend\nWir freuen uns\, Sie wieder zum Gottesdienst in der Friesenkapelle zu begrüßen. \nLeitung: Pastor Rainer Chinnow\nMusik: Oliver Strempler \nUnsere Online-Gottesdienste finden Sie weiterhin auf unser homepage oder auf YouTube/Friesenkapelle.
URL:https://friesenkapelle.de/event/jahresschlussgottesdienst-am-altjahrsabend-mit-pastor-rainer-chinnow-31-12-2024-1530/
LOCATION:Friesenkapelle am Dorfteich\, Bi Kiar 9\, Wenningstedt-Braderup\, 25996\, Deutschland
CATEGORIES:Gottesdienst
ATTACH;FMTTYPE=image/jpeg:https://friesenkapelle.de/wp-content/uploads/2017/09/friesenkapelle_winter-1.jpg
END:VEVENT
BEGIN:VEVENT
DTSTART;TZID=Europe/Berlin:20241231T170000
DTEND;TZID=Europe/Berlin:20241231T180000
DTSTAMP:20260422T142340
CREATED:20241025T094254Z
LAST-MODIFIED:20241120T120716Z
UID:10520-1735664400-1735668000@friesenkapelle.de
SUMMARY:Jahresschlussgottesdienst am Altjahrsabend mit Pastor Rainer Chinnow
DESCRIPTION:Jahresschlussgottesdienst am Altjahrsabend\nWir freuen uns\, Sie wieder zum Gottesdienst in der Friesenkapelle zu begrüßen. \nLeitung: Pastor Rainer Chinnow\nMusik: Oliver Strempler \nUnsere Online-Gottesdienste finden Sie weiterhin auf unser homepage oder auf YouTube/Friesenkapelle.
URL:https://friesenkapelle.de/event/jahresschlussgottesdienst-am-altjahrsabend-mit-pastor-rainer-chinnow-31-12-2024-17/
LOCATION:Friesenkapelle am Dorfteich\, Bi Kiar 9\, Wenningstedt-Braderup\, 25996\, Deutschland
CATEGORIES:Gottesdienst
ATTACH;FMTTYPE=image/jpeg:https://friesenkapelle.de/wp-content/uploads/2017/09/friesenkapelle_winter-1.jpg
END:VEVENT
END:VCALENDAR