BEGIN:VCALENDAR
VERSION:2.0
PRODID:-//Friesenkapelle.de - ECPv6.15.20//NONSGML v1.0//EN
CALSCALE:GREGORIAN
METHOD:PUBLISH
X-ORIGINAL-URL:https://friesenkapelle.de
X-WR-CALDESC:Veranstaltungen für Friesenkapelle.de
REFRESH-INTERVAL;VALUE=DURATION:PT1H
X-Robots-Tag:noindex
X-PUBLISHED-TTL:PT1H
BEGIN:VTIMEZONE
TZID:Europe/Berlin
BEGIN:DAYLIGHT
TZOFFSETFROM:+0100
TZOFFSETTO:+0200
TZNAME:CEST
DTSTART:20230326T010000
END:DAYLIGHT
BEGIN:STANDARD
TZOFFSETFROM:+0200
TZOFFSETTO:+0100
TZNAME:CET
DTSTART:20231029T010000
END:STANDARD
BEGIN:DAYLIGHT
TZOFFSETFROM:+0100
TZOFFSETTO:+0200
TZNAME:CEST
DTSTART:20240331T010000
END:DAYLIGHT
BEGIN:STANDARD
TZOFFSETFROM:+0200
TZOFFSETTO:+0100
TZNAME:CET
DTSTART:20241027T010000
END:STANDARD
BEGIN:DAYLIGHT
TZOFFSETFROM:+0100
TZOFFSETTO:+0200
TZNAME:CEST
DTSTART:20250330T010000
END:DAYLIGHT
BEGIN:STANDARD
TZOFFSETFROM:+0200
TZOFFSETTO:+0100
TZNAME:CET
DTSTART:20251026T010000
END:STANDARD
END:VTIMEZONE
BEGIN:VEVENT
DTSTART;TZID=Europe/Berlin:20240302T100000
DTEND;TZID=Europe/Berlin:20240302T170000
DTSTAMP:20260424T140052
CREATED:20240220T083315Z
LAST-MODIFIED:20240220T095240Z
UID:9395-1709373600-1709398800@friesenkapelle.de
SUMMARY:Flohmarkt für die Jugend im Pastorat am Dorfteich
DESCRIPTION:Jugendflohmarkt der Norddörfer Kirchengemeinde!\nAuch in diesem Jahr veranstaltet die Kirchengemeinde Norddörfer den Flohmarkt für die Jugend und läd alle Interessierten am ersten März-Wochenende ins Pastorat am Dorfteich in Wenningstedt ein.\nZu einer lebendigen Kirche gehören alle Generationen\, besonders die jungen Menschen\, die nicht erst die Kirche von morgen sondern auch schon von heute gestalten.\nZugunsten der Jugendarbeit werden Kleidung\, Bücher\, Trödel u.v.m. verkauft.\nIn der Cafeteria gibt es Möglichkeit bei Kaffee\, Tee und selbstgebackenem Kuchen in Ruhe zu klönen. \nFlohmarkt im Pastorat am Dorfteich in Wenningstedt\nSamstag\, 2. März von 10.00 – 17.00 Uhr\nSonntag\, 3. März von 11.00 – 16.00 Uhr
URL:https://friesenkapelle.de/event/flohmarkt-fuer-die-jugend-im-pastorat-am-dorfteich-02-03-2024/
LOCATION:Pastorat\, Bi Kiar 3\, Wenningstedt\, 25996\, Deutschland
CATEGORIES:Veranstaltungen
ATTACH;FMTTYPE=image/jpeg:https://friesenkapelle.de/wp-content/uploads/2024/02/Flohmarkt-2024.jpg
ORGANIZER;CN="Kirchengemeinde Nordd%C3%B6rfer":MAILTO:norddoerfer-kirchenbuero@t-online.de
END:VEVENT
BEGIN:VEVENT
DTSTART;TZID=Europe/Berlin:20240303T110000
DTEND;TZID=Europe/Berlin:20240303T160000
DTSTAMP:20260424T140052
CREATED:20240220T083807Z
LAST-MODIFIED:20240220T095150Z
UID:9398-1709463600-1709481600@friesenkapelle.de
SUMMARY:Flohmarkt für die Jugend im Pastorat am Dorfteich
DESCRIPTION:Jugendflohmarkt der Norddörfer Kirchengemeinde!\nAuch in diesem Jahr veranstaltet die Kirchengemeinde Norddörfer den Flohmarkt für die Jugend und läd alle Interessierten am ersten März-Wochenende ins Pastorat am Dorfteich in Wenningstedt ein.\nZu einer lebendigen Kirche gehören alle Generationen\, besonders die jungen Menschen\, die nicht erst die Kirche von morgen sondern auch schon von heute gestalten.\nZugunsten der Jugendarbeit werden Kleidung\, Bücher\, Trödel u.v.m. verkauft.\nIn der Cafeteria gibt es Möglichkeit bei Kaffee\, Tee und selbstgebackenem Kuchen in Ruhe zu klönen. \nFlohmarkt im Pastorat am Dorfteich in Wenningstedt\nSamstag\, 2. März von 10.00 – 17.00 Uhr\nSonntag\, 3. März von 11.00 – 16.00 Uhr
URL:https://friesenkapelle.de/event/flohmarkt-fuer-die-jugend-im-pastorat-am-dorfteich-03-03-2024/
LOCATION:Pastorat\, Bi Kiar 3\, Wenningstedt\, 25996\, Deutschland
CATEGORIES:Veranstaltungen
ATTACH;FMTTYPE=image/jpeg:https://friesenkapelle.de/wp-content/uploads/2024/02/Flohmarkt-2024.jpg
ORGANIZER;CN="Kirchengemeinde Nordd%C3%B6rfer":MAILTO:norddoerfer-kirchenbuero@t-online.de
END:VEVENT
END:VCALENDAR