BEGIN:VCALENDAR
VERSION:2.0
PRODID:-//Friesenkapelle.de - ECPv6.15.20//NONSGML v1.0//EN
CALSCALE:GREGORIAN
METHOD:PUBLISH
X-WR-CALNAME:Friesenkapelle.de
X-ORIGINAL-URL:https://friesenkapelle.de
X-WR-CALDESC:Veranstaltungen für Friesenkapelle.de
REFRESH-INTERVAL;VALUE=DURATION:PT1H
X-Robots-Tag:noindex
X-PUBLISHED-TTL:PT1H
BEGIN:VTIMEZONE
TZID:Europe/Berlin
BEGIN:DAYLIGHT
TZOFFSETFROM:+0100
TZOFFSETTO:+0200
TZNAME:CEST
DTSTART:20240331T010000
END:DAYLIGHT
BEGIN:STANDARD
TZOFFSETFROM:+0200
TZOFFSETTO:+0100
TZNAME:CET
DTSTART:20241027T010000
END:STANDARD
BEGIN:DAYLIGHT
TZOFFSETFROM:+0100
TZOFFSETTO:+0200
TZNAME:CEST
DTSTART:20250330T010000
END:DAYLIGHT
BEGIN:STANDARD
TZOFFSETFROM:+0200
TZOFFSETTO:+0100
TZNAME:CET
DTSTART:20251026T010000
END:STANDARD
BEGIN:DAYLIGHT
TZOFFSETFROM:+0100
TZOFFSETTO:+0200
TZNAME:CEST
DTSTART:20260329T010000
END:DAYLIGHT
BEGIN:STANDARD
TZOFFSETFROM:+0200
TZOFFSETTO:+0100
TZNAME:CET
DTSTART:20261025T010000
END:STANDARD
END:VTIMEZONE
BEGIN:VEVENT
DTSTART;TZID=Europe/Berlin:20251201T190000
DTEND;TZID=Europe/Berlin:20251201T203000
DTSTAMP:20260425T122949
CREATED:20251106T054619Z
LAST-MODIFIED:20251106T054619Z
UID:12072-1764615600-1764621000@friesenkapelle.de
SUMMARY:Oliver Strempler singt UDO vs. UDO
DESCRIPTION:Foto: Roman Matejov \nOliver Strempler interpretiert Lieder von Udo Jürgens & Udo Lindenberg\nAm 1. Dezember widmet unser Kirchenmusiker seinen Konzertabend den beiden bekanntesten Udos der deutschen Popkultur. Passt nicht? Und ob! \nAuf die Frage\, was denn den Liedermacher und den Rocker verbindet\, wo also der Rote Faden seines Konzertabends liege\, bleibt Connaisseur Strempler die Antwort nicht lange schuldig. „Obwohl sie charakterlich gänzlich verschieden sind\, haben sie musikalisch unglaublich viel gemeinsam“\, sagt Strempler\, dessen Wunsch es schon seit langer Zeit ist ein Konzert dieser Art zu spielen. „Sie beide lieb(t)en den Rock\, den Jazz aber auch den Pop. Beide entschieden sich ganz bewusst auf Deutsch zu singen und beide befassten sich in ihren Texten auch immer wieder mit kritischen Themen der Zeitgeschichte auseinander“.  \n„Und als Randnotiz: Jeder der beiden hat auch schonmal einen Song des anderen interpretiert. Ich würde ansonsten empfehlen\, den Konzertabend einfach zu besuchen\, dann weiß man mehr – viel mehr“\, sagt der Musikentertainer augenzwinkernd. Auf gewohnt gesellige Art bekommen seine Konzertbesucher nicht nur eine allerbeste Auswahl der jeweiligen Udo-Songs\, sondern auch reichlich spannende Infos\, die den Horizont mal eben um ein ganzes Stück erweitern.\n„Beide Udos werden gebührend gefeiert“\, freut sich Strempler.  \nÜbrigens: Mitsingen ist unbedingt erwünscht! \nFriesenkapelle am Dorfteich\nMontag\, 1. Dezember 2025\nBeginn 19.00 Uhr\nEinlaß 18.30 Uhr\nEintritt 22 €\nTicketverkauf in den Tourismus-Services der Insel\, an der Abendkasse oder online.
URL:https://friesenkapelle.de/event/konzert-oliver-strempler-singt-udo-vs-udo-1-12-2025/
LOCATION:Friesenkapelle am Dorfteich\, Bi Kiar 9\, Wenningstedt-Braderup\, 25996\, Deutschland
CATEGORIES:Veranstaltungen
ATTACH;FMTTYPE=image/jpeg:https://friesenkapelle.de/wp-content/uploads/2019/11/UDO-vs.-UDO-final-NETZ.jpg
END:VEVENT
BEGIN:VEVENT
DTSTART;TZID=Europe/Berlin:20251221T113000
DTEND;TZID=Europe/Berlin:20251221T120000
DTSTAMP:20260425T122949
CREATED:20251201T134648Z
LAST-MODIFIED:20251201T134648Z
UID:12181-1766316600-1766318400@friesenkapelle.de
SUMMARY:Kinderkirche am 4. Advent mit Emily & Oliver
DESCRIPTION:Kinderkirche in der Friesenkapelle\n4. Advent\nWir freuen uns\, Euch zum Kindergottesdienst in der Friesenkapelle begrüßen zu dürfen.\nGemeinsam singen\, gemeinsam tanzen\, gemeinsam beten und dazu eine spannende Geschichte – das ist die Kinderkirche der Kirchengemeinde Norddörfer. \nMit Emily & Oliver \nUnsere Online-Kinderkirchen findet Ihr weiterhin auf unser homepage oder auf YouTube/Friesenkapelle.
URL:https://friesenkapelle.de/event/kinderkirche-am-4-advent-mit-emily-oliver-21-12-2025/
LOCATION:Friesenkapelle am Dorfteich\, Bi Kiar 9\, Wenningstedt-Braderup\, 25996\, Deutschland
CATEGORIES:Gottesdienst
ATTACH;FMTTYPE=image/jpeg:https://friesenkapelle.de/wp-content/uploads/2025/05/Emily-1.jpg
ORGANIZER;CN="Kirchengemeinde Nordd%C3%B6rfer":MAILTO:norddoerfer-kirchenbuero@t-online.de
END:VEVENT
BEGIN:VEVENT
DTSTART;TZID=Europe/Berlin:20251224T120000
DTEND;TZID=Europe/Berlin:20251224T124500
DTSTAMP:20260425T122949
CREATED:20251201T130117Z
LAST-MODIFIED:20251201T130117Z
UID:12167-1766577600-1766580300@friesenkapelle.de
SUMMARY:Familiengottesdienst mit Krippenspiel am Heiligabend mit Diakonin Emily Walter
DESCRIPTION:Gottesdienst mit Krippenspiel für die ganze Familie\nHeiligabend \nWir freuen uns\, Sie zum Gottesdienst in der feierlich geschmückten Friesenkapelle zu begrüßen.\nLeitung: Diakonin Emily Walter\nMusik: Oliver Strempler \nUnsere Online-Gottesdienste finden Sie weiterhin auf unser homepage oder auf YouTube/Friesenkapelle.
URL:https://friesenkapelle.de/event/familiengottesdienst-mit-krippenspiel-am-heiligabend-mit-diakonin-emily-walter-24-12-2025-1200/
LOCATION:Friesenkapelle am Dorfteich\, Bi Kiar 9\, Wenningstedt-Braderup\, 25996\, Deutschland
CATEGORIES:Gottesdienst
ATTACH;FMTTYPE=image/jpeg:https://friesenkapelle.de/wp-content/uploads/2017/09/friesenkapelle_winter-1.jpg
ORGANIZER;CN="Kirchengemeinde Nordd%C3%B6rfer":MAILTO:norddoerfer-kirchenbuero@t-online.de
END:VEVENT
BEGIN:VEVENT
DTSTART;TZID=Europe/Berlin:20251224T130000
DTEND;TZID=Europe/Berlin:20251224T134500
DTSTAMP:20260425T122949
CREATED:20251201T130238Z
LAST-MODIFIED:20251201T132624Z
UID:12169-1766581200-1766583900@friesenkapelle.de
SUMMARY:Familiengottesdienst mit Krippenspiel am Heiligabend mit Diakonin Emily Walter
DESCRIPTION:Gottesdienst mit Krippenspiel für die ganze Familie\nHeiligabend \nWir freuen uns\, Sie zum Gottesdienst in der feierlich geschmückten Friesenkapelle zu begrüßen.\nLeitung: Diakonin Emily Walter\nMusik: Oliver Strempler \nUnsere Online-Gottesdienste finden Sie weiterhin auf unser homepage oder auf YouTube/Friesenkapelle.
URL:https://friesenkapelle.de/event/familiengottesdienst-mit-krippenspiel-am-heiligabend-mit-diakonin-emily-walter-24-12-2025-1300/
LOCATION:Friesenkapelle am Dorfteich\, Bi Kiar 9\, Wenningstedt-Braderup\, 25996\, Deutschland
CATEGORIES:Gottesdienst
ATTACH;FMTTYPE=image/jpeg:https://friesenkapelle.de/wp-content/uploads/2017/09/friesenkapelle_winter-1.jpg
ORGANIZER;CN="Kirchengemeinde Nordd%C3%B6rfer":MAILTO:norddoerfer-kirchenbuero@t-online.de
END:VEVENT
BEGIN:VEVENT
DTSTART;TZID=Europe/Berlin:20251224T150000
DTEND;TZID=Europe/Berlin:20251224T160000
DTSTAMP:20260425T122949
CREATED:20251201T132321Z
LAST-MODIFIED:20251201T132321Z
UID:12171-1766588400-1766592000@friesenkapelle.de
SUMMARY:Christvesper mit Pastor Rainer Chinnow
DESCRIPTION:Besinnliche Christvesper\nHeiligabend \nWir freuen uns\, Sie zur Christvesper in der feierlich geschmückten Friesenkapelle begrüßen zu dürfen.\nLeitung: Pastor Rainer Chinnow\nMusik: Oliver Strempler \nUnsere Online-Gottesdienste finden Sie weiterhin auf unser homepage oder auf YouTube/Friesenkapelle.
URL:https://friesenkapelle.de/event/christvesper-mit-pastor-rainer-chinnow-24-12-2025-1500/
LOCATION:Friesenkapelle am Dorfteich\, Bi Kiar 9\, Wenningstedt-Braderup\, 25996\, Deutschland
CATEGORIES:Gottesdienst
ATTACH;FMTTYPE=image/jpeg:https://friesenkapelle.de/wp-content/uploads/2017/09/friesenkapelle_winter-1.jpg
ORGANIZER;CN="Kirchengemeinde Nordd%C3%B6rfer":MAILTO:norddoerfer-kirchenbuero@t-online.de
END:VEVENT
BEGIN:VEVENT
DTSTART;TZID=Europe/Berlin:20251224T163000
DTEND;TZID=Europe/Berlin:20251224T173000
DTSTAMP:20260425T122949
CREATED:20251201T132521Z
LAST-MODIFIED:20251201T132521Z
UID:12173-1766593800-1766597400@friesenkapelle.de
SUMMARY:Christvesper mit Pastor Rainer Chinnow
DESCRIPTION:Besinnliche Christvesper\nHeiligabend \nWir freuen uns\, Sie zur Christvesper in der feierlich geschmückten Friesenkapelle begrüßen zu dürfen.\nLeitung: Pastor Rainer Chinnow\nMusik: Oliver Strempler \nUnsere Online-Gottesdienste finden Sie weiterhin auf unser homepage oder auf YouTube/Friesenkapelle.
URL:https://friesenkapelle.de/event/christvesper-mit-pastor-rainer-chinnow-24-12-2025-1630/
LOCATION:Friesenkapelle am Dorfteich\, Bi Kiar 9\, Wenningstedt-Braderup\, 25996\, Deutschland
CATEGORIES:Gottesdienst
ATTACH;FMTTYPE=image/jpeg:https://friesenkapelle.de/wp-content/uploads/2017/09/friesenkapelle_winter-1.jpg
ORGANIZER;CN="Kirchengemeinde Nordd%C3%B6rfer":MAILTO:norddoerfer-kirchenbuero@t-online.de
END:VEVENT
BEGIN:VEVENT
DTSTART;TZID=Europe/Berlin:20251224T180000
DTEND;TZID=Europe/Berlin:20251224T190000
DTSTAMP:20260425T122949
CREATED:20251201T133324Z
LAST-MODIFIED:20251201T133324Z
UID:12175-1766599200-1766602800@friesenkapelle.de
SUMMARY:Christvesper mit Pastor Rainer Chinnow
DESCRIPTION:Besinnliche Christvesper\nHeiligabend \nWir freuen uns\, Sie zur Christvesper in der feierlich geschmückten Friesenkapelle begrüßen zu dürfen.\nLeitung: Pastor Rainer Chinnow\nMusik: Oliver Strempler \nUnsere Online-Gottesdienste finden Sie weiterhin auf unser homepage oder auf YouTube/Friesenkapelle.
URL:https://friesenkapelle.de/event/christvesper-mit-pastor-rainer-chinnow-24-12-2025-1800/
LOCATION:Friesenkapelle am Dorfteich\, Bi Kiar 9\, Wenningstedt-Braderup\, 25996\, Deutschland
CATEGORIES:Gottesdienst
ATTACH;FMTTYPE=image/jpeg:https://friesenkapelle.de/wp-content/uploads/2017/09/friesenkapelle_winter-1.jpg
ORGANIZER;CN="Kirchengemeinde Nordd%C3%B6rfer":MAILTO:norddoerfer-kirchenbuero@t-online.de
END:VEVENT
END:VCALENDAR